BEGIN:VCALENDAR
VERSION:2.0
PRODID:-//Yvelines Infos - ECPv6.0.2//NONSGML v1.0//EN
CALSCALE:GREGORIAN
METHOD:PUBLISH
X-ORIGINAL-URL:https://www.yvelines-infos.fr
X-WR-CALDESC:Évènements pour Yvelines Infos
REFRESH-INTERVAL;VALUE=DURATION:PT1H
X-Robots-Tag:noindex
X-PUBLISHED-TTL:PT1H
BEGIN:VTIMEZONE
TZID:Europe/Paris
BEGIN:DAYLIGHT
TZOFFSETFROM:+0100
TZOFFSETTO:+0200
TZNAME:CEST
DTSTART:20170326T010000
END:DAYLIGHT
BEGIN:STANDARD
TZOFFSETFROM:+0200
TZOFFSETTO:+0100
TZNAME:CET
DTSTART:20171029T010000
END:STANDARD
END:VTIMEZONE
BEGIN:VEVENT
DTSTART;TZID=Europe/Paris:20171007T133000
DTEND;TZID=Europe/Paris:20171007T230000
DTSTAMP:20260423T111142
CREATED:20170718T125348Z
LAST-MODIFIED:20170718T125348Z
UID:341295-1507383000-1507417200@www.yvelines-infos.fr
SUMMARY:TVTC
DESCRIPTION:TVTC \, manifestation sportive comprenat dans l’après midi des courses pour enfants et marche nordique et en soirée  2 courses dev trail semi-nocturnes de 12 et 24 km\, comptant pour le Challenge trail Yvelines. \nEn option paella géante en musique d’après course \n 
URL:https://www.yvelines-infos.fr/agenda/tvtc/
LOCATION:rue de la Source Villiers St Frédéric\, MTL rue de la Source\, Villiers Saint Frederic\, 78640\, France
ATTACH;FMTTYPE=image/jpeg:https://www.yvelines-infos.fr/content/uploads/2017/affiche-en-jpeg.jpg
ORGANIZER;CN="VSC%20Villiers%20Sport%20%26amp%3B%20Culture":MAILTO:contact@tuvienstucours.fr
GEO:48.8230385;1.8887131
X-APPLE-STRUCTURED-LOCATION;VALUE=URI;X-ADDRESS=rue de la Source Villiers St Frédéric MTL rue de la Source Villiers Saint Frederic 78640 France;X-APPLE-RADIUS=500;X-TITLE=MTL rue de la Source:geo:1.8887131,48.8230385
END:VEVENT
END:VCALENDAR