BEGIN:VCALENDAR
VERSION:2.0
PRODID:-//Yvelines Infos - ECPv6.0.2//NONSGML v1.0//EN
CALSCALE:GREGORIAN
METHOD:PUBLISH
X-ORIGINAL-URL:https://www.yvelines-infos.fr
X-WR-CALDESC:Évènements pour Yvelines Infos
REFRESH-INTERVAL;VALUE=DURATION:PT1H
X-Robots-Tag:noindex
X-PUBLISHED-TTL:PT1H
BEGIN:VTIMEZONE
TZID:Europe/Paris
BEGIN:DAYLIGHT
TZOFFSETFROM:+0100
TZOFFSETTO:+0200
TZNAME:CEST
DTSTART:20180325T010000
END:DAYLIGHT
BEGIN:STANDARD
TZOFFSETFROM:+0200
TZOFFSETTO:+0100
TZNAME:CET
DTSTART:20181028T010000
END:STANDARD
END:VTIMEZONE
BEGIN:VEVENT
DTSTART;TZID=Europe/Paris:20181005T200000
DTEND;TZID=Europe/Paris:20181005T210000
DTSTAMP:20260423T081830
CREATED:20180917T095155Z
LAST-MODIFIED:20180917T095155Z
UID:352631-1538769600-1538773200@www.yvelines-infos.fr
SUMMARY:« Les secrets du Bassin de Latone »
DESCRIPTION:Conférence artistique : La légende en images et en musique !  \nPar Vincent Chové\, conférencier\, musicien\, photographe\, historien et poète. \nUne femme qui semble appeler au secours\, deux jeunes enfants\, un garçon et une fille à ses côtés. Mais aussi des créatures mi hommes ou femmes et mi animaux\, tout autour\, et des tortues\, en bas du Bassin. Pourquoi !? \nUne magnifique conférence avec le récit de l’histoire de cette femme\, Latone\, et de ses deux enfants\, Diane et Apollon\, avec projection de photographies du Bassin de Latone et de nombreux extraits de musique pour illustrer la dramaturgie de cette histoire\, l’espérance et les transformations qu’illustrent les sculptures de ce Bassin central au Château de Versailles.
URL:https://www.yvelines-infos.fr/agenda/secrets-bassin-de-latone/
LOCATION:Salle de la Rotonde à Versailles\, 5 rue Royale\, Versailles\, 78000
ATTACH;FMTTYPE=image/jpeg:https://www.yvelines-infos.fr/content/uploads/2018/affiche-conference-bassin-de-latone-fond-rouge-hq.jpg
ORGANIZER;CN="Vincent%20Chov%C3%A9%20et%20la%20Mairie%20de%20Versailles":MAILTO:contact@lartoche.com
END:VEVENT
END:VCALENDAR