BEGIN:VCALENDAR
VERSION:2.0
PRODID:-//Yvelines Infos - ECPv6.0.2//NONSGML v1.0//EN
CALSCALE:GREGORIAN
METHOD:PUBLISH
X-ORIGINAL-URL:https://www.yvelines-infos.fr
X-WR-CALDESC:Évènements pour Yvelines Infos
REFRESH-INTERVAL;VALUE=DURATION:PT1H
X-Robots-Tag:noindex
X-PUBLISHED-TTL:PT1H
BEGIN:VTIMEZONE
TZID:Europe/Paris
BEGIN:DAYLIGHT
TZOFFSETFROM:+0100
TZOFFSETTO:+0200
TZNAME:CEST
DTSTART:20180325T010000
END:DAYLIGHT
BEGIN:STANDARD
TZOFFSETFROM:+0200
TZOFFSETTO:+0100
TZNAME:CET
DTSTART:20181028T010000
END:STANDARD
END:VTIMEZONE
BEGIN:VEVENT
DTSTART;TZID=Europe/Paris:20181117T140000
DTEND;TZID=Europe/Paris:20181118T180000
DTSTAMP:20260423T021023
CREATED:20181031T144143Z
LAST-MODIFIED:20181031T144143Z
UID:353553-1542463200-1542564000@www.yvelines-infos.fr
SUMMARY:7e salon de la BD à Verneuil-sur-Seine
DESCRIPTION:Cette année\, le salon de la BD « s’en va en guerre »\, que vous soyez fan de BD ou simple curieux. La Ville de Verneuil et « La Neuvième BD » vous donnent rendez-vous au complexe François-Pons\, samedi 17 novembre de 14h à 18h et dimanche 18 novembre de 10h à 18h pour l’incontournable salon de la BD ! \nAprès le succès des 6 premières éditions\, le salon de la BD revient avec les 52 artistes présents pour cet évènement rayonnant. Cette nouvelle édition reprend ce qui a fait le succès des précédentes : des auteurs venus de France et d’Europe\, des séances de dédicaces\, de nombreux ateliers\, un prix des lecteurs\, des expositions\, sans oublier les animations qui ponctueront la manifestation. \n 
URL:https://www.yvelines-infos.fr/agenda/7e-salon-de-la-bd-a-verneuil-sur-seine/
LOCATION:complexe François-Pons\, Route de Chapet\, Verneuil-sur-Seine\, 78480\, France
ATTACH;FMTTYPE=image/jpeg:https://www.yvelines-infos.fr/content/uploads/2018/festivalbdverneuil.jpg
ORGANIZER;CN="Ville%20de%20Verneuil-sur-Seine":MAILTO:mediatheque@ville-verneuil-sur-seine.fr
END:VEVENT
END:VCALENDAR