BEGIN:VCALENDAR
VERSION:2.0
PRODID:-//Yvelines Infos - ECPv6.0.2//NONSGML v1.0//EN
CALSCALE:GREGORIAN
METHOD:PUBLISH
X-WR-CALNAME:Yvelines Infos
X-ORIGINAL-URL:https://www.yvelines-infos.fr
X-WR-CALDESC:Évènements pour Yvelines Infos
REFRESH-INTERVAL;VALUE=DURATION:PT1H
X-Robots-Tag:noindex
X-PUBLISHED-TTL:PT1H
BEGIN:VTIMEZONE
TZID:Europe/Paris
BEGIN:DAYLIGHT
TZOFFSETFROM:+0100
TZOFFSETTO:+0200
TZNAME:CEST
DTSTART:20170326T010000
END:DAYLIGHT
BEGIN:STANDARD
TZOFFSETFROM:+0200
TZOFFSETTO:+0100
TZNAME:CET
DTSTART:20171029T010000
END:STANDARD
BEGIN:DAYLIGHT
TZOFFSETFROM:+0100
TZOFFSETTO:+0200
TZNAME:CEST
DTSTART:20180325T010000
END:DAYLIGHT
BEGIN:STANDARD
TZOFFSETFROM:+0200
TZOFFSETTO:+0100
TZNAME:CET
DTSTART:20181028T010000
END:STANDARD
BEGIN:DAYLIGHT
TZOFFSETFROM:+0100
TZOFFSETTO:+0200
TZNAME:CEST
DTSTART:20190331T010000
END:DAYLIGHT
BEGIN:STANDARD
TZOFFSETFROM:+0200
TZOFFSETTO:+0100
TZNAME:CET
DTSTART:20191027T010000
END:STANDARD
BEGIN:DAYLIGHT
TZOFFSETFROM:+0100
TZOFFSETTO:+0200
TZNAME:CEST
DTSTART:20200329T010000
END:DAYLIGHT
BEGIN:STANDARD
TZOFFSETFROM:+0200
TZOFFSETTO:+0100
TZNAME:CET
DTSTART:20201025T010000
END:STANDARD
END:VTIMEZONE
BEGIN:VEVENT
DTSTART;TZID=Europe/Paris:20200305T090000
DTEND;TZID=Europe/Paris:20200405T180000
DTSTAMP:20260423T043917
CREATED:20200312T130150Z
LAST-MODIFIED:20200312T130150Z
UID:365804-1583398800-1586109600@www.yvelines-infos.fr
SUMMARY:C_git_
DESCRIPTION:Une exposition d’Arnaud Caquelard \nLe travail d’Arnaud Caquelard possède une certaine binarité avec laquelle il souhaite jouer aux Réservoirs. Il a pour projet d’exploiter le « potentiel symétrique » des deux espaces mitoyens des Réservoirs évoquant pour lui deux lobes d’un même cerveau avec leur fonction propre\, mais connectés. Sans opposer ses œuvres\, l’idée est de les faire se répondre d’un espace à l’autre\, mêlant ainsi différentes formes artistiques : installation\, performance\, dessin\, vidéo.
URL:https://www.yvelines-infos.fr/agenda/c_git_/
LOCATION:les Réservoirs\, 2 rue des réservoirs\, Limay\, 78520\, France
ATTACH;FMTTYPE=image/jpeg:https://www.yvelines-infos.fr/content/uploads/2020/clairobscur-w-1.jpg
ORGANIZER;CN="ville%20de%20Limay":MAILTO:lesreservoirs@ville-limay.fr
GEO:48.9964644;1.7335602
X-APPLE-STRUCTURED-LOCATION;VALUE=URI;X-ADDRESS=les Réservoirs 2 rue des réservoirs Limay 78520 France;X-APPLE-RADIUS=500;X-TITLE=2 rue des réservoirs:geo:1.7335602,48.9964644
END:VEVENT
BEGIN:VEVENT
DTSTART;TZID=Europe/Paris:20181115T090000
DTEND;TZID=Europe/Paris:20181216T180000
DTSTAMP:20260423T043917
CREATED:20181113T101901Z
LAST-MODIFIED:20181113T101901Z
UID:353837-1542272400-1544983200@www.yvelines-infos.fr
SUMMARY:L'ART DANS TOUS SES ÉTATS\, oeuvres de la collection du frac île-de-france\, chap. 9
DESCRIPTION:La fréquentation des œuvres d’art est enthousiasmante\, entre autres pour cette capacité à nous informer sur notre présence au monde. L’exposition trouve là un point de départ pour interroger\, sans pathos\, à partir d’un objet donné – la collection du frac île-de-france – la présence de la nature dans des œuvres contemporaines exclusivement liées à la pratique du film. Cette nature s’entend au sens commun\, c’est-à-dire l’environnement biophysique\, l’habitat\, les milieux naturels\, préservés et dégradés\, mais chaque œuvre reste dans sa propre autonomie. L’inventaire ainsi constitué ouvre d’autres perspectives en soulignant une volonté partagée d’identifier le réel et\, réitère une définition des rapports entre nature et culture. \nCette proposition offre l’opportunité d’ouvrir un dialogue avec les publics des Réservoirs pour explorer la relation que peut entretenir l’homme avec la nature. L’histoire de l’art nous rappelle que selon les âges\, des approches de la nature sont très diversifiées faisant apparaître des questionnements liés à l’imitation\, à l’invention du paysage\, pour aboutir à ce paradigme du XXe siècle lorsque la nature n’était plus le modèle\, mais devenait support ou matériau de l’œuvre. \nAvec les œuvres de : Roxane Borujerdi\, Elise Florenty\, Lola Gonzàlez\, Graham Gussin\, Dennis Oppenheim\, Pierre Paulin\, Zhou Tao
URL:https://www.yvelines-infos.fr/agenda/lart-dans-tous-ses-etats-oeuvres-de-la-collection-du-frac-ile-de-france-chap-9/
LOCATION:les Réservoirs\, 2 rue des réservoirs\, Limay\, 78520\, France
ATTACH;FMTTYPE=image/jpeg:https://www.yvelines-infos.fr/content/uploads/2018/invitation-limay-nov18-r.jpg
ORGANIZER;CN="ville%20de%20Limay":MAILTO:lesreservoirs@ville-limay.fr
GEO:48.9964644;1.7335602
X-APPLE-STRUCTURED-LOCATION;VALUE=URI;X-ADDRESS=les Réservoirs 2 rue des réservoirs Limay 78520 France;X-APPLE-RADIUS=500;X-TITLE=2 rue des réservoirs:geo:1.7335602,48.9964644
END:VEVENT
BEGIN:VEVENT
DTSTART;TZID=Europe/Paris:20171116T090000
DTEND;TZID=Europe/Paris:20171217T180000
DTSTAMP:20260423T043917
CREATED:20171123T140826Z
LAST-MODIFIED:20171123T140826Z
UID:345610-1510822800-1513533600@www.yvelines-infos.fr
SUMMARY:L'art dans tous ses états
DESCRIPTION:Exposition des œuvres de la collection du frac Ile-de-France\, chap.8 \nAvec les œuvres de : François Arnal\, Erica Baum\, Carole Benzaken\, Julien Crépieux\, Guillaume Dégé\, Valérie Favre\, Michel François\,\nRegine Kolle\, Bruce Nauman\, Bruno Peinado\, Bruno Persat\, Shimabuku\, Noam Toran\, Johannes Wohnseifer\, Xavier Zimmerman \n(ill. Bruno Persat\, Trying to make a work of art by thinking of Babylon…\, frac île-de-france\, 2011. © Photo : Martin Argyroglo)
URL:https://www.yvelines-infos.fr/agenda/lart-dans-tous-ses-etats/
LOCATION:les Réservoirs\, 2 rue des réservoirs\, Limay\, 78520\, France
ATTACH;FMTTYPE=image/jpeg:https://www.yvelines-infos.fr/content/uploads/2017/ARM111216-097-RP.jpg
ORGANIZER;CN="ville%20de%20Limay":MAILTO:lesreservoirs@ville-limay.fr
GEO:48.9964644;1.7335602
X-APPLE-STRUCTURED-LOCATION;VALUE=URI;X-ADDRESS=les Réservoirs 2 rue des réservoirs Limay 78520 France;X-APPLE-RADIUS=500;X-TITLE=2 rue des réservoirs:geo:1.7335602,48.9964644
END:VEVENT
END:VCALENDAR