BEGIN:VCALENDAR
VERSION:2.0
PRODID:-//Yvelines Infos - ECPv6.0.2//NONSGML v1.0//EN
CALSCALE:GREGORIAN
METHOD:PUBLISH
X-ORIGINAL-URL:https://www.yvelines-infos.fr
X-WR-CALDESC:Évènements pour Yvelines Infos
REFRESH-INTERVAL;VALUE=DURATION:PT1H
X-Robots-Tag:noindex
X-PUBLISHED-TTL:PT1H
BEGIN:VTIMEZONE
TZID:Europe/Paris
BEGIN:DAYLIGHT
TZOFFSETFROM:+0100
TZOFFSETTO:+0200
TZNAME:CEST
DTSTART:20190331T010000
END:DAYLIGHT
BEGIN:STANDARD
TZOFFSETFROM:+0200
TZOFFSETTO:+0100
TZNAME:CET
DTSTART:20191027T010000
END:STANDARD
BEGIN:DAYLIGHT
TZOFFSETFROM:+0100
TZOFFSETTO:+0200
TZNAME:CEST
DTSTART:20200329T010000
END:DAYLIGHT
BEGIN:STANDARD
TZOFFSETFROM:+0200
TZOFFSETTO:+0100
TZNAME:CET
DTSTART:20201025T010000
END:STANDARD
BEGIN:DAYLIGHT
TZOFFSETFROM:+0100
TZOFFSETTO:+0200
TZNAME:CEST
DTSTART:20210328T010000
END:DAYLIGHT
BEGIN:STANDARD
TZOFFSETFROM:+0200
TZOFFSETTO:+0100
TZNAME:CET
DTSTART:20211031T010000
END:STANDARD
BEGIN:DAYLIGHT
TZOFFSETFROM:+0100
TZOFFSETTO:+0200
TZNAME:CEST
DTSTART:20220327T010000
END:DAYLIGHT
BEGIN:STANDARD
TZOFFSETFROM:+0200
TZOFFSETTO:+0100
TZNAME:CET
DTSTART:20221030T010000
END:STANDARD
END:VTIMEZONE
BEGIN:VEVENT
DTSTART;TZID=Europe/Paris:20220415T203000
DTEND;TZID=Europe/Paris:20220415T203000
DTSTAMP:20260423T020958
CREATED:20220414T144042Z
LAST-MODIFIED:20220414T144042Z
UID:385874-1650054600-1650054600@www.yvelines-infos.fr
SUMMARY:SEBASTIAN MARX
DESCRIPTION:Ça y est\, Seb ne peut plus se mentir : sa femme est française\, ses gosses aiment le roquefort\, il fait du stand-up en français et il porte des écharpes… C’est foutu\, il est français pour de bon. Alors il va parler de quoi maintenant le ricain ? Bah je ne sais pas encore parce que c’est du rodage\, les gars ! Mais comme ça vous pourrez dire dans un an quand il jouera à l’Olympia « putain\, mais moi j’ai vu ce spectacle quand il était presque pas mal et maintenant… c’est vraiment pas mal ! »
URL:https://www.yvelines-infos.fr/agenda/sebastian-marx/
LOCATION:La Fabrik\, 14 rue du Parc\, Bois d'Arcy\, 78390
ATTACH;FMTTYPE=image/jpeg:https://www.yvelines-infos.fr/content/uploads/2022/1012001.jpg
ORGANIZER;CN="Ville%20de%20Bois%20d%27Arcy":MAILTO:communication@boisdarcy.fr
END:VEVENT
BEGIN:VEVENT
DTSTART;TZID=Europe/Paris:20220204T203000
DTEND;TZID=Europe/Paris:20220204T203000
DTSTAMP:20260423T020958
CREATED:20211109T151129Z
LAST-MODIFIED:20211109T151129Z
UID:380933-1644006600-1644006600@www.yvelines-infos.fr
SUMMARY:Marcus - Super Sympa
DESCRIPTION:Pour ce nouveau spectacle je serai mignon\, adorable et complaisant. Je serai le chantre du politiquement correct\, mon spectacle sera la quintessence de la bienveillance. Pas de plaisanteries sur les femmes\, la politique ou la religion. Je vous propose un humour doux\, sucré\, parfumé à l’eau de rose. Vous entrerez dans le spectacle comme dans un bain moussant\, s’en suivra une succession de vannes complaisantes. Cette fois c’est décidé\, je serai Super Sympa… \nInfos pratiques :  \nDurée : 1h15 \nAssis\nTarif A : 15 € / 13 € / 8 € \n 
URL:https://www.yvelines-infos.fr/agenda/marcus-super-sympa/
LOCATION:La Fabrik\, 14 rue du Parc\, Bois d'Arcy\, 78390
ATTACH;FMTTYPE=image/jpeg:https://www.yvelines-infos.fr/content/uploads/2021/marcus-imgaffiche-01-light.jpg
ORGANIZER;CN="Ville%20de%20Bois%20d%27Arcy":MAILTO:communication@boisdarcy.fr
END:VEVENT
BEGIN:VEVENT
DTSTART;TZID=Europe/Paris:20220121T203000
DTEND;TZID=Europe/Paris:20220121T203000
DTSTAMP:20260423T020958
CREATED:20211109T151226Z
LAST-MODIFIED:20211109T151226Z
UID:380922-1642797000-1642797000@www.yvelines-infos.fr
SUMMARY:EHLA
DESCRIPTION:Ehla n’écrit que des textes personnels\, et a décidé de jouer la carte du groove pour les rendre accessibles. Sa voix feutrée est sa meilleure alliée\, dotée d’un phrasé précis et d’une capacité épatante à faire rebondir les mots. Le tout porté des nappes de synthés analogiques\, des basses affirmées et des rythmiques calibrées… Entre le potentiel funky de L’antidote\, la ballade R’n’B de Nuit blanche\, l’électropop de Pas d’Ici ou les relents souls de MCMC\, Ehla assume sa vulnérabilité tout en nous entraînant sur le dance-floor. \nTarif C : 23 € / 20 € / 13 €
URL:https://www.yvelines-infos.fr/agenda/ehla/
LOCATION:La Fabrik\, 14 rue du Parc\, Bois d'Arcy\, 78390
ATTACH;FMTTYPE=image/jpeg:https://www.yvelines-infos.fr/content/uploads/2021/ehla-elodie-daguin.jpg
ORGANIZER;CN="Ville%20de%20Bois%20d%27Arcy":MAILTO:communication@boisdarcy.fr
END:VEVENT
BEGIN:VEVENT
DTSTART;TZID=Europe/Paris:20220115T203000
DTEND;TZID=Europe/Paris:20220115T203000
DTSTAMP:20260423T020958
CREATED:20211109T151123Z
LAST-MODIFIED:20211109T151123Z
UID:380935-1642278600-1642278600@www.yvelines-infos.fr
SUMMARY:La Maternelle
DESCRIPTION:Philippe\, Yvan et Christian sont trois papas qui n’ont rien en commun\, si ce n’est chacun un enfant à la maternelle\, dans la même classe. La maternelle est une étape essentielle pour les enfants mais aussi pour les parents et peut même parfois\, faire naître de belles amitiés ! Entre coup de gueule\, coup de blues et coup de cœur\, Julie l’assistante maternelle\, aura fort à faire avec ces trois papas. \nDurée : 1h25 \nTarif B : 29€ / 25€ / 22€ / 13€
URL:https://www.yvelines-infos.fr/agenda/la-maternelle/
LOCATION:Théâtre de la Grange\, 11 rue du parc\, Bois d'Arcy\, 78390
ATTACH;FMTTYPE=image/jpeg:https://www.yvelines-infos.fr/content/uploads/2021/la-maternelle.jpg
ORGANIZER;CN="Ville%20de%20Bois%20d%27Arcy":MAILTO:communication@boisdarcy.fr
END:VEVENT
BEGIN:VEVENT
DTSTART;TZID=Europe/Paris:20211210T203000
DTEND;TZID=Europe/Paris:20211210T203000
DTSTAMP:20260423T020958
CREATED:20211109T152422Z
LAST-MODIFIED:20211109T152422Z
UID:380906-1639168200-1639168200@www.yvelines-infos.fr
SUMMARY:Vanessa Kayo
DESCRIPTION:Après Feignasse Hyperactive et ses 70 000 spectateurs\, Vanessa Kayo revient avec un nouveau spectacle. Elle a enfin atteint son objectif : avoir du temps pour elle\, une vie réglée. Un super boulot\, un super ado\, et peutêtre le nouvel homme de sa vie. Tout est parfait. Mais un matin\, elle se lève en retard\, il n’y a plus de café\, son fils la saoule avec son ‘‘PC Gaïmeure’’\, et son mec annule leur week-end à Rome parce qu’il est ‘‘fatigué’’. Comment rester équilibrée dans ce monde de dingue ?
URL:https://www.yvelines-infos.fr/agenda/vanessa-kayo/
LOCATION:La Fabrik\, 14 rue du Parc\, Bois d'Arcy\, 78390
ATTACH;FMTTYPE=image/jpeg:https://www.yvelines-infos.fr/content/uploads/2021/unnamed.jpg
ORGANIZER;CN="Ville%20de%20Bois%20d%27Arcy":MAILTO:communication@boisdarcy.fr
END:VEVENT
BEGIN:VEVENT
DTSTART;TZID=Europe/Paris:20211128T170000
DTEND;TZID=Europe/Paris:20211128T170000
DTSTAMP:20260423T020958
CREATED:20211109T152514Z
LAST-MODIFIED:20211109T152514Z
UID:380897-1638118800-1638118800@www.yvelines-infos.fr
SUMMARY:Fair play crew - Seriously funny
DESCRIPTION:Fair Play Crew propose un spectacle familial inclassable entre danse et humour\, détonant et percutant à la fois. Seriously Funny retrace la journée-type de l’Homme moderne\, sans parole dans le langage universel du corps et de la danse.\nLe programme est drôle\, plein d’esprit et souligne avec justesse des instants de vie quotidienne dans lesquels on se retrouve ! \nDurée : 1h15
URL:https://www.yvelines-infos.fr/agenda/fair-play-crew-seriously-funny/
LOCATION:Théâtre de la Grange\, 11 rue du parc\, Bois d'Arcy\, 78390
ATTACH;FMTTYPE=image/jpeg:https://www.yvelines-infos.fr/content/uploads/2021/20211123-theatre-fair-play-crew-seriously-funny-cprzemyslaw-sejwa-scaled-1.jpg
ORGANIZER;CN="Ville%20de%20Bois%20d%27Arcy":MAILTO:communication@boisdarcy.fr
END:VEVENT
BEGIN:VEVENT
DTSTART;TZID=Europe/Paris:20211120T200000
DTEND;TZID=Europe/Paris:20211120T200000
DTSTAMP:20260423T020958
CREATED:20211116T144053Z
LAST-MODIFIED:20211116T144053Z
UID:380974-1637438400-1637438400@www.yvelines-infos.fr
SUMMARY:7e édition du Festival de la Bande-annonce
DESCRIPTION:Claudia Cardinale et Jean-Paul Belmondo à l’honneur ! \nLa 7ème édition du Festival de la Bande-annonce à Bois d’Arcy aura lieu le samedi 20 novembre et symbolisera les grandes heures du cinéma français avec à l’honneur Claudia Cardinale et Jean-Paul Belmondo. De grands moments cinématographiques en perspective ! \nAprès une 6ème édition annulée en raison du contexte sanitaire\, le B.A-BA revient sur le devant de la scène\, samedi 20 novembre avec à l’honneur la légendaire actrice Claudia Cardinale mais aussi l’inoubliable Jean-Paul Belmondo\, disparu en septembre dernier. Organisé par la Ville et en partenariat avec le CNC\, le Festival de la Bande annonce sera présenté\, comme depuis sa création en 2015\, par Vincent Perrot.\nFéru et passionné de cinéma depuis sa plus tendre enfance\, le célèbre journaliste transmettra une nouvelle fois ses connaissances mais aussi de nombreuses perles rares autour du 7e art. \nDeux monstres sacrés du cinéma à l’honneur\nClaudia Cardinale et Jean-Paul Belmondo étaient très proches. Depuis que leurs chemins s’étaient croisés en 1961 sur le tournage du Mauvais chemin\, ils ne se sont plus quittés.\nAvec la disparition de l’acteur\, c’est tout naturellement que la Ville a décidé de les réunir une nouvelle fois à travers leurs oeuvres cinématographiques. \nENTRÉE LIBRE\nNombre de places limité\nRéservez vite sur billetterie.boisdarcy.fr\nRenseignements au 01 30 07 11 80
URL:https://www.yvelines-infos.fr/agenda/7e-edition-du-festival-de-la-bande-annonce/
LOCATION:Cinéma de la Grange\, Ferme de la Tremblaye\, rue du Parc\, Bois d'Arcy \, 78390\, France
ATTACH;FMTTYPE=image/jpeg:https://www.yvelines-infos.fr/content/uploads/2021/sans-titre-15-250x1723-1.jpg
ORGANIZER;CN="Ville%20de%20Bois%20d%27Arcy":MAILTO:communication@boisdarcy.fr
GEO:48.7999107;2.0237049
X-APPLE-STRUCTURED-LOCATION;VALUE=URI;X-ADDRESS=Cinéma de la Grange Ferme de la Tremblaye rue du Parc Bois d'Arcy  78390 France;X-APPLE-RADIUS=500;X-TITLE=Ferme de la Tremblaye\, rue du Parc:geo:2.0237049,48.7999107
END:VEVENT
BEGIN:VEVENT
DTSTART;TZID=Europe/Paris:20211119T203000
DTEND;TZID=Europe/Paris:20211119T203000
DTSTAMP:20260423T020958
CREATED:20211109T152508Z
LAST-MODIFIED:20211109T152508Z
UID:380904-1637353800-1637353800@www.yvelines-infos.fr
SUMMARY:The Twin Souls
DESCRIPTION:Le groupe  » The Twin Souls  » se produira à la Fabrik vendredi 19 novembre. Inauguré le 1er octobre\, ce nouveau lieu culturel a été rénové afin de vous permettre de vivre une véritable rencontre avec les artistes. Destinée à la découverte de nouveaux talents rock\, pop\, humour\, one man-show\, la Fabrik est également un lieu convivial qui propose une programmation éclectique et tendance. Durant cette soirée\,  » The Twin Souls  » mettra un point d’honneur à retranscrire une performance\, capter une émotion\, saisir la puissance de l’instant\, enregistrer une vérité sans artifices\, l’essence même de ce groupe. Venez nombreux ! \nUne ambiance  » Bar-concert «  \nLa Fabrik est l’endroit qu’il vous faut pour passer une soirée chaleureuse et musicale. Ajoutons à cela qu’il est possible de boire un verre tout en écoutant de la musique en live. Une occasion de profiter d’un cadre privilégié pour un moment mémorable !
URL:https://www.yvelines-infos.fr/agenda/the-twin-souls/
LOCATION:La Fabrik\, 14 rue du Parc\, Bois d'Arcy\, 78390
ATTACH;FMTTYPE=image/jpeg:https://www.yvelines-infos.fr/content/uploads/2021/photoofficielle1-carolyneshu-scaled-1.jpg
ORGANIZER;CN="Ville%20de%20Bois%20d%27Arcy":MAILTO:communication@boisdarcy.fr
END:VEVENT
BEGIN:VEVENT
DTSTART;TZID=Europe/Paris:20211113T203000
DTEND;TZID=Europe/Paris:20211113T203000
DTSTAMP:20260423T020958
CREATED:20211109T152521Z
LAST-MODIFIED:20211109T152521Z
UID:380894-1636835400-1636835400@www.yvelines-infos.fr
SUMMARY:Une semaine pas plus
DESCRIPTION:Paul fait croire à Sophie que son meilleur ami Martin\, venant de perdre sa mère\, va venir s’installer quelque temps chez eux. Il veut en réalité la quitter\, pensant que ce ménage à trois fera exploser leur couple… Martin\, pris au piège\, accepte. Mais ce sera ‘‘une semaine… pas plus !’’. Démarre alors un ménage à trois totalement explosif ! \nDurée : 1h20
URL:https://www.yvelines-infos.fr/agenda/une-semaine-pas-plus/
LOCATION:Théâtre de la Grange\, 11 rue du parc\, Bois d'Arcy\, 78390
ATTACH;FMTTYPE=image/jpeg:https://www.yvelines-infos.fr/content/uploads/2021/une-semaine-pas-plus-photos-arnaud-rouyer-ville-de-dreux-22.jpg
ORGANIZER;CN="Ville%20de%20Bois%20d%27Arcy":MAILTO:communication@boisdarcy.fr
END:VEVENT
BEGIN:VEVENT
DTSTART;TZID=Europe/Paris:20190621T210000
DTEND;TZID=Europe/Paris:20190621T233000
DTSTAMP:20260423T020958
CREATED:20190620T081143Z
LAST-MODIFIED:20190620T081143Z
UID:359252-1561150800-1561159800@www.yvelines-infos.fr
SUMMARY:Fête de la musique : Hygiaphone « Show Téléphone »
DESCRIPTION:Assistez à la Fête de la musique de Bois d’Arcy avec le groupe Hygiaphone\nCes quatre musiciens\, fans de Rock N’Roll vous feront revivre la magie de la tournée 86. Ils reprendront les tubes intemporels du groupe Téléphone\, rendront hommage à toute une génération bercée par la révolte et la poésie de nos quatre compères\, \nAubert\, Bertignac\, Marienneau et Kolinka\, mémorables pour tous les prétendants de Cendrillon. \nPhénomènes\, bombes humaines\, ces artistes vous embarquent dans un autre monde\, au moins jusqu’à New York\, avec leur son électrisé et leur talent sans limite. À tous les  » Téléphommes « \, vous ne pouvez pas manquer ce concert « au cœur de la nuit ». Ça\, c’est vraiment eux ! \nVendredi 21 juin à 21h. Ouverture du site à 19h30. Esplanade Dyf. \nRestauration possible sur place. Accès unique par la Rue du Parc.\nRenseignements au 01 30 07 11 80
URL:https://www.yvelines-infos.fr/agenda/fete-de-la-musique-hygiaphone-show-telephone/
LOCATION:Ferme de la Tremblaye – Bois d’Arcy\, Bois d'Arcy\, 78390\, France
ATTACH;FMTTYPE=image/jpeg:https://www.yvelines-infos.fr/content/uploads/2019/affiche-fete-de-la-musique-2019-hygiaphone-120x176-def.jpg
ORGANIZER;CN="Ville%20de%20Bois%20d%27Arcy":MAILTO:communication@boisdarcy.fr
GEO:48.807166;2.0105545
END:VEVENT
END:VCALENDAR