BEGIN:VCALENDAR
VERSION:2.0
PRODID:-//Yvelines Infos - ECPv6.0.2//NONSGML v1.0//EN
CALSCALE:GREGORIAN
METHOD:PUBLISH
X-WR-CALNAME:Yvelines Infos
X-ORIGINAL-URL:https://www.yvelines-infos.fr
X-WR-CALDESC:Évènements pour Yvelines Infos
REFRESH-INTERVAL;VALUE=DURATION:PT1H
X-Robots-Tag:noindex
X-PUBLISHED-TTL:PT1H
BEGIN:VTIMEZONE
TZID:Europe/Paris
BEGIN:DAYLIGHT
TZOFFSETFROM:+0100
TZOFFSETTO:+0200
TZNAME:CEST
DTSTART:20210328T010000
END:DAYLIGHT
BEGIN:STANDARD
TZOFFSETFROM:+0200
TZOFFSETTO:+0100
TZNAME:CET
DTSTART:20211031T010000
END:STANDARD
END:VTIMEZONE
BEGIN:VEVENT
DTSTART;TZID=Europe/Paris:20211207T203000
DTEND;TZID=Europe/Paris:20211207T203000
DTSTAMP:20260423T020834
CREATED:20211025T110638Z
LAST-MODIFIED:20211025T110638Z
UID:380329-1638909000-1638909000@www.yvelines-infos.fr
SUMMARY:Le Muguet de Noël
DESCRIPTION:Après le succès de Deux mensonges et une vérité\, Sébastien Blanc et Nicolas Poiret récidivent avec cette nouvelle comédie irrésistible. \nPierre et François sont les meilleurs amis du monde. Ils sont prêts à tout l’un pour l’autre et se soutiennent envers et contre tous.\nPierre est prêt à tout pour trouver un nouvel emploi\, François est prêt à tout pour une promotion ; Marion\, la fille de François en colère contre son père possessif\, est prête à tout pour lui donner une bonne leçon\, et le nouveau petit copain de celle-ci est prêt à tout pour elle… \nDeux intrigues savoureuses et inattendues\, servies par une écriture vive et brillante\, s’entremêlent pour leur plus grand malheur et notre plus grand plaisir ! \nPièce de Sébastien Blanc et Nicolas Poiret\nMise en scène Jean-Luc Moreau \nAvec Lionnel Astier\, Frédéric Bouraly\, Jean-Luc Porraz et Alexie Ribes \nAssistante à la mise en scène Nell Darmouni \nDécor Catherine Bluwal\nAssistante décor Julie Wassef\nCostumes Cécile Dulac\nMusique Sylvain Meyniac\nLumière Jacques Rouveyrollis\nAssistante lumière Jessica Duclos \nTarif A                                                                                                                                                                                                                                  -> Réservez vos billets en ligne sur https://www.theatre-simone-signoret.fr/billetterie/
URL:https://www.yvelines-infos.fr/agenda/le-muguet-de-noel/
LOCATION:Théâtre Simone Signoret\, 12\, place Auguste-Romagné\, Conflans-Sainte-Honorine\, 78700
ATTACH;FMTTYPE=image/jpeg:https://www.yvelines-infos.fr/content/uploads/2021/j-stey-mg-8167-scaled-1600x0-c-default.jpg
END:VEVENT
END:VCALENDAR