BEGIN:VCALENDAR
VERSION:2.0
PRODID:-//Yvelines Infos - ECPv6.0.2//NONSGML v1.0//EN
CALSCALE:GREGORIAN
METHOD:PUBLISH
X-WR-CALNAME:Yvelines Infos
X-ORIGINAL-URL:https://www.yvelines-infos.fr
X-WR-CALDESC:Évènements pour Yvelines Infos
REFRESH-INTERVAL;VALUE=DURATION:PT1H
X-Robots-Tag:noindex
X-PUBLISHED-TTL:PT1H
BEGIN:VTIMEZONE
TZID:Europe/Paris
BEGIN:DAYLIGHT
TZOFFSETFROM:+0100
TZOFFSETTO:+0200
TZNAME:CEST
DTSTART:20210328T010000
END:DAYLIGHT
BEGIN:STANDARD
TZOFFSETFROM:+0200
TZOFFSETTO:+0100
TZNAME:CET
DTSTART:20211031T010000
END:STANDARD
BEGIN:DAYLIGHT
TZOFFSETFROM:+0100
TZOFFSETTO:+0200
TZNAME:CEST
DTSTART:20220327T010000
END:DAYLIGHT
BEGIN:STANDARD
TZOFFSETFROM:+0200
TZOFFSETTO:+0100
TZNAME:CET
DTSTART:20221030T010000
END:STANDARD
END:VTIMEZONE
BEGIN:VEVENT
DTSTART;TZID=Europe/Paris:20220514T103000
DTEND;TZID=Europe/Paris:20220514T103000
DTSTAMP:20260423T003602
CREATED:20220322T141906Z
LAST-MODIFIED:20220322T141906Z
UID:384093-1652524200-1652524200@www.yvelines-infos.fr
SUMMARY:JUSTE UNE GOUTTE
DESCRIPTION:L’eau qui se déverse nettoie et rafraîchit le monde\, sais-tu pourquoi ? \nAlors qu’Alphonse laisse la pluie l’envahir à l’intérieur\, Léonie profite d’elle pour vivre de nouvelles expériences et se découvre le pouvoir de transformer les gouttes en jardin. Le pouvoir créatif de Léonie\, la curiosité et la persévérance d’Alphonse (et le jeu de hasard de la vie…)\, vont provoquer la rencontre des deux enfants. \nCe spectacle parle de notre environnement direct et de notre capacité à le sublimer\, voire à le transformer lorsque celui-ci se révèle négatif. Un cheminement poétique où se mêlent théâtre d’images textiles\, marionnette et projections de dessins et d’ombres sur fond de paysages sonores immersifs. Un délicat moment de douceur\, de poésie et de partage. \nÀ partir de 2 ans – Durée : 35 min
URL:https://www.yvelines-infos.fr/agenda/juste-une-goutte/
LOCATION:Théâtre Simone Signoret\, 12\, place Auguste-Romagné\, Conflans-Sainte-Honorine\, 78700
ATTACH;FMTTYPE=image/jpeg:https://www.yvelines-infos.fr/content/uploads/2022/juste-une-goutte-gouttes-multico-2048x1024-1.jpg
END:VEVENT
BEGIN:VEVENT
DTSTART;TZID=Europe/Paris:20220409T203000
DTEND;TZID=Europe/Paris:20220409T203000
DTSTAMP:20260423T003602
CREATED:20220322T150242Z
LAST-MODIFIED:20220322T150242Z
UID:384089-1649536200-1649536200@www.yvelines-infos.fr
SUMMARY:ALEX VIZOREK
DESCRIPTION:Si Nana Mouskouri et Hugh Grant avaient eu un enfant en lisant le Robert et en écoutant Bach\, Alex Vizorek en serait le résultat. Disciple de l’élégance et du faire savoir\, il est né et a grandi à Bruxelles mais c’est Paris qui le propulse. Il s’était mis au défi d’écrire un spectacle sur l’art\, avec son regard d’humoriste. Il a questionné et fait rire aux éclats\, Alex Vizorek est une œuvre d’art a tourbillonné dans toute la francophonie pour finir en apothéose à l’Olympia. Il fallait un nouveau challenge de taille. Pourquoi pas proposer un spectacle sur… la mort ! Partant du postulat que ça pouvait concerner beaucoup de gens.
URL:https://www.yvelines-infos.fr/agenda/alex-vizorek/
LOCATION:Théâtre Simone Signoret\, 12\, place Auguste-Romagné\, Conflans-Sainte-Honorine\, 78700
ATTACH;FMTTYPE=image/png:https://www.yvelines-infos.fr/content/uploads/2022/alex-vizorek-ad-vitam-1.png
END:VEVENT
BEGIN:VEVENT
DTSTART;TZID=Europe/Paris:20220129T203000
DTEND;TZID=Europe/Paris:20220129T203000
DTSTAMP:20260423T003602
CREATED:20211109T153133Z
LAST-MODIFIED:20211109T153133Z
UID:380828-1643488200-1643488200@www.yvelines-infos.fr
SUMMARY:Maxime Le Forestier
DESCRIPTION:Six ans après Le Cadeau\, Maxime Le Forestier est revenu avec l’album Paraître ou ne pas être. Une dizaine de nouveaux titres poétiques\, réalistes ou ironiques – une moisson riche et limpide\, avec son élégance coutumière et sa chaleur consolante. \nDix chansons qui apparaissent dès maintenant dans une forme très proche de celle qu’elles ont sur scène. Pas d’arrangements orgueilleux\, pas de grands gestes orchestraux. Pas trop de paraître. \nL’occasion de découvrir l’auteur de l’Éducation sentimentale\, Ambalaba\, San Francisco\, Les Divorcés\, Passer ma route et d’autres grands classiques de la chanson française…
URL:https://www.yvelines-infos.fr/agenda/maxime-le-forestier/
LOCATION:Théâtre Simone Signoret\, 12\, place Auguste-Romagné\, Conflans-Sainte-Honorine\, 78700
ATTACH;FMTTYPE=image/jpeg:https://www.yvelines-infos.fr/content/uploads/2021/c-magda-lates-1.jpg
END:VEVENT
BEGIN:VEVENT
DTSTART;TZID=Europe/Paris:20220125T203000
DTEND;TZID=Europe/Paris:20220125T203000
DTSTAMP:20260423T003602
CREATED:20211104T151420Z
LAST-MODIFIED:20211104T151420Z
UID:380715-1643142600-1643142600@www.yvelines-infos.fr
SUMMARY:Aime comme marquise
DESCRIPTION:Paris\, 1668\, au Théâtre de l’Hôtel de Bourgogne. Thérèse du Parc\, dite Marquise\, se prépare à jouer Andromaque de Racine\, lorsque le lieutenant général de la police entre dans sa loge pour l’interroger. Dès lors\, une enquête commence et nous dévoile l’extraordinaire parcours de cette fille du peuple qui a fasciné les hommes les plus illustres de son temps tels que Molière\, Corneille\, Racine\, La Fontaine\, d’Artagnan ou encore Louis XIV. \nUne coiffeuse\, un paravent\, un valet de nuit\, une malle… nous sommes dans les coulisses. Le spectacle s’installe dans une scénographie intimiste et montre ainsi ce qui est habituellement caché. \nL’auteur\, Philippe Froget\, a voulu écrire sur ces hommes qui\, partis de rien\, se hissent au plus haut niveau de la société\, grâce à leur talent\, leur charisme et surtout leur culot. \nTarif B : https://www.theatre-simone-signoret.fr/tarification/
URL:https://www.yvelines-infos.fr/agenda/aime-comme-marquise/
LOCATION:Théâtre Simone-Signoret\, 12\, place Auguste-Romagné\, Conflans-Sainte-Honorine\, 78700
ATTACH;FMTTYPE=image/jpeg:https://www.yvelines-infos.fr/content/uploads/2021/6-aime-comme-marquise-2-cjean-bernard-vincens.jpg
END:VEVENT
BEGIN:VEVENT
DTSTART;TZID=Europe/Paris:20220108T203000
DTEND;TZID=Europe/Paris:20220108T203000
DTSTAMP:20260423T003602
CREATED:20211104T152606Z
LAST-MODIFIED:20211230T140008Z
UID:380544-1641673800-1641673800@www.yvelines-infos.fr
SUMMARY:Camille Chamoux
DESCRIPTION:Camille Chamoux revient pour la 3e fois sur scène accompagnée à la mise en scène par Vincent Dedienne. « Avec qui devons-nous nous réconcilier pour être heureux dans la vie ? Avec le temps\, va. »                                                                                                                      Si Épicure\, Proust et Léo Ferré n’ont pas suffi à vous convaincre de trouver le plaisir du moment présent\, si votre vie ressemble à un décompte Waze et votre pire angoisse est qu’il soit déjà trop tard\, Camille Chamoux nous propose une tentative de dédramatisation : 70 minutes pour défier le temps\, et peut-être brièvement « cesser de se sentir médiocre\, contingent\, mortel. » On court tous après le temps. \nCamille Chamoux s’arrête\, le temps d’une soirée\, pour rassurer les autres coureurs paniqués autour d’elle : son conjoint à bout de souffle\, son fils qui gère si mal la fin des activités\, ses amis dépressifs\, ses parents ces boomers qui ne veulent rien lâcher… pour notre plus grand bonheur ! \n 
URL:https://www.yvelines-infos.fr/agenda/camille-chamoux/
LOCATION:Théâtre Simone Signoret\, 12\, place Auguste-Romagné\, Conflans-Sainte-Honorine\, 78700
ATTACH;FMTTYPE=image/jpeg:https://www.yvelines-infos.fr/content/uploads/2021/p1.jpg
END:VEVENT
BEGIN:VEVENT
DTSTART;TZID=Europe/Paris:20211207T203000
DTEND;TZID=Europe/Paris:20211207T203000
DTSTAMP:20260423T003602
CREATED:20211025T110638Z
LAST-MODIFIED:20211025T110638Z
UID:380329-1638909000-1638909000@www.yvelines-infos.fr
SUMMARY:Le Muguet de Noël
DESCRIPTION:Après le succès de Deux mensonges et une vérité\, Sébastien Blanc et Nicolas Poiret récidivent avec cette nouvelle comédie irrésistible. \nPierre et François sont les meilleurs amis du monde. Ils sont prêts à tout l’un pour l’autre et se soutiennent envers et contre tous.\nPierre est prêt à tout pour trouver un nouvel emploi\, François est prêt à tout pour une promotion ; Marion\, la fille de François en colère contre son père possessif\, est prête à tout pour lui donner une bonne leçon\, et le nouveau petit copain de celle-ci est prêt à tout pour elle… \nDeux intrigues savoureuses et inattendues\, servies par une écriture vive et brillante\, s’entremêlent pour leur plus grand malheur et notre plus grand plaisir ! \nPièce de Sébastien Blanc et Nicolas Poiret\nMise en scène Jean-Luc Moreau \nAvec Lionnel Astier\, Frédéric Bouraly\, Jean-Luc Porraz et Alexie Ribes \nAssistante à la mise en scène Nell Darmouni \nDécor Catherine Bluwal\nAssistante décor Julie Wassef\nCostumes Cécile Dulac\nMusique Sylvain Meyniac\nLumière Jacques Rouveyrollis\nAssistante lumière Jessica Duclos \nTarif A                                                                                                                                                                                                                                  -> Réservez vos billets en ligne sur https://www.theatre-simone-signoret.fr/billetterie/
URL:https://www.yvelines-infos.fr/agenda/le-muguet-de-noel/
LOCATION:Théâtre Simone Signoret\, 12\, place Auguste-Romagné\, Conflans-Sainte-Honorine\, 78700
ATTACH;FMTTYPE=image/jpeg:https://www.yvelines-infos.fr/content/uploads/2021/j-stey-mg-8167-scaled-1600x0-c-default.jpg
END:VEVENT
END:VCALENDAR