BEGIN:VCALENDAR
VERSION:2.0
PRODID:-//Yvelines Infos - ECPv6.0.2//NONSGML v1.0//EN
CALSCALE:GREGORIAN
METHOD:PUBLISH
X-ORIGINAL-URL:https://www.yvelines-infos.fr
X-WR-CALDESC:Évènements pour Yvelines Infos
REFRESH-INTERVAL;VALUE=DURATION:PT1H
X-Robots-Tag:noindex
X-PUBLISHED-TTL:PT1H
BEGIN:VTIMEZONE
TZID:Europe/Paris
BEGIN:DAYLIGHT
TZOFFSETFROM:+0100
TZOFFSETTO:+0200
TZNAME:CEST
DTSTART:20210328T010000
END:DAYLIGHT
BEGIN:STANDARD
TZOFFSETFROM:+0200
TZOFFSETTO:+0100
TZNAME:CET
DTSTART:20211031T010000
END:STANDARD
BEGIN:DAYLIGHT
TZOFFSETFROM:+0100
TZOFFSETTO:+0200
TZNAME:CEST
DTSTART:20220327T010000
END:DAYLIGHT
BEGIN:STANDARD
TZOFFSETFROM:+0200
TZOFFSETTO:+0100
TZNAME:CET
DTSTART:20221030T010000
END:STANDARD
END:VTIMEZONE
BEGIN:VEVENT
DTSTART;TZID=Europe/Paris:20220401T203000
DTEND;TZID=Europe/Paris:20220401T203000
DTSTAMP:20260423T003839
CREATED:20220322T150932Z
LAST-MODIFIED:20220322T150932Z
UID:384007-1648845000-1648845000@www.yvelines-infos.fr
SUMMARY:UN POYO ROJO
DESCRIPTION:Un Poyo Rojo\, en français « un coq rouge »\, est un spectacle qui se joue depuis près de dix ans en Argentine. \nDans des vestiaires de sportifs mâles\, deux hommes se livrent à un ballet plein d’humour. Ça sens la chaussette sale\, la taule froide et les aisselles. Deux garçons entrent là\, fouillent dans leurs casiers\, se regardent un peu\, avec mépris beaucoup. Deux coqs avant la bataille. Pas un mot\, pas de musique. Des regards\, une petite radio\, et enfin la lutte. Une danse frénétique\, telle une compétition sportive. \nLes deux danseurs racontent la peur\, la séduction\, la mise en garde\, l’attaque\, la mise à mal\, la mise à terre et le désir. La mise en scène nerveuse d’Hermes Gaido laisse la place à des moments d’improvisation savoureux. À eux trois\, ils font de Un Poyo Rojo un espace d’extrême liberté\, de drôleries physiques et d’une puissance déchaînée.
URL:https://www.yvelines-infos.fr/agenda/un-poyo-rojo/
LOCATION:Théâtre Simone Signoret\, 12\, place Auguste-Romagné\, Conflans-Sainte-Honorine\, 78700
ATTACH;FMTTYPE=image/jpeg:https://www.yvelines-infos.fr/content/uploads/2022/qui-ne-dit-motm254364.jpg
END:VEVENT
BEGIN:VEVENT
DTSTART;TZID=Europe/Paris:20220106T203000
DTEND;TZID=Europe/Paris:20220106T203000
DTSTAMP:20260423T003839
CREATED:20211025T110533Z
LAST-MODIFIED:20211025T110533Z
UID:380350-1641501000-1641501000@www.yvelines-infos.fr
SUMMARY:L'ENFANT OCEAN
DESCRIPTION:Dans une famille très pauvre\, sept garçons (dont le dernier\, minuscule\, est doté d’une intelligence vive) subissent l’autorité et la bêtise crasse de leurs parents. Un soir\, le plus jeune convainc ses frères de s’enfuir de cette maison qui n’a rien d’un doux foyer. Commence alors une fugue épique et rocambolesque vers l’océan\, alors que la police se lance à leur poursuite et que leur disparition fait la une des journaux. \nÀ la fois conte social\, polar à suspense\, road-movie et récit initiatique\, mêlant poésie\, humour et mystère\, L’Enfant océan\, malicieusement inspiré du Petit Poucet\, joue avec les genres et les codes narratifs pour nous entraîner dans cette fugue adolescente\, qui peut également résonner comme un adieu au monde de l’enfance.
URL:https://www.yvelines-infos.fr/agenda/lenfant-ocean/
LOCATION:Théâtre Simone Signoret\, 12\, place Auguste-Romagné\, Conflans-Sainte-Honorine\, 78700
ATTACH;FMTTYPE=image/jpeg:https://www.yvelines-infos.fr/content/uploads/2021/enfantocean-photoericmiranda-dsc-5500-2048x1365-1.jpg
END:VEVENT
BEGIN:VEVENT
DTSTART;TZID=Europe/Paris:20211210T203000
DTEND;TZID=Europe/Paris:20211210T203000
DTSTAMP:20260423T003839
CREATED:20211025T110653Z
LAST-MODIFIED:20211025T110653Z
UID:380320-1639168200-1639168200@www.yvelines-infos.fr
SUMMARY:CLAUDIO CAPEO
DESCRIPTION:C’est un artiste incontournable\, vraie révélation musicale de ces deux dernières années. Il ne quitte plus le paysage musical depuis sa première apparition en 2016 avec le tube Un homme debout (single de diamant). Depuis\, Claudio Capéo enchaîne les succès :Ça va ça va\, Riche\, ou encore son duo Un peu de rêve avec Vitaa. \nSon dernier album s’est classé numéro 1 des ventes dès sa sortie pendant 5 semaines consécutives et s’est écoulé à plus de 700 000 exemplaires\, faisant de cet opus le plus gros succès pour un artiste révélation. \nAprès une tournée de 2 ans à guichets fermés et un album certifié disque de diamant\, Claudio Capéo\, toujours armé de son accordéon\, présente son nouvel album : Tant que rien ne m’arrête. \n-> Réservez vos billets en ligne à partir du 4 septembre 2021 sur https://www.theatre-simone-signoret.fr/billetterie/ \nSpectacle en configuration assis/debout
URL:https://www.yvelines-infos.fr/agenda/claudio-capeo/
LOCATION:Théâtre Simone Signoret\, 12\, place Auguste-Romagné\, Conflans-Sainte-Honorine\, 78700
ATTACH;FMTTYPE=image/jpeg:https://www.yvelines-infos.fr/content/uploads/2021/capeo-fifou-1503-scaled-1600x0-c-default-scaled.jpg
END:VEVENT
BEGIN:VEVENT
DTSTART;TZID=Europe/Paris:20211126T203000
DTEND;TZID=Europe/Paris:20211126T203000
DTSTAMP:20260423T003839
CREATED:20211025T110540Z
LAST-MODIFIED:20211025T110540Z
UID:380348-1637958600-1637958600@www.yvelines-infos.fr
SUMMARY:TZIGANE !
DESCRIPTION:À travers une dizaine de tableaux inspirés d’artistes tels que Hugo\, Le Caravage\, Mérimée\, Picasso\, Manet ou Pouchkine\, un vieux peintre nous raconte l’histoire de sa vie et de son peuple. C’est une invitation au voyage dans laquelle le chorégraphe Petia Iourtchenko et la metteuse en scène Johanna Boyé ont décidé de moderniser et réinventer les idées reçues sur ce peuple nomade. \nDes femmes fières\, impudentes\, lascives et passionnées\, des hommes bagarreurs\, jaloux et possessifs\, et un spectacle rythmé par le son des talons tapant sur le sol\, le mouvement des jupes à volants ainsi que la voix enivrante de la chanteuse Lilia Dalskaïa-Roos.
URL:https://www.yvelines-infos.fr/agenda/tzigane/
LOCATION:Théâtre Simone Signoret\, 12\, place Auguste-Romagné\, Conflans-Sainte-Honorine\, 78700
ATTACH;FMTTYPE=image/jpeg:https://www.yvelines-infos.fr/content/uploads/2021/dsc-9437-2048x1196-1.jpg
END:VEVENT
BEGIN:VEVENT
DTSTART;TZID=Europe/Paris:20211120T203000
DTEND;TZID=Europe/Paris:20211120T203000
DTSTAMP:20260423T003839
CREATED:20211104T152657Z
LAST-MODIFIED:20211104T152657Z
UID:380499-1637440200-1637440200@www.yvelines-infos.fr
SUMMARY:Gauvain Sers
DESCRIPTION:Les chansons de Gauvain Sers descendent dans la rue. Certaines se fredonnent le sourire aux lèvres\, le coeur léger. D’autres se chantent le poing levé. C’est avec ce répertoire façonné sur deux axes\, où la poésie se mêle au social\, que le Creusois nous embarque dans son deuxième album au titre évocateur : Les Oubliés. Cet artiste singulier\, que l’on qualifie de digne héritier de Renaud\, propose un concert à son image : rassembleur et plein de poésie.
URL:https://www.yvelines-infos.fr/agenda/gauvain-sers/
LOCATION:Théâtre Simone Signoret\, 12\, place Auguste-Romagné\, Conflans-Sainte-Honorine\, 78700
ATTACH;FMTTYPE=image/jpeg:https://www.yvelines-infos.fr/content/uploads/2021/gauvain-sers-320x220-1600x0-c-default.jpg
END:VEVENT
END:VCALENDAR