BEGIN:VCALENDAR
VERSION:2.0
PRODID:-//Yvelines Infos - ECPv6.0.2//NONSGML v1.0//EN
CALSCALE:GREGORIAN
METHOD:PUBLISH
X-WR-CALNAME:Yvelines Infos
X-ORIGINAL-URL:https://www.yvelines-infos.fr
X-WR-CALDESC:Évènements pour Yvelines Infos
REFRESH-INTERVAL;VALUE=DURATION:PT1H
X-Robots-Tag:noindex
X-PUBLISHED-TTL:PT1H
BEGIN:VTIMEZONE
TZID:Europe/Paris
BEGIN:DAYLIGHT
TZOFFSETFROM:+0100
TZOFFSETTO:+0200
TZNAME:CEST
DTSTART:20180325T010000
END:DAYLIGHT
BEGIN:STANDARD
TZOFFSETFROM:+0200
TZOFFSETTO:+0100
TZNAME:CET
DTSTART:20181028T010000
END:STANDARD
BEGIN:DAYLIGHT
TZOFFSETFROM:+0100
TZOFFSETTO:+0200
TZNAME:CEST
DTSTART:20190331T010000
END:DAYLIGHT
BEGIN:STANDARD
TZOFFSETFROM:+0200
TZOFFSETTO:+0100
TZNAME:CET
DTSTART:20191027T010000
END:STANDARD
BEGIN:DAYLIGHT
TZOFFSETFROM:+0100
TZOFFSETTO:+0200
TZNAME:CEST
DTSTART:20200329T010000
END:DAYLIGHT
BEGIN:STANDARD
TZOFFSETFROM:+0200
TZOFFSETTO:+0100
TZNAME:CET
DTSTART:20201025T010000
END:STANDARD
END:VTIMEZONE
BEGIN:VEVENT
DTSTART;VALUE=DATE:20200307
DTEND;VALUE=DATE:20200401
DTSTAMP:20260423T054718
CREATED:20200305T093709Z
LAST-MODIFIED:20200305T093709Z
UID:365806-1583539200-1585699199@www.yvelines-infos.fr
SUMMARY:Clichés de femmes
DESCRIPTION:Dans le cadre du temps des femmes – Femmes en action. Proposé avec le service des Archives et du Patrimoine\, en partenariat avec les Archives départementales des Yvelines.\n \nDans les maisons de quartier Joseph-Kosma\, Théodore-Monod\, Auguste-Renoir et au centre social du Pont du Routoir. \nUne exposition qui s’intéresse à la représentation des femmes au travers de leurs activités (métiers\, passions\, sport…). Chaque structure vous propose des portraits de femmes réalisés par le photographe Jean Lattès : des portraits de femmes célèbres parus dans des magazines de mode\, mais aussi des portraits d’anonymes prises dans le cadre de leur métier ou activité. \nDans chaque lieu\, ces clichés sont complétés par des portraits de femmes du quartier. L’exposition met ainsi en perspective des images du passé avec celles que les femmes de chaque quartier engagées dans ce projet auront choisi de donner d’elles. \n\nVernissage itinérant le samedi 7 mars de 14 h à 17 h 30\n\nAprès avoir été accueilli dans une première structure\, vous pourrez vous rendre dans les autres et découvrir la suite de l’exposition. \nDans chaque lieu\, collation\, visite guidée et animations vous seront proposées. Retrouvez la compagnie de danse Les Fobuleuses pour leur création Toutes pour une ! à 14 h 30 à la maison de quartier Auguste-Renoir\, à 15 h à la maison de quartier Joseph-Kosma\, à 15 h 30 au centre social du Pont du Routoir et à 16 h à la maison de quartier Théodore-Monod.
URL:https://www.yvelines-infos.fr/agenda/cliches-de-femmes/
LOCATION:France
ATTACH;FMTTYPE=image/png:https://www.yvelines-infos.fr/content/uploads/2020/capture-decran-2020-03-05-a-10-31-08.png
ORGANIZER;CN="Service%20Action%20Culturelle%20de%20Guyancourt":MAILTO:action.culturelle@ville-guyancourt.fr
END:VEVENT
BEGIN:VEVENT
DTSTART;TZID=Europe/Paris:20181108T140000
DTEND;TZID=Europe/Paris:20181124T140000
DTSTAMP:20260423T054718
CREATED:20181109T094547Z
LAST-MODIFIED:20181109T094547Z
UID:353409-1541685600-1543068000@www.yvelines-infos.fr
SUMMARY:EXPOSITION - COMMÉMORATION DU CENTENAIRE DE LA GUERRE 14-18
DESCRIPTION:L’exposition « Après la Grande Guerre\, Guyancourt » se tiendra à la Mezzanine de l’Hôtel de Ville du jeudi 8 novembre au samedi 24 novembre 2018. Elle a été réalisée à partir des recherches des élèves des classes de 3ème des collèges Ariane et des Saules. Différentes thématiques telles que la place des femmes\, l’économie ou encore la place des gueules cassées seront abordées pour comprendre la fin de la 1ère Guerre Mondiale et la reconstruction du pays dans l’entre deux guerres. \nVous pourrez également découvrir l’exposition hors les murs: \n\nDu 26 novembre au 20 décembre 2018 – Collège Ariane\nDu 14 janvier au 8 février 2019 – Collège Les Saules\nDu 11 février au 11 mars 2019 – Maison de quartier Auguste Renoir \nDu 12 mars au 5 avril 2019 – Maison de quartier Joseph Kosma\nDu 8 avril au 6 mai 2019 – Espace Yves Montand \nDu 7 mai au 31 mai 2019 – Maison de quartier Théodore Monod
URL:https://www.yvelines-infos.fr/agenda/exposition-commemoration-du-centenaire-de-la-guerre-14-18/
LOCATION:Mezzanine de l’Hôtel de Ville de Guyancourt\, 14\, rue Ambroise-Croizat\, GUYANCOURT\, 78280
ATTACH;FMTTYPE=image/jpeg:https://www.yvelines-infos.fr/content/uploads/2018/monument.jpg
ORGANIZER;CN="Service%20Action%20Culturelle%20de%20Guyancourt":MAILTO:action.culturelle@ville-guyancourt.fr
END:VEVENT
END:VCALENDAR