BEGIN:VCALENDAR
VERSION:2.0
PRODID:-//Yvelines Infos - ECPv6.0.2//NONSGML v1.0//EN
CALSCALE:GREGORIAN
METHOD:PUBLISH
X-WR-CALNAME:Yvelines Infos
X-ORIGINAL-URL:https://www.yvelines-infos.fr
X-WR-CALDESC:Évènements pour Yvelines Infos
REFRESH-INTERVAL;VALUE=DURATION:PT1H
X-Robots-Tag:noindex
X-PUBLISHED-TTL:PT1H
BEGIN:VTIMEZONE
TZID:Europe/Paris
BEGIN:DAYLIGHT
TZOFFSETFROM:+0100
TZOFFSETTO:+0200
TZNAME:CEST
DTSTART:20190331T010000
END:DAYLIGHT
BEGIN:STANDARD
TZOFFSETFROM:+0200
TZOFFSETTO:+0100
TZNAME:CET
DTSTART:20191027T010000
END:STANDARD
END:VTIMEZONE
BEGIN:VEVENT
DTSTART;VALUE=DATE:20190626
DTEND;VALUE=DATE:20190629
DTSTAMP:20260423T020424
CREATED:20190426T103714Z
LAST-MODIFIED:20190426T103714Z
UID:358064-1561507200-1561766399@www.yvelines-infos.fr
SUMMARY:Scaling Business Summit
DESCRIPTION:Scaling Business Summit est un événement exclusif ouvert à une poignée de dirigeants visionnaires. Pendant 3 jours\, votre business est passé au crible par des intervenants de haut vol pour percer les plafonds de verre. C’est une opportunité en or d’obtenir des conseils personnalisés de pointures du monde de l’entreprise\, pour optimiser votre activité\, la rendre plus performante\, et surtout booster sa croissance ! \nNe ratez pas cet événement inédit en France\nScaling Business Summit c’est le meilleur investissement que vous ferez cet année pour donner un tournant à 360 à votre business.
URL:https://www.yvelines-infos.fr/agenda/scaling-business-summit/
LOCATION:Paris
ATTACH;FMTTYPE=image/png:https://www.yvelines-infos.fr/content/uploads/2019/logo-sbs-bleu.png
END:VEVENT
END:VCALENDAR