BEGIN:VCALENDAR
VERSION:2.0
PRODID:-//Yvelines Infos - ECPv6.0.2//NONSGML v1.0//EN
CALSCALE:GREGORIAN
METHOD:PUBLISH
X-WR-CALNAME:Yvelines Infos
X-ORIGINAL-URL:https://www.yvelines-infos.fr
X-WR-CALDESC:Évènements pour Yvelines Infos
REFRESH-INTERVAL;VALUE=DURATION:PT1H
X-Robots-Tag:noindex
X-PUBLISHED-TTL:PT1H
BEGIN:VTIMEZONE
TZID:Europe/Paris
BEGIN:DAYLIGHT
TZOFFSETFROM:+0100
TZOFFSETTO:+0200
TZNAME:CEST
DTSTART:20190331T010000
END:DAYLIGHT
BEGIN:STANDARD
TZOFFSETFROM:+0200
TZOFFSETTO:+0100
TZNAME:CET
DTSTART:20191027T010000
END:STANDARD
END:VTIMEZONE
BEGIN:VEVENT
DTSTART;TZID=Europe/Paris:20190215T203000
DTEND;TZID=Europe/Paris:20190215T223000
DTSTAMP:20260423T080555
CREATED:20190123T103750Z
LAST-MODIFIED:20190123T103750Z
UID:354982-1550262600-1550269800@www.yvelines-infos.fr
SUMMARY:La danse à travers les âges
DESCRIPTION:Un spectacle original qui invite le public à un plongeon enivrant dans le monde de la danse : co-organisé par une association de danse écossaise et une association de danse contemporaine parmi lesquelles se mêlent également deux troupes de danseurs professionnels.\nL’espace d’une soirée\, le public voyagera dans le temps depuis le 18ème siècle\, en passant par les années folles\, le rock’n roll\, jusqu’à aujourd’hui. \nMoment privilégié d’échange\, un cocktail avec les danseurs est prévu en fin de soirée.
URL:https://www.yvelines-infos.fr/agenda/la-danse-a-travers-les-ages/
LOCATION:Espace Pierre Delanoë\, 2 Place Victor Hugo\, FOURQUEUX\, 78 112
ATTACH;FMTTYPE=image/jpeg:https://www.yvelines-infos.fr/content/uploads/2019/spectacle-15-02-2019.jpg
ORGANIZER;CN="Sash%20%26amp%3B%20Sporran":MAILTO:spectacledansefourqueux@gmail.com
GEO:48.8870406;2.0632519
X-APPLE-STRUCTURED-LOCATION;VALUE=URI;X-ADDRESS=Espace Pierre Delanoë 2 Place Victor Hugo FOURQUEUX 78 112;X-APPLE-RADIUS=500;X-TITLE=2 Place Victor Hugo:geo:2.0632519,48.8870406
END:VEVENT
END:VCALENDAR