BEGIN:VCALENDAR
VERSION:2.0
PRODID:-//Yvelines Infos - ECPv6.0.2//NONSGML v1.0//EN
CALSCALE:GREGORIAN
METHOD:PUBLISH
X-ORIGINAL-URL:https://www.yvelines-infos.fr
X-WR-CALDESC:Évènements pour Yvelines Infos
REFRESH-INTERVAL;VALUE=DURATION:PT1H
X-Robots-Tag:noindex
X-PUBLISHED-TTL:PT1H
BEGIN:VTIMEZONE
TZID:Europe/Paris
BEGIN:DAYLIGHT
TZOFFSETFROM:+0100
TZOFFSETTO:+0200
TZNAME:CEST
DTSTART:20210328T010000
END:DAYLIGHT
BEGIN:STANDARD
TZOFFSETFROM:+0200
TZOFFSETTO:+0100
TZNAME:CET
DTSTART:20211031T010000
END:STANDARD
BEGIN:DAYLIGHT
TZOFFSETFROM:+0100
TZOFFSETTO:+0200
TZNAME:CEST
DTSTART:20220327T010000
END:DAYLIGHT
BEGIN:STANDARD
TZOFFSETFROM:+0200
TZOFFSETTO:+0100
TZNAME:CET
DTSTART:20221030T010000
END:STANDARD
END:VTIMEZONE
BEGIN:VEVENT
DTSTART;TZID=Europe/Paris:20220329T203000
DTEND;TZID=Europe/Paris:20220329T203000
DTSTAMP:20260422T220941
CREATED:20220126T132505Z
LAST-MODIFIED:20220126T132505Z
UID:382935-1648585800-1648585800@www.yvelines-infos.fr
SUMMARY:Laurent Sciamma - Bonhomme
DESCRIPTION:Spectacle très comique d’un jeune homme en quête de déconstruction. Et d’égalité. \nEt allez\, encore un artiste politiquement correct au service de la nouvelle terreur féministe ! Ne vous fiez pas à son air gentil et inoffensif : sous couvert d’humour\, Laurent Sciamma propose un stand-up dangereusement bien-pensant\, fait d’écriture inclusive et de rose pour nos garçons. Tout un programme. \nDurée : 1h30
URL:https://www.yvelines-infos.fr/agenda/laurent-sciamma-bonhomme/
LOCATION:Salle Jacques Brel\, 4 Rue de la Mare aux Carats\, Montigny-le-Bretonneux\, 78180
ATTACH;FMTTYPE=image/png:https://www.yvelines-infos.fr/content/uploads/2022/telechargement.png
ORGANIZER;CN="Salle%20Jacques%20Brel":MAILTO:culture@montigny78.fr
END:VEVENT
BEGIN:VEVENT
DTSTART;TZID=Europe/Paris:20220308T203000
DTEND;TZID=Europe/Paris:20220308T203000
DTSTAMP:20260422T220941
CREATED:20211220T100406Z
LAST-MODIFIED:20211220T100406Z
UID:382242-1646771400-1646771400@www.yvelines-infos.fr
SUMMARY:CHAGRIN D'ÉCOLE
DESCRIPTION:Un texte de Daniel Pennac\nAdaptation et interprétation de Laurent Natrella \nLaurent Natrella donne la parole aux mots de Daniel Pennac. Une photo de classe touchante et souriante.\nCancre de renommée avant de devenir professeur et auteur\, Daniel Pennac dessine ici un portrait à multiples visages de l’école en alternant souvenirs de son enfance et de son expérience professionnelle\, dans une succession de courts chapitres. À force d’anecdotes\, il dresse avec humour et tendresse un portrait du cancre\, presque universel\, profondément touchant\, tant ses souffrances semblent irrémédiables.\nSi\, le temps du spectacle seulement\, vous n’avez pas peur de redevenir élève\, entrez donc dans la classe « Chagrin d’école ». \nDurée : 1h05
URL:https://www.yvelines-infos.fr/agenda/chagrin-decole-3/
LOCATION:Salle Jacques Brel\, 4 rue de la Mare aux Carats\, Montigny Le Bretonneux\, 78180
ATTACH;FMTTYPE=image/jpeg:https://www.yvelines-infos.fr/content/uploads/2021/page26chagrindecolecvincentpontet-300.jpg
ORGANIZER;CN="Salle%20Jacques%20Brel":MAILTO:culture@montigny78.fr
END:VEVENT
BEGIN:VEVENT
DTSTART;TZID=Europe/Paris:20220215T203000
DTEND;TZID=Europe/Paris:20220215T203000
DTSTAMP:20260422T220941
CREATED:20211220T100417Z
LAST-MODIFIED:20211220T100417Z
UID:382233-1644957000-1644957000@www.yvelines-infos.fr
SUMMARY:AN IRISH STORY
DESCRIPTION:Une histoire irlandaise \nPeter O’Farrel\, né en Irlande\, disparaît à Londres dans les années 70. Qu’est-il devenu ? Kelly Ruisseau part à sa recherche. En cherchant avec obstination cet éternel absent\, Kelly fait revivre avec humour et émotion toute la famille marquée par l’exil et la disparition. \nDurée : 1h25
URL:https://www.yvelines-infos.fr/agenda/an-irish-story/
LOCATION:Salle Jacques Brel\, 4 rue de la Mare aux Carats\, Montigny Le Bretonneux\, 78180
ATTACH;FMTTYPE=image/jpeg:https://www.yvelines-infos.fr/content/uploads/2021/page16anirishstorycdavidjungman-300.jpg
ORGANIZER;CN="Salle%20Jacques%20Brel":MAILTO:culture@montigny78.fr
END:VEVENT
BEGIN:VEVENT
DTSTART;TZID=Europe/Paris:20220208T203000
DTEND;TZID=Europe/Paris:20220208T203000
DTSTAMP:20260422T220941
CREATED:20211220T100517Z
LAST-MODIFIED:20211220T100517Z
UID:382227-1644352200-1644352200@www.yvelines-infos.fr
SUMMARY:ON PURGE BÉBÉ
DESCRIPTION:De Georges Feydeau\nMise en scène par Emeline Bayart \nM. Follavoine\, un fabricant de porcelaine\, a invité à déjeuner Chouilloux\, fonctionnaire influent du Ministère des armées qui doit statuer sur l’acquisition par l’Armée française de pots en chambre destinés aux soldats. Il espère emporter le marché\, ayant mis au point un système de pots présumés incassables.\nPour mettre toutes les chances de son côté\, il a invité également Mme Chouilloux et son amant\, Horace Truchet. L’infortune conjugale de Chouilloux est en effet de notoriété publique\, seul ce dernier ignore la trahison. Mais un événement fâcheux va contrarier les plans de Follavoine… \nDurée : 1h20
URL:https://www.yvelines-infos.fr/agenda/on-purge-bebe/
LOCATION:Salle Jacques Brel\, 4 Rue de la Mare aux Carats\, Montigny-le-Bretonneux\, 78180
ATTACH;FMTTYPE=image/jpeg:https://www.yvelines-infos.fr/content/uploads/2021/233356442-318742579597546-3386730474893408703-n.jpg
ORGANIZER;CN="Salle%20Jacques%20Brel":MAILTO:culture@montigny78.fr
END:VEVENT
BEGIN:VEVENT
DTSTART;TZID=Europe/Paris:20220201T203000
DTEND;TZID=Europe/Paris:20220201T203000
DTSTAMP:20260422T220941
CREATED:20211220T100533Z
LAST-MODIFIED:20211220T100533Z
UID:382223-1643747400-1643747400@www.yvelines-infos.fr
SUMMARY:LE PETIT COIFFEUR
DESCRIPTION:Juillet 1944 : Chartres vient tout juste d’être libérée de l’Occupation allemande. Dans la famille Giraud\, on est coiffeur de père en fils\, et c’est donc Pierre qui a dû reprendre le salon « hommes » de son père\, mort dans un camp de travail un an plus tôt. Marie\, sa mère\, héroïne de la Résistance française\, s’occupe quant à elle du salon « femmes »\, mais se charge également de rabattre quelques clientes vers son fils\, pour se prêter à une activité tout à fait particulière… Tout est dans l’ordre des choses\, jusqu’à ce que Lise entre dans leur vie.
URL:https://www.yvelines-infos.fr/agenda/le-petit-coiffeur/
LOCATION:Salle Jacques Brel\, 4 rue de la Mare aux Carats\, Montigny Le Bretonneux\, 78180
ATTACH;FMTTYPE=image/jpeg:https://www.yvelines-infos.fr/content/uploads/2021/lepetitcoiffeur-300.jpg
ORGANIZER;CN="Salle%20Jacques%20Brel":MAILTO:culture@montigny78.fr
END:VEVENT
BEGIN:VEVENT
DTSTART;TZID=Europe/Paris:20220125T203000
DTEND;TZID=Europe/Paris:20220125T203000
DTSTAMP:20260422T220941
CREATED:20211220T100546Z
LAST-MODIFIED:20211220T100546Z
UID:382219-1643142600-1643142600@www.yvelines-infos.fr
SUMMARY:Bérengère Krief
DESCRIPTION:Comme son nom l’indique ce spectacle va parler essentiellement… D’amour.\nAAAAH l’amour ! C’est mon sujet préféré !\nJ’avoue autant je ne suis pas la première à participer aux réunions de syndic\, autant je suis la Secrétaire Générale de tous les débriefs du love ! C’est ce que j’aime\, partager\, c’est comme ça qu’on se rencontre. Et ça tombe bien parce qu’en 3ans d’absence\, j’ai eu le temps de rater mon mariage\, de perdre foi en l’humanité\, en l’amour et en moi. Du développement personnel en Ardèche au fin fond de l’Australie\, de Tinder au Cirque Pinder\, j’avoue de mon côté\, j’ai pas mal de choses à raconter. Hâte de vous retrouvez !
URL:https://www.yvelines-infos.fr/agenda/berengere-krief-2/
LOCATION:Salle Jacques Brel\, 4 rue de la Mare aux Carats\, Montigny Le Bretonneux\, 78180
ATTACH;FMTTYPE=image/jpeg:https://www.yvelines-infos.fr/content/uploads/2021/640-berengere-amour-01-20-c-lauragilli-98-cmjn.jpg
ORGANIZER;CN="Salle%20Jacques%20Brel":MAILTO:culture@montigny78.fr
END:VEVENT
BEGIN:VEVENT
DTSTART;TZID=Europe/Paris:20220111T203000
DTEND;TZID=Europe/Paris:20220111T203000
DTSTAMP:20260422T220941
CREATED:20211220T100554Z
LAST-MODIFIED:20211220T100554Z
UID:382214-1641933000-1641933000@www.yvelines-infos.fr
SUMMARY:MADAME FRAIZE
DESCRIPTION:Monsieur Fraize flotte dans une robe verte et fendue\, il chante l’amour et le manque. Peut-être a-t-il emprunté la robe de Madame Fraize pour mieux parler d’elle\, âme sœur et tout à la fois grand-mère\, sœur et marraine ? Madame Fraize est son épouse\, réelle  ou rêvée\, on ne connaîtra pas son nom. Elle le guide aujourd’hui. Elle le sociabilise. Enfant timide à vie\, il a vécu dans l’ombre de ses parents. Il vit aujourd’hui dans la lumière de sa compagne. \nDurée : 1h15
URL:https://www.yvelines-infos.fr/agenda/madame-fraize/
LOCATION:Salle Jacques Brel\, 4 rue de la Mare aux Carats\, Montigny Le Bretonneux\, 78180
ATTACH;FMTTYPE=image/jpeg:https://www.yvelines-infos.fr/content/uploads/2021/madamefraize-300.jpg
ORGANIZER;CN="Salle%20Jacques%20Brel":MAILTO:culture@montigny78.fr
END:VEVENT
BEGIN:VEVENT
DTSTART;TZID=Europe/Paris:20211123T200000
DTEND;TZID=Europe/Paris:20211123T200000
DTSTAMP:20260422T220941
CREATED:20211104T151945Z
LAST-MODIFIED:20211104T151945Z
UID:380649-1637697600-1637697600@www.yvelines-infos.fr
SUMMARY:Une Fille Dans Mon Arbre
DESCRIPTION:Syd ne connaît pas ses parents. Ils vivent quelque part en Australie. Comme d’hab\, il passe tout l’été chez son grand-père\, très occupé à penser le monde. Syd a un plan : creuser un tunnel pour rejoindre ses parents. Parce que l’Australie\, c’est tout droit. Son tunnel débute au pied du grand chêne\, au fond du jardin. Mais cette année\, il y a une fille dans son arbre : Lucille. Et elle a l’air décidé à rester. Deux solitudes peuvent-elles s’unir\, se soutenir\, créer un avenir ? Comment Imaginaire et Réalité s’épaulent-ils\, s’entremêlent-ils pour réinventer\, remodeler l’histoire ? \nTarif plein : 12.20€                                                                                                                                                                                                              Tarif réduit : 8.50€
URL:https://www.yvelines-infos.fr/agenda/une-fille-dans-mon-arbre-2/
LOCATION:Salle Jacques Brel\, 4 Rue de la Mare aux Carats\, Montigny-le-Bretonneux\, 78180
ATTACH;FMTTYPE=image/png:https://www.yvelines-infos.fr/content/uploads/2021/page41unefilledansmonarbrecopie-110.png
ORGANIZER;CN="Salle%20Jacques%20Brel":MAILTO:culture@montigny78.fr
END:VEVENT
BEGIN:VEVENT
DTSTART;TZID=Europe/Paris:20211123T200000
DTEND;TZID=Europe/Paris:20211123T200000
DTSTAMP:20260422T220941
CREATED:20211104T151939Z
LAST-MODIFIED:20211104T151939Z
UID:380651-1637697600-1637697600@www.yvelines-infos.fr
SUMMARY:Une Fille Dans Mon Arbre
DESCRIPTION:Syd ne connaît pas ses parents. Ils vivent quelque part en Australie. Comme d’hab\, il passe tout l’été chez son grand-père\, très occupé à penser le monde. Syd a un plan : creuser un tunnel pour rejoindre ses parents. Parce que l’Australie\, c’est tout droit. Son tunnel débute au pied du grand chêne\, au fond du jardin. Mais cette année\, il y a une fille dans son arbre : Lucille. Et elle a l’air décidé à rester. Deux solitudes peuvent-elles s’unir\, se soutenir\, créer un avenir ? Comment Imaginaire et Réalité s’épaulent-ils\, s’entremêlent-ils pour réinventer\, remodeler l’histoire ? \nTarif plein : 12.20€                                                                                                                                                                                                              Tarif réduit : 8.50€
URL:https://www.yvelines-infos.fr/agenda/une-fille-dans-mon-arbre/
LOCATION:Salle Jacques Brel\, 4 Rue de la Mare aux Carats\, Montigny-le-Bretonneux\, 78180
ATTACH;FMTTYPE=image/png:https://www.yvelines-infos.fr/content/uploads/2021/page41unefilledansmonarbrecopie-110-1.png
ORGANIZER;CN="Salle%20Jacques%20Brel":MAILTO:culture@montigny78.fr
END:VEVENT
BEGIN:VEVENT
DTSTART;TZID=Europe/Paris:20211116T203000
DTEND;TZID=Europe/Paris:20211116T223000
DTSTAMP:20260422T220941
CREATED:20211104T151950Z
LAST-MODIFIED:20211104T151950Z
UID:380646-1637094600-1637101800@www.yvelines-infos.fr
SUMMARY:Alexis HK
DESCRIPTION:Comme un ours\, Alexis HK sort de son hibernation créatrice après deux saisons de tournée triomphale avec  » Georges & moi  » pour retrouver son propre répertoire\, sa propre écriture\, sa musicalité unique.                                                                                                              » Mais comment ce détacher de la figure tutélaire de Tonton Georges ? Comment faire face\, après s’être endormi auprès de son arbre\, aux maux du monde d’aujourd’hui ? Comment faire avec la solitude qui remue le coeur ? Que faire de cette mélancolie qui nous hante sournoisement ? Comment affronter toutes ces ombres qui nous guettent ? Eh bien en faisant des chansons.  » \nTarif réduit : 17.50€                                                                                                                                                                                                              Tarif plein : 20.40€
URL:https://www.yvelines-infos.fr/agenda/alexis-hk/
LOCATION:Salle Jacques Brel\, 4 rue de la Mare aux Carats\, Montigny Le Bretonneux\, 78180
ATTACH;FMTTYPE=image/png:https://www.yvelines-infos.fr/content/uploads/2021/thumbnail-9.png
ORGANIZER;CN="Salle%20Jacques%20Brel":MAILTO:culture@montigny78.fr
END:VEVENT
END:VCALENDAR