BEGIN:VCALENDAR
VERSION:2.0
PRODID:-//Yvelines Infos - ECPv6.0.2//NONSGML v1.0//EN
CALSCALE:GREGORIAN
METHOD:PUBLISH
X-ORIGINAL-URL:https://www.yvelines-infos.fr
X-WR-CALDESC:Évènements pour Yvelines Infos
REFRESH-INTERVAL;VALUE=DURATION:PT1H
X-Robots-Tag:noindex
X-PUBLISHED-TTL:PT1H
BEGIN:VTIMEZONE
TZID:Europe/Paris
BEGIN:DAYLIGHT
TZOFFSETFROM:+0100
TZOFFSETTO:+0200
TZNAME:CEST
DTSTART:20170326T010000
END:DAYLIGHT
BEGIN:STANDARD
TZOFFSETFROM:+0200
TZOFFSETTO:+0100
TZNAME:CET
DTSTART:20171029T010000
END:STANDARD
BEGIN:DAYLIGHT
TZOFFSETFROM:+0100
TZOFFSETTO:+0200
TZNAME:CEST
DTSTART:20180325T010000
END:DAYLIGHT
BEGIN:STANDARD
TZOFFSETFROM:+0200
TZOFFSETTO:+0100
TZNAME:CET
DTSTART:20181028T010000
END:STANDARD
END:VTIMEZONE
BEGIN:VEVENT
DTSTART;TZID=Europe/Paris:20181202T160000
DTEND;TZID=Europe/Paris:20181202T173000
DTSTAMP:20260423T013036
CREATED:20181109T093913Z
LAST-MODIFIED:20181109T093913Z
UID:353601-1543766400-1543771800@www.yvelines-infos.fr
SUMMARY:‘La Boîte à joujoux’\, conte musical pour enfants de Claude Debussy
DESCRIPTION:La Boîte à joujoux’ conte musical pour enfants de Claude Debussy\, à Méré le Dimanche 2 décembre 2018\, à 16h00\, église Saint-Denis \nAvant les fêtes de Noël\, RITMY vous invite à assister en famille à un spectacle musical\, poétique et interactif ‘La Boîte à joujoux’\, conte musical composé en 1913 par Claude Debussy\, basé sur un livre illustré pour enfants d’André Hellé\, et dédié à sa fille « Chouchou » alors âgée de 7 ans. \nL’histoire en quatre tableaux se déroule dans une boîte à joujoux\, qui est « une sorte de ville dans laquelle les jouets vivent comme des personnes ». \nUn soldat de bois tombe amoureux d’une poupée qui a déjà donné son cœur à un polichinelle paresseux et querelleur. Après une grande bataille\, la poupée\, délaissée par polichinelle\, se marie finalement avec le soldat. Vivront-ils heureux ? Auront-ils beaucoup d’enfants ? \nOn retrouve dans la musique de Debussy une poésie douce et colorée\, tour à tour sautillante et mélancolique. \nLe spectacle\, plein de charme et fantaisie\, est interprété par Guillaume Adam au piano et Marc Sollogoub comédien-récitant\, dans une mise en scène de Henri de Vasselot. \nA l’approche des fêtes de fin d’année\, un moment de plaisir à partager en famille\, à partir de 6 ans (durée 50 minutes\, suivi d’un goûter). \nConcert organisé par RITMY et L’ASCL de Méré\, dans le cadre des 29° Saisons Musicales RITMY. \nTarifs : pour une place “enfant” à 13 €\, une place gratuite pour un adulte accompagnant. Adulte supplémentaire : 13 € \nInformations et réservations : www.ritmy.fr  /  contact.ritmy@gmail.com  / 06-60-42-19-43 ou 06-07-29-91-97
URL:https://www.yvelines-infos.fr/agenda/la-boite-a-joujoux-conte-musical-pour-enfants-de-claude-debussy/
LOCATION:Eglise Saint-Denis // Méré\, Place François Quesnay\, Méré\, 78490\, France
ATTACH;FMTTYPE=image/jpeg:https://www.yvelines-infos.fr/content/uploads/2018/lbaj-2-reduit.jpg
ORGANIZER;CN="RITMY":MAILTO:contact.ritmy@gmail.com
GEO:48.788375;1.819781
X-APPLE-STRUCTURED-LOCATION;VALUE=URI;X-ADDRESS=Eglise Saint-Denis // Méré Place François Quesnay Méré 78490 France;X-APPLE-RADIUS=500;X-TITLE=Place François Quesnay:geo:1.819781,48.788375
END:VEVENT
BEGIN:VEVENT
DTSTART;TZID=Europe/Paris:20181118T170000
DTEND;TZID=Europe/Paris:20181118T183000
DTSTAMP:20260423T013036
CREATED:20181017T093716Z
LAST-MODIFIED:20181017T093716Z
UID:353243-1542560400-1542565800@www.yvelines-infos.fr
SUMMARY:Le 'Rossfelder Guitar Quartet'
DESCRIPTION:Les Saisons Musicales RITMY accueillent à Houdan le ‘ROSSFELDER Guitar Quartet’\, un exceptionnel quatuor de guitares emmené par Emmanuel Rossfelder\, ‘Victoire de la Musique’ en 2004 et chef de file de la guitare classique en France. \nQuatre musiciens issus du CNSM de Paris\, où ils se sont imprégné des leçons de leur professeur et ‘maître’ Alexandre Lagoya ! \nEmmanuel Rossfelder\, Philippe Mariotti et Pascal Polidori perpétuent par leur art cette puissance sonore particulière permettant à la guitare de se faire entendre dans les plus grandes salles de concerts. \nLa très talentueuse Ekaterina Khoreva\, venue de Saint Pétersbourg\, lauréate de nombreux concours internationaux\, ajoute par sa sensibilité musicale et son charisme un souffle pétillant à ce cocktail artistique. \nAvec une virtuosité impressionnante et un plaisir évident à partager la scène\, ils nous interprèteront des œuvres de Vivaldi\, Bizet\, Ravel\, De Falla\, Carlos Gardel\, Piazzolla… \nConcert organisé par RITMY et l’Ecole de Musique de Houdan dans le cadre des 29° Saisons Musicales Ritmy. \nInformations et réservations : www.ritmy.fr / contact.ritmy@gmail.com / 06-08-02-22-22 \nTarifs : Normal : 20€ – Réduit (jeune de 12 à 25 ans\, famille nombreuse\, demandeur d’emploi) : 13€ – Groupe (minimum de 10 personnes) : 15€ – Gratuit pour les enfants de moins de 12 ans accompagnés.
URL:https://www.yvelines-infos.fr/agenda/le-rossfelder-guitar-quartet/
LOCATION:Eglise Saint Jacques // Houdan\, Grande rue\, Houdan\, 78550
ATTACH;FMTTYPE=image/jpeg:https://www.yvelines-infos.fr/content/uploads/2018/guitar-5-copie.jpg
ORGANIZER;CN="RITMY":MAILTO:contact.ritmy@gmail.com
GEO:48.7904148;1.6013481
X-APPLE-STRUCTURED-LOCATION;VALUE=URI;X-ADDRESS=Eglise Saint Jacques // Houdan Grande rue Houdan 78550;X-APPLE-RADIUS=500;X-TITLE=Grande rue:geo:1.6013481,48.7904148
END:VEVENT
BEGIN:VEVENT
DTSTART;TZID=Europe/Paris:20180121T170000
DTEND;TZID=Europe/Paris:20180121T190000
DTSTAMP:20260423T013036
CREATED:20180104T160238Z
LAST-MODIFIED:20180104T160242Z
UID:346226-1516554000-1516561200@www.yvelines-infos.fr
SUMMARY:‘Merrie Hot Melodies’ Jazz Orchestra\, la musique des « Années Folles »
DESCRIPTION:Le ‘Merrie Hot Melodies’ Jazz Orchestra\, la musique des « Années Folles »\, à Orgerus le Dimanche 21 janvier 2018 à 17h00\, salle du Pré-Romain \nLe « Merrie Hot Melodies » Jazz Orchestra\, dirigé par Marc Bresdin\, est un ‘big band’ de 14 musiciens habitués des jazz clubs parisiens et qui ont à leur actif de nombreux enregistrements\, et un danseur de claquettes ! \nL’Orchestre interprète le Jazz des années 20 et début des années 30\, et l’une des étapes importantes de l’histoire du Jazz : le ‘Jazz Hot’. \nC’est l’époque du Cotton Club\, de l’Apollo… des débuts de Duke Ellington\, Louis Armstrong\, ou Sydney Bechet… Ils jetteront les bases d’une musique qui va traverser le 20ème siècle et qui s’avère aujourd’hui incontournable. \nLe « Merrie Hot Melodies » nous fera redécouvrir cette musique des ‘Années Folles’ : des chefs-d’œuvre\, parfois méconnus\, une musique trépidante et communicative\, avec des arrangements d’époque retranscrits par Marc Bresdin qui font la part belle aux solistes (saxophone\, clarinette\, trombone\, piano…). \nUn big-band qui nous fera swinguer ! \nConcert organisé par RITMY et l’association BISCONCELLA d’Orgerus dans le cadre des 28° Saisons Musicales RITMY. \nTarifs : Normal : 20€ – Réduit (jeune de 12 à 25 ans\, famille nombreuse\, demandeur d’emploi) : 13€ – Groupe (minimum de 10 personnes) : 15€ – Gratuit pour les enfants de moins de 12 ans accompagnés. Abonnements possibles à partir de 3 concerts.
URL:https://www.yvelines-infos.fr/agenda/merrie-hot-melodies-jazz-orchestra-la-musique-des-annees-folles/
LOCATION:Salle du Pré Romain // Orgerus\, Route de Flexanville\, Orgerus\, 78910
ATTACH;FMTTYPE=image/jpeg:https://www.yvelines-infos.fr/content/uploads/2017/mhm-5-copie3-reduit.jpg
ORGANIZER;CN="RITMY":MAILTO:contact.ritmy@gmail.com
GEO:48.8413769;1.7073156
X-APPLE-STRUCTURED-LOCATION;VALUE=URI;X-ADDRESS=Salle du Pré Romain // Orgerus Route de Flexanville Orgerus 78910;X-APPLE-RADIUS=500;X-TITLE=Route de Flexanville:geo:1.7073156,48.8413769
END:VEVENT
BEGIN:VEVENT
DTSTART;TZID=Europe/Paris:20171210T170000
DTEND;TZID=Europe/Paris:20171210T183000
DTSTAMP:20260423T013036
CREATED:20171102T143710Z
LAST-MODIFIED:20171102T143710Z
UID:345183-1512925200-1512930600@www.yvelines-infos.fr
SUMMARY:Récital de piano François-Frédéric Guy
DESCRIPTION:Pour le 2e concert de sa « Carte blanche »\, le grand pianiste français François-Frédéric GUY nous offrira un récital Beethoven et Brahms. Pianiste exceptionnel\, de renommée internationale\, François-Frédéric GUY est reconnu comme un spécialiste du répertoire romantique allemand\, et en particulier de Beethoven dont il a enregistré les 5 concertos et l’intégrale de la musique de chambre. Mais aussi de Brahms\, l’autre grand compositeur germanique\, considéré comme le ‘successeur’ de Beethoven. Pour son récital de Méré\, François-Frédéric GUY a choisi de nous interpréter des œuvres emblématiques et remarquables de ses deux compositeurs de prédilection\, dont la célèbre sonate « Clair de lune » et les « Variations Eroica » de Beethoven. Un concert de toute beauté qu’il ne faut pas manquer. \nConcert organisé par RITMY et l’ASCL de Méré dans le cadre des 28° Saisons Musicales RITMY. \nTarifs : Normal : 20€ – Réduit (jeune de 12 à 25 ans\, famille nombreuse\, demandeur d’emploi) : 13€ – Groupe (minimum de 10 personnes) : 15€ – Gratuit pour les enfants de moins de 12 ans accompagnés. Abonnements possibles à partir de 3 concerts. \nInformations et réservations : www.ritmy.fr  /  contact.ritmy@gmail.com  / 06-07-29-91-97 ou 06-60-42-19-43
URL:https://www.yvelines-infos.fr/agenda/recital-de-piano-francois-frederic-guy/
LOCATION:Eglise Saint-Denis // Méré\, Place François Quesnay\, Méré\, 78490\, France
ATTACH;FMTTYPE=image/jpeg:https://www.yvelines-infos.fr/content/uploads/2017/Francois-Frederic-Guy-C.Doutre-1-copie2-portrait.jpeg
ORGANIZER;CN="RITMY":MAILTO:contact.ritmy@gmail.com
GEO:48.788375;1.819781
X-APPLE-STRUCTURED-LOCATION;VALUE=URI;X-ADDRESS=Eglise Saint-Denis // Méré Place François Quesnay Méré 78490 France;X-APPLE-RADIUS=500;X-TITLE=Place François Quesnay:geo:1.819781,48.788375
END:VEVENT
BEGIN:VEVENT
DTSTART;TZID=Europe/Paris:20171119T170000
DTEND;TZID=Europe/Paris:20171119T183000
DTSTAMP:20260423T013036
CREATED:20171017T094514Z
LAST-MODIFIED:20171017T094514Z
UID:344627-1511110800-1511116200@www.yvelines-infos.fr
SUMMARY:François-Frédéric Guy (piano) et Xavier Phillips (violoncelle)
DESCRIPTION:Dans le cadre des 28e « Saisons Musicales RITMY« \, une « Carte blanche » a été donnée pour deux concerts au grand pianiste français François-Frédéric GUY\, et pour son 1er rendez-vous à Neauphle-le-Château il a choisi d’inviter son complice de longue date le violoncelliste Xavier PHILLIPS\, avec qui il se produit régulièrement et a enregistré l’intégrale de la musique de chambre de Beethoven. \nPianiste exceptionnel\, de renommée internationale\, François-Frédéric GUY est considéré comme un spécialiste du répertoire romantique allemand\, en particulier de Beethoven dont il a également enregistré les 5 concertos\, ainsi que de Brahms. \nDisciple du maître Rostropovich qui a parachevé sa formation\, Xavier PHILLIPS est considéré comme l’un des plus grands violoncellistes français du moment. Avec François-Frédéric GUY\, ils ont récemment gravé les cinq sonates pour violoncelle et piano de Beethoven\, musiques visionnaires du compositeur allemand. \nCe sont 3 de ces sonates\, les n°3\, n°4 et n°5\, qu’ils nous interpréteront. Un grand moment d’émotion nous attend avec ce duo de virtuoses ! \nConcert organisé par RITMY et le Syndicat d’Initiative de Neauphle-le-Château.
URL:https://www.yvelines-infos.fr/agenda/francois-frederic-guy-piano-xavier-phillips-violoncelle/
LOCATION:Eglise Saint Nicolas // Neauphle-le-Château\, Neauphle-le-Château\, 78640\, France
ATTACH;FMTTYPE=image/jpeg:https://www.yvelines-infos.fr/content/uploads/2017/XP-FFG-Pilier-2-portrait.jpeg
ORGANIZER;CN="RITMY":MAILTO:contact.ritmy@gmail.com
GEO:48.813651;1.898749
END:VEVENT
END:VCALENDAR