BEGIN:VCALENDAR
VERSION:2.0
PRODID:-//Yvelines Infos - ECPv6.0.2//NONSGML v1.0//EN
CALSCALE:GREGORIAN
METHOD:PUBLISH
X-ORIGINAL-URL:https://www.yvelines-infos.fr
X-WR-CALDESC:Évènements pour Yvelines Infos
REFRESH-INTERVAL;VALUE=DURATION:PT1H
X-Robots-Tag:noindex
X-PUBLISHED-TTL:PT1H
BEGIN:VTIMEZONE
TZID:Europe/Paris
BEGIN:DAYLIGHT
TZOFFSETFROM:+0100
TZOFFSETTO:+0200
TZNAME:CEST
DTSTART:20180325T010000
END:DAYLIGHT
BEGIN:STANDARD
TZOFFSETFROM:+0200
TZOFFSETTO:+0100
TZNAME:CET
DTSTART:20181028T010000
END:STANDARD
END:VTIMEZONE
BEGIN:VEVENT
DTSTART;TZID=Europe/Paris:20180311T093000
DTEND;TZID=Europe/Paris:20180311T170000
DTSTAMP:20260423T080633
CREATED:20180307T092253Z
LAST-MODIFIED:20180307T092253Z
UID:348082-1520760600-1520787600@www.yvelines-infos.fr
SUMMARY:Semi-marathon de Rambouillet
DESCRIPTION:Pour la 31ème fois\, Rambouillet Olympique organise un semi-marathon à Rambouillet. \nParticulièrement attendu cette année après l’annulation de l’édition 2017 pour des raisons de sécurité\, la course se déroulera le 11 mars 2018. Situé 1/4 en ville et 3/4 en forêt\, le parcours plat de 21\,100 km (mesuré officiellement) traversera le parc du château puis se déroulera sur les routes et pistes cyclables goudronnées de la forêt de Rambouillet en une seule boucle. \nLe départ est prévu à 9h30 rue de l’Étang d’Or devant le stade du Vieux Moulin. \nLes inscriptions sont clôturées et aucune inscription ne se fera sur place. \nSemi-marathon de Rambouillet\, édition 2016 © CD78 / N.Duprey
URL:https://www.yvelines-infos.fr/agenda/semi-marathon-de-rambouillet/
LOCATION:Stade du Vieux Moulin\, 5 Rue de l'Étang d'Or\, Rambouillet\, 78120\, France
ATTACH;FMTTYPE=image/jpeg:https://www.yvelines-infos.fr/content/uploads/2018/semirambouillet.jpg
ORGANIZER;CN="Rambouillet%20Olympique":MAILTO:contact.rambouilletolympique@gmail.com
GEO:48.6342806;1.8323673
X-APPLE-STRUCTURED-LOCATION;VALUE=URI;X-ADDRESS=Stade du Vieux Moulin 5 Rue de l'Étang d'Or Rambouillet 78120 France;X-APPLE-RADIUS=500;X-TITLE=5 Rue de l'Étang d'Or:geo:1.8323673,48.6342806
END:VEVENT
END:VCALENDAR