BEGIN:VCALENDAR
VERSION:2.0
PRODID:-//Yvelines Infos - ECPv6.0.2//NONSGML v1.0//EN
CALSCALE:GREGORIAN
METHOD:PUBLISH
X-WR-CALNAME:Yvelines Infos
X-ORIGINAL-URL:https://www.yvelines-infos.fr
X-WR-CALDESC:Évènements pour Yvelines Infos
REFRESH-INTERVAL;VALUE=DURATION:PT1H
X-Robots-Tag:noindex
X-PUBLISHED-TTL:PT1H
BEGIN:VTIMEZONE
TZID:Europe/Paris
BEGIN:DAYLIGHT
TZOFFSETFROM:+0100
TZOFFSETTO:+0200
TZNAME:CEST
DTSTART:20190331T010000
END:DAYLIGHT
BEGIN:STANDARD
TZOFFSETFROM:+0200
TZOFFSETTO:+0100
TZNAME:CET
DTSTART:20191027T010000
END:STANDARD
BEGIN:DAYLIGHT
TZOFFSETFROM:+0100
TZOFFSETTO:+0200
TZNAME:CEST
DTSTART:20200329T010000
END:DAYLIGHT
BEGIN:STANDARD
TZOFFSETFROM:+0200
TZOFFSETTO:+0100
TZNAME:CET
DTSTART:20201025T010000
END:STANDARD
BEGIN:DAYLIGHT
TZOFFSETFROM:+0100
TZOFFSETTO:+0200
TZNAME:CEST
DTSTART:20210328T010000
END:DAYLIGHT
BEGIN:STANDARD
TZOFFSETFROM:+0200
TZOFFSETTO:+0100
TZNAME:CET
DTSTART:20211031T010000
END:STANDARD
END:VTIMEZONE
BEGIN:VEVENT
DTSTART;TZID=Europe/Paris:20211222T143000
DTEND;TZID=Europe/Paris:20211222T143000
DTSTAMP:20260423T092334
CREATED:20211220T100610Z
LAST-MODIFIED:20211220T100610Z
UID:382209-1640183400-1640183400@www.yvelines-infos.fr
SUMMARY:AÏLO\, UNE ODYSSÉE EN LAPONIE
DESCRIPTION:Le mercredi 22 décembre à 14h30\, le film « Aïlo\, une odyssée en Laponie » (tout public) sera diffusé au Carré des Mousquetaires. \nCe film raconte le combat pour la survie d’un petit renne sauvage\, frêle et vulnérable face aux épreuves qui jalonnent sa première année. Son éveil au monde sauvage est un véritable conte au cœur des paysages grandioses de Laponie. \nPass sanitaire dès 12 ans. Masque obligatoire pour les adultes et les enfants de 11ans et plus et respect des gestes barrières requis. \nTarif unique de 2€. Entrée du public 15min avant la séance.
URL:https://www.yvelines-infos.fr/agenda/ailo-une-odyssee-en-laponie/
LOCATION:Carré des Mousquetaires – 13 avenue simon vouet – 78560 le port-marly
ATTACH;FMTTYPE=image/jpeg:https://www.yvelines-infos.fr/content/uploads/2021/ailo.jpg
ORGANIZER;CN="Port%20Marly":MAILTO:culture@port-marly.fr
END:VEVENT
BEGIN:VEVENT
DTSTART;VALUE=DATE:20190214
DTEND;VALUE=DATE:20190225
DTSTAMP:20260423T092334
CREATED:20190206T112706Z
LAST-MODIFIED:20190206T112706Z
UID:355551-1550102400-1551052799@www.yvelines-infos.fr
SUMMARY:Megumi Nemo
DESCRIPTION:Son univers artistique\, empreint de poésie\, est peuplé de petits personnages\, lettres et messages. Avec un trait simple et parfois naïf\, en tout cas évocateur du monde de l’enfance\, Megumi exprime des situations cocasses\, surréalistes ou tragiques. Vernissage le 14 février à 19h.  \nLe 20 février\, l’artiste Megumi Nemo animera également un atelier à la médiathèque sur le thème de l’animal imaginaire\, accessible à partir de 5 ans. \nTarif : 5€. \nSessions à 14h ou 16h\, sur inscription au 01 39 16 44 01 ou sur le site du Port Marly (rubrique Accès Direct/ Inscription à un évènement). \nAu départ illustratrice pour enfants\, Megumi Nemo utilise aussi bien la peinture que la sculpture\, le collage ou encore la lithographie. Diplômée des Beaux-Arts de Tokyo\, elle a participé à plusieurs expositions\, performances et installations éphémères à Tokyo\, Paris\, Versailles ou Saint-Germain-en-Laye.
URL:https://www.yvelines-infos.fr/agenda/megumi-nemo/
LOCATION:Pavillon Corot\, 13 Avenue Simon Vouet\, Le Port Marly\, 78560\, France
ATTACH;FMTTYPE=image/jpeg:https://www.yvelines-infos.fr/content/uploads/2019/affiche-megumi-nemo-v1.jpg
ORGANIZER;CN="Port%20Marly":MAILTO:culture@port-marly.fr
END:VEVENT
END:VCALENDAR