BEGIN:VCALENDAR
VERSION:2.0
PRODID:-//Yvelines Infos - ECPv6.0.2//NONSGML v1.0//EN
CALSCALE:GREGORIAN
METHOD:PUBLISH
X-ORIGINAL-URL:https://www.yvelines-infos.fr
X-WR-CALDESC:Évènements pour Yvelines Infos
REFRESH-INTERVAL;VALUE=DURATION:PT1H
X-Robots-Tag:noindex
X-PUBLISHED-TTL:PT1H
BEGIN:VTIMEZONE
TZID:Europe/Paris
BEGIN:DAYLIGHT
TZOFFSETFROM:+0100
TZOFFSETTO:+0200
TZNAME:CEST
DTSTART:20180325T010000
END:DAYLIGHT
BEGIN:STANDARD
TZOFFSETFROM:+0200
TZOFFSETTO:+0100
TZNAME:CET
DTSTART:20181028T010000
END:STANDARD
BEGIN:DAYLIGHT
TZOFFSETFROM:+0100
TZOFFSETTO:+0200
TZNAME:CEST
DTSTART:20190331T010000
END:DAYLIGHT
BEGIN:STANDARD
TZOFFSETFROM:+0200
TZOFFSETTO:+0100
TZNAME:CET
DTSTART:20191027T010000
END:STANDARD
END:VTIMEZONE
BEGIN:VEVENT
DTSTART;VALUE=DATE:20190705
DTEND;VALUE=DATE:20190707
DTSTAMP:20260423T191914
CREATED:20190502T114059Z
LAST-MODIFIED:20190502T114059Z
UID:358249-1562284800-1562457599@www.yvelines-infos.fr
SUMMARY:La Tosca
DESCRIPTION:Venez vivre une soirée d’opéra magique sous les étoiles dans les plus beaux sites de France ! Pour la 19ème édition de cette aventure lyrique\, Opéra en Plein Air présente le chef-d’oeuvre mélodramatique de Giacomo Puccini\, Tosca\, dans une mise en scène d’Agnès Jaoui et sous la direction musicale de Yannis Pouspourikas. \nUne cantatrice amoureuse\, jalouse et impulsive\, un peintre romantique\, idéaliste et engagé\, un chef de la police sanguinaire et ambitieux : Puccini mêle avec art les ingrédients d’un mélodrame et compose l’opéra de l’opéra. Dans une Rome mythique mais réaliste\, les passions se heurtent et se déchirent\, l’érotique se confond avec le sacré\, l’amour avec la possession\, le théâtre avec la vie. Tout est tromperie dans Tosca : les belles dames qui viennent prier sont des conspiratrices\, les défaites sont des victoires et les fausses exécutions sont réelles. Une œuvre vertigineuse qui\, comme peu d’autres\, capture l’essence du théâtre lyrique. \nLA TOURNÉE : \nLes 14 & 15 juin au Domaine de Sceaux\nLes 27\, 28 & 29 juin au Château de Vincennes\nLes 5 & 6 juillet au Domaine National de Saint-Germain-En-Laye\nLes 4\, 5\, 6\, 7 & 8 septembre à l’Hôtel National des Invalides \n>Pour en savoir plus sur les lieux \nRÉSERVATION : \nPar téléphone : 01 82 28 19 59 (Opéra en Plein Air) ou 0 892 683 622 (FNAC\, 0\,40€/min + prix appel) \nEn ligne sur operaenpleinair.com ou fnacspectacles.com \nSur place dans votre FNAC la plus proche ou auprès d’Opéra en Plein Air\, 11 bis avenue Victor Hugo 75116 Paris \nINFORMATIONS : \nAccès aux gradins à partir de 19h\nDébut du spectacle à 20h30\nDurée du spectacle 3h dont 20 min d’entracte \n 
URL:https://www.yvelines-infos.fr/agenda/la-tosca/
LOCATION:château de Saint-Germain-en-Laye\, Place Charles de Gaulle\, Saint-Germain-en-Laye\, 78100\, France
ATTACH;FMTTYPE=image/png:https://www.yvelines-infos.fr/content/uploads/2019/capture-decran-2019-05-02-a-13-38-23.png
GEO:48.897442;2.0948517
X-APPLE-STRUCTURED-LOCATION;VALUE=URI;X-ADDRESS=château de Saint-Germain-en-Laye Place Charles de Gaulle Saint-Germain-en-Laye 78100 France;X-APPLE-RADIUS=500;X-TITLE=Place Charles de Gaulle:geo:2.0948517,48.897442
END:VEVENT
BEGIN:VEVENT
DTSTART;VALUE=DATE:20180706
DTEND;VALUE=DATE:20180708
DTSTAMP:20260423T191914
CREATED:20180516T080352Z
LAST-MODIFIED:20180618T095532Z
UID:350151-1530835200-1531007999@www.yvelines-infos.fr
SUMMARY:Carmen : opéra en plein air
DESCRIPTION:Pour la première fois cette saison\, le Domaine national de Saint-Germain-en-Laye accueille un opéra en plein air : le célèbre Carmen de Georges Bizet !  \nAncienne résidence de rois\, le château de Saint-Germain-en-Laye est au cœur de l’histoire de France puisque de nombreux traités de paix et d’édits royaux y ont été signés. Construit au Moyen-Âge\, puis incendié durant la guerre de Cent Ans\, c’est François Ier qui fit bâtir le château Renaissance tel qu’on le connaît aujourd’hui. En créant les fameux parterres à broderies que Le Nôtre\, commandité par Louis XIV\, redonna ses titres de noblesse à ces jardins exceptionnels. Ce joyau a traversé les époques pour y abriter désormais ses trésors grâce au Musée d’archéologie nationale. \nLe Département des Yvelines subventionne une partie de cette manifestation. Vous pouvez dès à présent réserver vos places sur le site officiel de l’Opéra en plein air.
URL:https://www.yvelines-infos.fr/agenda/carmen-opera-plein-air/
LOCATION:château de Saint-Germain-en-Laye\, Place Charles de Gaulle\, Saint-Germain-en-Laye\, 78100\, France
ATTACH;FMTTYPE=image/jpeg:https://www.yvelines-infos.fr/content/uploads/2018/carmen-bizet.jpg
GEO:48.897442;2.0948517
X-APPLE-STRUCTURED-LOCATION;VALUE=URI;X-ADDRESS=château de Saint-Germain-en-Laye Place Charles de Gaulle Saint-Germain-en-Laye 78100 France;X-APPLE-RADIUS=500;X-TITLE=Place Charles de Gaulle:geo:2.0948517,48.897442
END:VEVENT
END:VCALENDAR