BEGIN:VCALENDAR
VERSION:2.0
PRODID:-//Yvelines Infos - ECPv6.0.2//NONSGML v1.0//EN
CALSCALE:GREGORIAN
METHOD:PUBLISH
X-WR-CALNAME:Yvelines Infos
X-ORIGINAL-URL:https://www.yvelines-infos.fr
X-WR-CALDESC:Évènements pour Yvelines Infos
REFRESH-INTERVAL;VALUE=DURATION:PT1H
X-Robots-Tag:noindex
X-PUBLISHED-TTL:PT1H
BEGIN:VTIMEZONE
TZID:Europe/Paris
BEGIN:DAYLIGHT
TZOFFSETFROM:+0100
TZOFFSETTO:+0200
TZNAME:CEST
DTSTART:20170326T010000
END:DAYLIGHT
BEGIN:STANDARD
TZOFFSETFROM:+0200
TZOFFSETTO:+0100
TZNAME:CET
DTSTART:20171029T010000
END:STANDARD
BEGIN:DAYLIGHT
TZOFFSETFROM:+0100
TZOFFSETTO:+0200
TZNAME:CEST
DTSTART:20180325T010000
END:DAYLIGHT
BEGIN:STANDARD
TZOFFSETFROM:+0200
TZOFFSETTO:+0100
TZNAME:CET
DTSTART:20181028T010000
END:STANDARD
BEGIN:DAYLIGHT
TZOFFSETFROM:+0100
TZOFFSETTO:+0200
TZNAME:CEST
DTSTART:20190331T010000
END:DAYLIGHT
BEGIN:STANDARD
TZOFFSETFROM:+0200
TZOFFSETTO:+0100
TZNAME:CET
DTSTART:20191027T010000
END:STANDARD
END:VTIMEZONE
BEGIN:VEVENT
DTSTART;TZID=Europe/Paris:20190519T170000
DTEND;TZID=Europe/Paris:20190519T183000
DTSTAMP:20260423T032600
CREATED:20190424T092058Z
LAST-MODIFIED:20190424T092058Z
UID:357487-1558285200-1558290600@www.yvelines-infos.fr
SUMMARY:du Classicisme Allemand au Romantisme Français
DESCRIPTION:Avec Patricia Neels et Daniel Dato vous êtes conviés à un voyage musical à travers les œuvres de grands compositeurs classiques et romantiques. De Beethoven à Jules Massenet ou Camille Saint-Saens\, venez découvrir ou redécouvrir quelques grandes mélodies : la Méditation de Thais\, le Cygne du Carnaval des Animaux et quelques airs tziganes célèbres pour clôturer brillamment ce concert. \nPROGRAMME : \nLudwig Van Beethoven (1770-1827)\n  – Duo des Lunettes \nFranz Danzi (1763-1826)\n   – Sonate No. 3 \nJules Massenet (1842-1912)\n– Méditation de Thaïs\n \nCamille Saint Saëns (1835-1921)\n– Le Cygne\n \n  \nRenseignements utiles : \n\nTarif plein   :  20 €\nTarif réduit : 15 €\nEnfant (moins de 15 ans accompagné d’un adulte) : gratuit\n\n 
URL:https://www.yvelines-infos.fr/agenda/du-classicisme-allemand-au-romantisme-francais/
LOCATION:Eglise Saint Martin\, 11 rue Pierre Bonnard\, Jouy-en-Josas\, 78350
ATTACH;FMTTYPE=image/jpeg:https://www.yvelines-infos.fr/content/uploads/2019/image100-affiche-jouy-en-josas-19-mai.jpg
ORGANIZER;CN="Musique%20et%20Patrimoine%20en%20Haute%20Bi%C3%A8vre":MAILTO:musiquenbievre@gmx.fr
END:VEVENT
BEGIN:VEVENT
DTSTART;TZID=Europe/Paris:20190407T170000
DTEND;TZID=Europe/Paris:20190407T183000
DTSTAMP:20260423T032600
CREATED:20190320T140036Z
LAST-MODIFIED:20190320T140036Z
UID:356370-1554656400-1554661800@www.yvelines-infos.fr
SUMMARY:Florilège des Grands Compositeurs
DESCRIPTION:Le programme de ce récital en duo violon-alto est composé d’oeuvres emblématiques de grands compositeurs qui sont avant tout et pour la plupart de grands interprètes. Nous évoquerons intentionnellement des oeuvres de compositeurs nés avant\, pendant et après la période classique. \nA. CORELLI (1653-1713) \n\nLa Follia\n\nJ.S. BACH (1685-1750) \n\nInventions \nExtraits de Suites et Sonates\n\nG. F. HAENDEL (1685-1789) \n\n Passacaille (orchestration Johan Halvorsen)　\n\nWA. MOZART(1756-1791) \n\nAir de Chérubin (Noces de Figaro)\n\nN. PAGANINI (1782–1840) \n\nCaprices No 24 au violon et No 13 à l’alto\n\n  \nJ. BRAHMS (1833-1897) \n\nDanses Nos 1 et 5\n\n 
URL:https://www.yvelines-infos.fr/agenda/florilege-des-grands-compositeurs/
LOCATION:Maison Léon Blum\, 4 rue Léon Blum\, Jouy-en-Josas\, 78350
ATTACH;FMTTYPE=image/jpeg:https://www.yvelines-infos.fr/content/uploads/2019/image50affiche-maison-leon-blum-7-avril-2019.jpg
ORGANIZER;CN="Musique%20et%20Patrimoine%20en%20Haute%20Bi%C3%A8vre":MAILTO:musiquenbievre@gmx.fr
END:VEVENT
BEGIN:VEVENT
DTSTART;TZID=Europe/Paris:20190324T180000
DTEND;TZID=Europe/Paris:20190324T193000
DTSTAMP:20260423T032600
CREATED:20190219T162037Z
LAST-MODIFIED:20190219T162037Z
UID:355816-1553450400-1553455800@www.yvelines-infos.fr
SUMMARY:Concert Jazz Musiques Latines Musiques de Films
DESCRIPTION:Wayne Shorter \n\nAna Maria 　\n\nArthur Hamilton \n\nCry me a river (Arrangement Rafaël Dato)　\n\nSonny Rollins \n\nAiregin (Arrangement Guilhem Fourty)　\n\nMiles Davis \n\nSolar 　\n\nKeith jarrett (Concert à Cologne) \n\nMemories of tomorrow 　\n\nCedar Walton \n\nBolivia (Arrangement Aaron Parks)　\n\nBenny Golson \n\nWhisper not 　\n\nAntonio Carlos Jobim \n\nChega de Saudade　\n\nMichel Legrand \n\nLa chanson de Maxence\nLes demoiselles de Rochefort (Arrangement Bill Evans)\n\nRamin Djawadi \n\nGénérique de Game of thrones (Arrangement Rafaël Dato)\n\nChick Corea \n\nHumpty Dumpty\n\nJerome Kern \n\nAll the things (Arrangement Rafaël Dato)\n\n  \nRéservation : 06 45 15 59 98 \n 
URL:https://www.yvelines-infos.fr/agenda/concert-jazz-musiques-latines-musiques-de-films/
LOCATION:Temple Protestant de Jouy\, 5 rue du Temple\, Jouy-en-Josas\, 78350
ATTACH;FMTTYPE=image/jpeg:https://www.yvelines-infos.fr/content/uploads/2019/image50-affiche-temple-jouy-24-mars-2019.jpg
ORGANIZER;CN="Musique%20et%20Patrimoine%20en%20Haute%20Bi%C3%A8vre":MAILTO:musiquenbievre@gmx.fr
END:VEVENT
BEGIN:VEVENT
DTSTART;TZID=Europe/Paris:20190217T170000
DTEND;TZID=Europe/Paris:20190217T183000
DTSTAMP:20260423T032600
CREATED:20190110T125200Z
LAST-MODIFIED:20190110T125200Z
UID:354834-1550422800-1550428200@www.yvelines-infos.fr
SUMMARY:Viva l'Opéra
DESCRIPTION:1.Gaetano Donizetti (1797-1848) La Fille du Régiment \n     Nous sommes au Tyrol qui es occupé par les troupes Napoléoniennes.  Air de Marie « Il faut partir ». \n2.Giacomo Puccini (1856-1924) Turandot \nNous sommes à l’époque d’une Chine médiévale imaginaire. Air de Liù « Vous qui êtes de glace » \n3.Max Bruck (1838-1920) Romance opus 85 pour alto et orchestre \nSolo d’alto par Daniel Dato \n4.Giuseppe Verdi (1818-1901) Simon Boccanegra \nNous sommes à Gênes au XIVème. Air d’Amélia « Come in quest’ora bruna » \n5.Giacomo Puccini (1856-1924) La Bohème \nA Paris\, vers la fin du siècle dernier. Airs de Mimi « on m’appelle Mimi »\, « d’où elle est sortie heureuse à ton cri d’amour » \n6.Christoph Willibald Glück (1714-1787) Orphée et Eurydice \nLa danse des Esprits bienheureux\, solo de flûte : Franck Masquelier \n7.Giacomo Puccini (1856-1924) La Bohème \nValse de Musette « quand je m’en vais seule par les rues » \n8. Anton Dvorak (1841-1904) Russalka \nChanson à la lune. Russalka confie son amour\, pour un prince charmant\, à la lune argentée. \n 
URL:https://www.yvelines-infos.fr/agenda/viva-lopera/
LOCATION:Musée de la Toile de Jouy\, 54 rue Charles de Gaulle \, Jouy-en-Josas\, 78350\, France
ATTACH;FMTTYPE=image/jpeg:https://www.yvelines-infos.fr/content/uploads/2019/image50visuel-musee-de-la-toile-17-fevrier-2019.jpg
ORGANIZER;CN="Musique%20et%20Patrimoine%20en%20Haute%20Bi%C3%A8vre":MAILTO:musiquenbievre@gmx.fr
GEO:48.7691496;2.1532214
X-APPLE-STRUCTURED-LOCATION;VALUE=URI;X-ADDRESS=Musée de la Toile de Jouy 54 rue Charles de Gaulle  Jouy-en-Josas 78350 France;X-APPLE-RADIUS=500;X-TITLE=54 rue Charles de Gaulle:geo:2.1532214,48.7691496
END:VEVENT
BEGIN:VEVENT
DTSTART;TZID=Europe/Paris:20171126T160000
DTEND;TZID=Europe/Paris:20171126T173000
DTSTAMP:20260423T032600
CREATED:20170828T145035Z
LAST-MODIFIED:20170828T145053Z
UID:342607-1511712000-1511717400@www.yvelines-infos.fr
SUMMARY:Concert : Musique Classique « Splendeurs de la Musique Vocale Sacrée »
DESCRIPTION:JOCELYNE LUCAS\, soprano \nBÉNÉDICTE BARRIQUAND\, mezzo soprano \nSIMON EDWARDS\, ténor \nJEAN PHILIPPE DOUBRÈRE\, basse \nSTEPHANE RULLIERE : violon solo \nCOLLEGIUM MUSICUM DE VERSAILLES \nCHOEUR LE LOING EN BIEVRE\, M.H. COSPEN\, chef de choeur \nDANIEL DATO\, direction musicale \nJean Sébastien Bach\, \n-Concerto pour violon et orchestre à cordes en la mineur (BWV 1041). Le grand maître allemand\, inspiré par sa ferveur religieuse\, reprend la forme du concerto inventé par Vivaldi pour écrire une oeuvre d’une rare beauté. Stéphane RULLIERE\, violon – Extraits pour voix solistes du Magnificat\, de la Messe en Si et de la passion selon St Jean. Simon EDWARDS\, ténor\,  Jean Philippe DOUBRERE\, basse \nAntonio Vivaldi\, \n«Gloria» pour Chœur et Orchestre Rv 589. Une  grande  page de  la musique  sacrée.Vivaldi n’excellait pas  seulement  dans  l’art d’écrire et  de jouer  du violon mais également dans l’art vocal puisqu’il a composé plus de 400 opéras. Il n’en reste pas moins que ce Gloria RV 589 (2 seulement ont passé l’épreuve du temps)  est certainement la musique vocale sacrée la plus inspirée et la plus aboutie du Grand Maître Vénitien. Un véritable chef d’œuvre qu’interpréteront avec ferveur le choeur Le Loing en Bièvre bien expérimenté dans l’interprétation du répertoire sacré et emmené avec passion par  Marie-Hélène COSPEN son  chef  de  choeur  et  le  COLLEGIUM  MUSICUM  DE  VERSAILLES\,  ensemble  orchestral  constitué  des meilleurs jeunes musiciens issus des Conservatoires de Créteil\, de Versailles et de Paris sous la baguette de DANIEL DATO son directeur musical. \nConcert suivi d’un cocktail \nInfo pratiques : \n\nTarif plein : 20 €\nTarif réduit : 10 € (chômeurs\, étudiants)\, gratuit pour les moins de 15 ans\nGroupes de 7 personnes minimum : 17 €\nPrévente en ligne et par correspondance : réduction de 10 % sur le tarif plein\nen ligne sur www.musique-et-patrimoine-hb.fr ou placeminute.com. Règlement par carte bancaire\nPar correspondance : réservation préalable par téléphone au 06 07 79 19 53 et réglement par chèque à l’ordre de MPHB à adresser 8 jours avant le concert à : Association MPHB\, Mairie\, place le la Mairie\, 91570. BIEVRES\nChèques ANCV acceptés uniquement pour les achats de billets sur place ou par correspondance\n\n 
URL:https://www.yvelines-infos.fr/agenda/concert-musique-classique-splendeurs-de-musique-vocale-sacree/
LOCATION:Eglise Saint Martin\, 11 rue Paul Bonnard\, JOUY-en-JOSAS\, 78350\, France
ATTACH;FMTTYPE=image/jpeg:https://www.yvelines-infos.fr/content/uploads/2017/Affiche-Jouy-26-nov-def.jpg
ORGANIZER;CN="Musique%20et%20Patrimoine%20en%20Haute%20Bi%C3%A8vre":MAILTO:musiquenbievre@gmx.fr
GEO:48.7634091;2.1684294
X-APPLE-STRUCTURED-LOCATION;VALUE=URI;X-ADDRESS=Eglise Saint Martin 11 rue Paul Bonnard JOUY-en-JOSAS 78350 France;X-APPLE-RADIUS=500;X-TITLE=11 rue Paul Bonnard:geo:2.1684294,48.7634091
END:VEVENT
END:VCALENDAR