BEGIN:VCALENDAR
VERSION:2.0
PRODID:-//Yvelines Infos - ECPv6.0.2//NONSGML v1.0//EN
CALSCALE:GREGORIAN
METHOD:PUBLISH
X-ORIGINAL-URL:https://www.yvelines-infos.fr
X-WR-CALDESC:Évènements pour Yvelines Infos
REFRESH-INTERVAL;VALUE=DURATION:PT1H
X-Robots-Tag:noindex
X-PUBLISHED-TTL:PT1H
BEGIN:VTIMEZONE
TZID:Europe/Paris
BEGIN:DAYLIGHT
TZOFFSETFROM:+0100
TZOFFSETTO:+0200
TZNAME:CEST
DTSTART:20170326T010000
END:DAYLIGHT
BEGIN:STANDARD
TZOFFSETFROM:+0200
TZOFFSETTO:+0100
TZNAME:CET
DTSTART:20171029T010000
END:STANDARD
BEGIN:DAYLIGHT
TZOFFSETFROM:+0100
TZOFFSETTO:+0200
TZNAME:CEST
DTSTART:20180325T010000
END:DAYLIGHT
BEGIN:STANDARD
TZOFFSETFROM:+0200
TZOFFSETTO:+0100
TZNAME:CET
DTSTART:20181028T010000
END:STANDARD
BEGIN:DAYLIGHT
TZOFFSETFROM:+0100
TZOFFSETTO:+0200
TZNAME:CEST
DTSTART:20190331T010000
END:DAYLIGHT
BEGIN:STANDARD
TZOFFSETFROM:+0200
TZOFFSETTO:+0100
TZNAME:CET
DTSTART:20191027T010000
END:STANDARD
BEGIN:DAYLIGHT
TZOFFSETFROM:+0100
TZOFFSETTO:+0200
TZNAME:CEST
DTSTART:20200329T010000
END:DAYLIGHT
BEGIN:STANDARD
TZOFFSETFROM:+0200
TZOFFSETTO:+0100
TZNAME:CET
DTSTART:20201025T010000
END:STANDARD
BEGIN:DAYLIGHT
TZOFFSETFROM:+0100
TZOFFSETTO:+0200
TZNAME:CEST
DTSTART:20210328T010000
END:DAYLIGHT
BEGIN:STANDARD
TZOFFSETFROM:+0200
TZOFFSETTO:+0100
TZNAME:CET
DTSTART:20211031T010000
END:STANDARD
BEGIN:DAYLIGHT
TZOFFSETFROM:+0100
TZOFFSETTO:+0200
TZNAME:CEST
DTSTART:20220327T010000
END:DAYLIGHT
BEGIN:STANDARD
TZOFFSETFROM:+0200
TZOFFSETTO:+0100
TZNAME:CET
DTSTART:20221030T010000
END:STANDARD
END:VTIMEZONE
BEGIN:VEVENT
DTSTART;VALUE=DATE:20220221
DTEND;VALUE=DATE:20220307
DTSTAMP:20260422T115224
CREATED:20220216T112224Z
LAST-MODIFIED:20220216T112224Z
UID:383835-1645401600-1646611199@www.yvelines-infos.fr
SUMMARY:Stages et ateliers des vacances d'hiver au Musée Maurice Denis
DESCRIPTION:Pendant les vacances de février\, le Musée propose des stages et des ateliers d’arts plastiques pour petits et grands. Les participants sont invités à plonger dans les oeuvres de l’exposition avant de s’atteler à leurs propres réalisations sous les conseils d’artistes-plasticiens. \nStages et ateliers des vacances d’hiver au Musée Maurice Denis
URL:https://www.yvelines-infos.fr/agenda/stages-et-ateliers-des-vacances-dhiver-au-musee-maurice-denis/
LOCATION:musée départemental Maurice Denis\, Saint-Germain-en-laye\, 2 bis\, rue Maurice Denis \, Saint-Germain-en-Laye\, 78100\, France
ATTACH;FMTTYPE=image/jpeg:https://www.yvelines-infos.fr/content/uploads/2021/51233051862-b84fb72ee8-c.jpg
ORGANIZER;CN="Mus%C3%A9e%20d%C3%A9partemental%20Maurice%20Denis":MAILTO:lrimaux@yvelines.fr
GEO:48.8929785;2.0877236
X-APPLE-STRUCTURED-LOCATION;VALUE=URI;X-ADDRESS=musée départemental Maurice Denis Saint-Germain-en-laye 2 bis rue Maurice Denis  Saint-Germain-en-Laye 78100 France;X-APPLE-RADIUS=500;X-TITLE=2 bis\, rue Maurice Denis:geo:2.0877236,48.8929785
END:VEVENT
BEGIN:VEVENT
DTSTART;TZID=Europe/Paris:20211106T163000
DTEND;TZID=Europe/Paris:20211106T180000
DTSTAMP:20260422T115224
CREATED:20211022T091103Z
LAST-MODIFIED:20211022T091103Z
UID:380306-1636216200-1636221600@www.yvelines-infos.fr
SUMMARY:Maurice Denis\, intimités lecture-spectacle
DESCRIPTION:Sophie Lannay\, comédienne\, développe depuis quelques années des lectures en scène : théâtralisations de textes historiques qui permettent de découvrir autrement des personnalités aux noms familiers mais aux personnalités souvent étrangères : Le Corbusier\, Flaubert\, Schumann… \nLe Musée départemental Maurice Denis a invité Sophie Lannay à explorer ses archives et tout particulièrement le journal de Maurice Denis pour créer un spectacle au plus proche de l’intimité du peintre. Donnée dans les salles du Musée\, au milieu des tableaux de l’exposition Maurice Denis. Bonheur rêvé\, la lecture-spectacle invite à suivre le cheminement de la pensée de l’artiste\, depuis ses 14 ans jusqu’à sa mort accidentelle à 73 ans. Traitant indistinctement l’itinéraire de la vie personnelle de l’artiste et l’évolution de sa vision artistique\, le corpus de textes abordera la vocation\, l’éveil de l’amour\, la famille\, la guerre\, le deuil\, la reconnaissance\, la renaissance avec toujours en arrière-plan la présence lancinante de l’Art comme une vocation absolue sans concession. \nMaurice Denis\, intimités lecture-spectacle
URL:https://www.yvelines-infos.fr/agenda/maurice-denis-intimites-lecture-spectacle/
LOCATION:Musée Maurice Denis // St Germain-en-Laye\, 2 bis\, rue Maurice Denis\, Saint-Germain-en-Laye\, 78100\, France
ATTACH;FMTTYPE=image/jpeg:https://www.yvelines-infos.fr/content/uploads/2021/sophie-lannay-musee-maurice-denis-jean-pierre-porcher-04-scaled.jpg
ORGANIZER;CN="Mus%C3%A9e%20d%C3%A9partemental%20Maurice%20Denis":MAILTO:lrimaux@yvelines.fr
GEO:48.8929785;2.0877236
X-APPLE-STRUCTURED-LOCATION;VALUE=URI;X-ADDRESS=Musée Maurice Denis // St Germain-en-Laye 2 bis rue Maurice Denis Saint-Germain-en-Laye 78100 France;X-APPLE-RADIUS=500;X-TITLE=2 bis\, rue Maurice Denis:geo:2.0877236,48.8929785
END:VEVENT
BEGIN:VEVENT
DTSTART;TZID=Europe/Paris:20211002T193000
DTEND;TZID=Europe/Paris:20211003T010000
DTSTAMP:20260422T115224
CREATED:20210915T111317Z
LAST-MODIFIED:20210915T111317Z
UID:379013-1633203000-1633222800@www.yvelines-infos.fr
SUMMARY:Nuit Blanche - Visions Nocturnes
DESCRIPTION:Le musée Maurice Denis s’inscrit pour la première fois dans la programmation Off de la célèbre Nuit blanche du Grand Paris\, événement dédié à la création contemporaine. \nSur le thème « Visions nocturnes »\, les visiteurs sont invités à venir munis de leurs propres de pochepour déambuler dans le Musée et se laisser surprendre par des propositions artistiques originales\, qui investiront plusieurs espaces : \n· Le jardin : Des sculptures métalliques monumentales \nLes visiteurs croiseront sur leur chemin les œuvres monumentales de Joe Big Big\, artiste francilien originaire du Ghana. Ces œuvres empreintes d’humanité ont été créées avec des matériaux simples\, humbles\, issus du quotidien\, comme du fil de fer et du grillage. Les silhouettes des sculptures feront apparaître des personnages attachants où l’on retrouve une symbolique très forte autour de l’unité\, de la force et de la liberté. \n· La terrasse et cour Héraclès : Une performance de danse sur la terrasse \nUn duo de danseurs de la compagnie Pernette proposera une série d’extraits chorégraphiques issus de plusieurs de leurs spectacles. Des temps forts placés sous le signe de l’Etrange\, de la Sorcellerie\, des esprits fantomatiques et de la rencontre amoureuse… Des thématiques chères à Nathalie Pernette et qui résonnent particulièrement bien avec l’esprit et le mouvement de la nuit ! \n· Les salles d’exposition : Des interventions impromptues autour de la poésie dans les salles d’exposition \nDire la poésie\, seulement la poésie\, par cœur\, partout\, et par surprise ! Les Brigades d’interventions poétiques\, vous surprendront dans l’obscurité des salles d’exposition et vous feront vivre une expérience à la fois ludique\, intime et partagée. \nEntrée libre. Venir muni d’une lampe de poche. \n 
URL:https://www.yvelines-infos.fr/agenda/nuit-blanche-visions-nocturnes/
LOCATION:Musée Maurice Denis // St Germain-en-Laye\, 2 bis\, rue Maurice Denis\, Saint-Germain-en-Laye\, 78100\, France
ATTACH;FMTTYPE=image/jpeg:https://www.yvelines-infos.fr/content/uploads/2021/a3-nuit-blanche-mdenis-4-page-001.jpg
ORGANIZER;CN="Mus%C3%A9e%20d%C3%A9partemental%20Maurice%20Denis":MAILTO:lrimaux@yvelines.fr
GEO:48.8929785;2.0877236
X-APPLE-STRUCTURED-LOCATION;VALUE=URI;X-ADDRESS=Musée Maurice Denis // St Germain-en-Laye 2 bis rue Maurice Denis Saint-Germain-en-Laye 78100 France;X-APPLE-RADIUS=500;X-TITLE=2 bis\, rue Maurice Denis:geo:2.0877236,48.8929785
END:VEVENT
BEGIN:VEVENT
DTSTART;VALUE=DATE:20210605
DTEND;VALUE=DATE:20210621
DTSTAMP:20260422T115224
CREATED:20210512T093526Z
LAST-MODIFIED:20210611T133916Z
UID:375563-1622851200-1624233599@www.yvelines-infos.fr
SUMMARY:Juin au jardin
DESCRIPTION:Arès 3 ans de fermeture\, le jardin du Musée départemental Maurice Denis ouvre ses portes au public. Venez découvrir ou redécouvrir cet écrin de verdure dominé par une terrasse et un ancien hôpital du XVIIe siècle\, parsemé de sculptures et planté de grands arbres. Une véritable bulle de calme et de culture au cœur de Saint‑Germain‑en-Laye. \nVous pourrez y flâner mais aussi participer à de nombreuses activités gratuites concoctées par l’équipe du musée les week-ends du 5 au 20 juin. \nLe programme\n– Le 5-6 juin\, weekend « Rendez-vous aux jardins » : ateliers autour du jardinage\, visite guidée du jardin\, activités ludiques sur la nature et le jardin\, dédicace du livre Maurice Denis\, jardins… (en partenariat avec l’association BiodiverCités78 et la Micro-Folie de Saint-Germain-en-Laye) \n– Le 12-13 juin\, weekend « Bien-Être » : yoga en musique\, contes\, atelier de fabrication de peinture naturelle… (en partenariat avec les médiathèques de Saint-Germain-en-Laye et avec la participation du musicien Klaim Nivaux) \n– Samedi 19 juin : concert \n– Dimanche 20 juin : « Kermesse chez Maurice Denis » : la Compagnie de l’Histoire et des Arts proposera de plonger dans une fête champêtre en 1896 et conviera le public à un grand pique-nique. \nLa Petit Pâtisserie de Lili proposera un assortiment de pâtisseries et boissons (produits locaux et responsables) les après-midis des dimanches 6 et 12 juin et du samedi 19 juin. \nAfin de respecter la réglementation sanitaire de vigueur\, l’accès au jardin et aux activités sera soumis à des jauges maximums de visiteurs. La billetterie en ligne\, accessible depuis le site internet du musée\, permettra de réserver ses activités à partir du 15 mai. Les places restantes seront en libre accès. \nRetrouvez toutes les informations sur le site du musée. 
URL:https://www.yvelines-infos.fr/agenda/rendez-vous-aux-jardins/
LOCATION:Musée départemental Maurice Denis\, Saint-Germain-en-Laye\, 2 bis\, rue Maurice Denis\, Saint-Germain-en-Laye\, 78100\, France
ATTACH;FMTTYPE=image/jpeg:https://www.yvelines-infos.fr/content/uploads/2021/facebook-1200x630.jpg
ORGANIZER;CN="Mus%C3%A9e%20d%C3%A9partemental%20Maurice%20Denis":MAILTO:lrimaux@yvelines.fr
GEO:48.8929785;2.0877236
X-APPLE-STRUCTURED-LOCATION;VALUE=URI;X-ADDRESS=Musée départemental Maurice Denis Saint-Germain-en-Laye 2 bis rue Maurice Denis Saint-Germain-en-Laye 78100 France;X-APPLE-RADIUS=500;X-TITLE=2 bis\, rue Maurice Denis:geo:2.0877236,48.8929785
END:VEVENT
BEGIN:VEVENT
DTSTART;VALUE=DATE:20171127
DTEND;VALUE=DATE:20180701
DTSTAMP:20260422T115224
CREATED:20171123T145641Z
LAST-MODIFIED:20171123T145753Z
UID:345744-1511740800-1530403199@www.yvelines-infos.fr
SUMMARY:Fermeture hebdomadaire du musée départemental Maurice Denis le lundi et le mardi
DESCRIPTION:Pour améliorer les conditions de fonctionnement du musée et préparer au mieux les importants chantiers prévus dans l’établissement en 2018\, un deuxième jour de fermeture hebdomadaire du site aux visiteurs a été fixé. Le musée sera ainsi fermé à la visite le lundi et le mardi dès la dernière semaine de novembre 2017. \n Ces deux jours consécutifs de fermeture chaque semaine permettront tout d’abord d’améliorer l’entretien courant et la maintenance du site. Ils favoriseront aussi le bon fonctionnement du musée et le rendront plus attractif pour le public. \nEnfin ce nouveau rythme favorisera la préparation des chantiers programmés en 2018 : déménagement du centre de documentation\, transfert des réserves d’œuvres de la collection et première phase de rénovation du bâtiment principal\, afin d’accueillir les visiteurs dans de meilleures conditions. \n 
URL:https://www.yvelines-infos.fr/agenda/fermeture-hebdomadaire-musee-departemental-maurice-denis-lundi-mardi-a-partir-27-novembre-2017/
LOCATION:Musée départemental Maurice Denis\, Saint-Germain-en-Laye\, 2 bis\, rue Maurice Denis\, Saint-Germain-en-Laye\, 78100\, France
ATTACH;FMTTYPE=image/jpeg:https://www.yvelines-infos.fr/content/uploads/2017/facade-musee-Verticale.jpg
ORGANIZER;CN="Mus%C3%A9e%20d%C3%A9partemental%20Maurice%20Denis":MAILTO:lrimaux@yvelines.fr
GEO:48.8929785;2.0877236
X-APPLE-STRUCTURED-LOCATION;VALUE=URI;X-ADDRESS=Musée départemental Maurice Denis Saint-Germain-en-Laye 2 bis rue Maurice Denis Saint-Germain-en-Laye 78100 France;X-APPLE-RADIUS=500;X-TITLE=2 bis\, rue Maurice Denis:geo:2.0877236,48.8929785
END:VEVENT
BEGIN:VEVENT
DTSTART;TZID=Europe/Paris:20171024T140000
DTEND;TZID=Europe/Paris:20171102T170000
DTSTAMP:20260422T115224
CREATED:20171004T083700Z
LAST-MODIFIED:20171019T121814Z
UID:344185-1508853600-1509642000@www.yvelines-infos.fr
SUMMARY:Stages et ateliers des vacances de la Toussaint au musée maurice Denis
DESCRIPTION:Pendant les vacances de la Toussaint\, le Conseil départemental des Yvelines propose\, sur le site du Musée Maurice Denis\, des stages et des ateliers d’arts plastiques pour tous. A cette époque où la nature se pare de nouvelles couleurs\, les participants sont invités à suivre les « humeurs du ciel » et traduire leurs impressions avec des techniques artistiques très variées. \n\nStages arts plastiques « Par la fenêtre » : Ciel de beau temps\, ciel menaçant… Quelle est sa place du ciel dans un paysage ? Techniques mixtes (dessin\, peinture\, collage).\n\n\nStage enfants\, à partir de 7 ans : trois demi-journées les 24-25-26 octobre ou les 31 octobre-1er-2 novembre de 14h15 à 17h. Sur réservation. Forfait : 21 € les 3 séances.\n\n\nStage adultes et jeunes\, à partir de 13 ans : trois demi-journées les 31 octobre-1er– 2 novembre de 10h à 12h15. Sur réservation. Forfait : 21 € les 3 séances.\n\n\nAteliers  « Impressions d’automne » : Les artistes nabis ont orné des murs\, des objets… Les enfants créeront à leur tour des motifs décoratifs aux couleurs du temps. Enfants à partir de 7 ans. Séance de deux heures le 24\, 25\, 26\, 27 octobre ou le 3 novembre de 14h30 à 16h30. Sur réservation. Tarif : 7 €. \n\n\nAteliers « Couleurs du ciel » : Jeux de papiers froissés\, découpés\, colorés pour imaginer le ciel. Enfants de 4 à 6 ans. Séance d’une heure le 27\, 31 octobre ou 2 novembre de 14h30 à 15h30. Sur réservation. Tarif : 2\,50 €.\n\nRenseignements au 01 39 07 56 26 ou 01 39 07 87 87. Inscriptions en ligne sur le site du musée www.museemauricedenis.fr
URL:https://www.yvelines-infos.fr/agenda/stages-ateliers-vacances-de-toussaint-musee-maurice-denis/
LOCATION:Musée départemental Maurice Denis\, Saint-Germain-en-Laye\, 2 bis\, rue Maurice Denis\, Saint-Germain-en-Laye\, 78100\, France
ATTACH;FMTTYPE=image/jpeg:https://www.yvelines-infos.fr/content/uploads/2017/ateliers-ciels.jpg
ORGANIZER;CN="Mus%C3%A9e%20d%C3%A9partemental%20Maurice%20Denis":MAILTO:lrimaux@yvelines.fr
GEO:48.8929785;2.0877236
X-APPLE-STRUCTURED-LOCATION;VALUE=URI;X-ADDRESS=Musée départemental Maurice Denis Saint-Germain-en-Laye 2 bis rue Maurice Denis Saint-Germain-en-Laye 78100 France;X-APPLE-RADIUS=500;X-TITLE=2 bis\, rue Maurice Denis:geo:2.0877236,48.8929785
END:VEVENT
BEGIN:VEVENT
DTSTART;TZID=Europe/Paris:20171014T160000
DTEND;TZID=Europe/Paris:20171014T170000
DTSTAMP:20260422T115224
CREATED:20170925T091618Z
LAST-MODIFIED:20170925T091618Z
UID:343728-1507996800-1508000400@www.yvelines-infos.fr
SUMMARY:Conférence : "Maurice Denis illustrateur de livres"
DESCRIPTION:Samedi 14 octobre à 16 heures\, le musée départemental Maurice Denis vous invite à découvrir une part captivante de l’œuvre de l’artiste éponyme : son travail d’illustrateur de livres précieux. Pour cette occasion\, le musée sort de ses réserves la lithographie Une grâce sur la route\, créée par Maurice Denis pour illustrer les Poèmes de Francis Thompson\, recueil édité en 1942. \nClémence Gaboriau\, doctorante en histoire de l’art\, parlera de l’apport de Denis à l’art du livre illustré\, significatif d’une nouvelle ère de symbiose entre texte et image.
URL:https://www.yvelines-infos.fr/agenda/conference-maurice-denis-illustrateur-de-livres/
LOCATION:Musée départemental Maurice Denis\, Saint-Germain-en-Laye\, 2 bis\, rue Maurice Denis\, Saint-Germain-en-Laye\, 78100\, France
ATTACH;FMTTYPE=image/jpeg:https://www.yvelines-infos.fr/content/uploads/2017/PMD-002.1.82-R1_web.jpg
ORGANIZER;CN="Mus%C3%A9e%20d%C3%A9partemental%20Maurice%20Denis":MAILTO:lrimaux@yvelines.fr
GEO:48.8929785;2.0877236
X-APPLE-STRUCTURED-LOCATION;VALUE=URI;X-ADDRESS=Musée départemental Maurice Denis Saint-Germain-en-Laye 2 bis rue Maurice Denis Saint-Germain-en-Laye 78100 France;X-APPLE-RADIUS=500;X-TITLE=2 bis\, rue Maurice Denis:geo:2.0877236,48.8929785
END:VEVENT
BEGIN:VEVENT
DTSTART;TZID=Europe/Paris:20170711T141500
DTEND;TZID=Europe/Paris:20170831T170000
DTSTAMP:20260422T115224
CREATED:20170704T124342Z
LAST-MODIFIED:20170704T124342Z
UID:341249-1499782500-1504198800@www.yvelines-infos.fr
SUMMARY:Des activités pour les vacances d'été au musée Maurice Denis
DESCRIPTION:Pendant les vacances d’été\, le Conseil départemental propose sur le site du musée Maurice Denis à Saint-Germain-en-Laye une multitude d’activités\, au travers de stages\, d’ateliers d’arts plastiques et de séances d’initiation au yoga pour petits et grands. Le jardin sera à l’honneur pour la pratique du dessin et de la peinture et sera source de créativité dans un esprit de détente et de loisirs. \n\nStages arts plastiques « Apparitions »\, pour enfants à partir de 7 ans ou pour adultes et jeunes à partir de 13 ans.\nStages d’initiation à la gravure\, pour adultes et jeunes à partir de 12 ans;\nAteliers « Motifs de la nature »\, pour enfants à partir de 7 ans;\nAnimation « Au jardin des contes »\, pour les 4 à 7 ans.\nSéances de yoga dans le jardin \, pour adultes et jeunes à partir de 12 ans.\n\nTout l’été\, des parcours jeux sont également à la disposition des enfants pour découvrir les collections du musée en s’amusant ! \nRendez-vous sur le site du musée pour découvrir le programme détaillé et vous inscrire en ligne.
URL:https://www.yvelines-infos.fr/agenda/activites-vacances-dete-musee-maurice-denis/
LOCATION:musée départemental Maurice Denis\, Saint-Germain-en-laye\, 2 bis\, rue Maurice Denis \, Saint-Germain-en-Laye\, 78100\, France
ATTACH;FMTTYPE=image/jpeg:https://www.yvelines-infos.fr/content/uploads/2017/arton313.jpg
ORGANIZER;CN="Mus%C3%A9e%20d%C3%A9partemental%20Maurice%20Denis":MAILTO:lrimaux@yvelines.fr
GEO:48.8929785;2.0877236
X-APPLE-STRUCTURED-LOCATION;VALUE=URI;X-ADDRESS=musée départemental Maurice Denis Saint-Germain-en-laye 2 bis rue Maurice Denis  Saint-Germain-en-Laye 78100 France;X-APPLE-RADIUS=500;X-TITLE=2 bis\, rue Maurice Denis:geo:2.0877236,48.8929785
END:VEVENT
END:VCALENDAR