BEGIN:VCALENDAR
VERSION:2.0
PRODID:-//Yvelines Infos - ECPv6.0.2//NONSGML v1.0//EN
CALSCALE:GREGORIAN
METHOD:PUBLISH
X-WR-CALNAME:Yvelines Infos
X-ORIGINAL-URL:https://www.yvelines-infos.fr
X-WR-CALDESC:Évènements pour Yvelines Infos
REFRESH-INTERVAL;VALUE=DURATION:PT1H
X-Robots-Tag:noindex
X-PUBLISHED-TTL:PT1H
BEGIN:VTIMEZONE
TZID:Europe/Paris
BEGIN:DAYLIGHT
TZOFFSETFROM:+0100
TZOFFSETTO:+0200
TZNAME:CEST
DTSTART:20170326T010000
END:DAYLIGHT
BEGIN:STANDARD
TZOFFSETFROM:+0200
TZOFFSETTO:+0100
TZNAME:CET
DTSTART:20171029T010000
END:STANDARD
END:VTIMEZONE
BEGIN:VEVENT
DTSTART;TZID=Europe/Paris:20170603T100000
DTEND;TZID=Europe/Paris:20170604T180000
DTSTAMP:20260423T215209
CREATED:20170511T090330Z
LAST-MODIFIED:20170516T073530Z
UID:339109-1496484000-1496599200@www.yvelines-infos.fr
SUMMARY:"Rendez-vous aux jardins" au musée Maurice Denis
DESCRIPTION:Samedi 3 et dimanche 4 juin\, à l’occasion des « Rendez-vous aux jardins« \, le Conseil départemental vous invite à découvrir les jardins du musée Maurice Denis à Saint-Germain-en-Laye\, source d’inspiration artistique et espace de convivialité. \nAu programme\, des animations gratuites et sans réservation\, dans la limite des places disponibles : \n\nvisites guidées « Sur les pas de Maurice Denis » dans le jardin où le peintre a trouvé une inspiration pour nombre de ses œuvres. Samedi et dimanche à 14h30 et 16h. Durée : 1h15.\nateliers en famille « Le jardin des arts » : création d’un univers où le jardin se transforme en tableau à l’aide de pastels\, encres et papiers découpés ou froissés. Samedi et dimanche à 14h30 et 16h. Durée : 1h15.\nParcours jeux dans le jardin et circuits botaniques pour le jeune public.\n\n 
URL:https://www.yvelines-infos.fr/agenda/rendez-aux-jardins-musee-maurice-denis/
LOCATION:musée départemental Maurice Denis\, Saint-Germain-en-laye\, 2 bis\, rue Maurice Denis \, Saint-Germain-en-Laye\, 78100\, France
ATTACH;FMTTYPE=image/jpeg:https://www.yvelines-infos.fr/content/uploads/2017/rdd-aux-jardins.jpeg
ORGANIZER;CN="mus%C3%A9d%20d%C3%A9partemental%20Maurice%20Denis":MAILTO:museemauricedenis@yvelines.fr
GEO:48.8929785;2.0877236
X-APPLE-STRUCTURED-LOCATION;VALUE=URI;X-ADDRESS=musée départemental Maurice Denis Saint-Germain-en-laye 2 bis rue Maurice Denis  Saint-Germain-en-Laye 78100 France;X-APPLE-RADIUS=500;X-TITLE=2 bis\, rue Maurice Denis:geo:2.0877236,48.8929785
END:VEVENT
END:VCALENDAR