BEGIN:VCALENDAR
VERSION:2.0
PRODID:-//Yvelines Infos - ECPv6.0.2//NONSGML v1.0//EN
CALSCALE:GREGORIAN
METHOD:PUBLISH
X-ORIGINAL-URL:https://www.yvelines-infos.fr
X-WR-CALDESC:Évènements pour Yvelines Infos
REFRESH-INTERVAL;VALUE=DURATION:PT1H
X-Robots-Tag:noindex
X-PUBLISHED-TTL:PT1H
BEGIN:VTIMEZONE
TZID:Europe/Paris
BEGIN:DAYLIGHT
TZOFFSETFROM:+0100
TZOFFSETTO:+0200
TZNAME:CEST
DTSTART:20180325T010000
END:DAYLIGHT
BEGIN:STANDARD
TZOFFSETFROM:+0200
TZOFFSETTO:+0100
TZNAME:CET
DTSTART:20181028T010000
END:STANDARD
BEGIN:DAYLIGHT
TZOFFSETFROM:+0100
TZOFFSETTO:+0200
TZNAME:CEST
DTSTART:20190331T010000
END:DAYLIGHT
BEGIN:STANDARD
TZOFFSETFROM:+0200
TZOFFSETTO:+0100
TZNAME:CET
DTSTART:20191027T010000
END:STANDARD
END:VTIMEZONE
BEGIN:VEVENT
DTSTART;VALUE=DATE:20190604
DTEND;VALUE=DATE:20190605
DTSTAMP:20260423T004554
CREATED:20190521T141254Z
LAST-MODIFIED:20190529T160223Z
UID:358709-1559606400-1559692799@www.yvelines-infos.fr
SUMMARY:Imagine Mobility Forum 2019
DESCRIPTION:Organisé en partenariat avec le Département des Yvelines\, Imagine Mobility Forum est une convention annuelle qui réunit chaque année\, à l’ESTACA\, plus de 300 acteurs majeurs de la recherche et du développement autour des mobilités plus propres\, plus intelligentes et de préférence « made in France ». \nAu moment où des transformations profondes bouleversent la mobilité\, cette 7e édition sera l’occasion d’offrir une vision concrète et prospective des nouvelles solutions que nous avons à imaginer. Assurer la mobilité pour tous et pour tous les territoires\, notamment les zones rurales et périurbaines\, est une nécessité absolue. \nNous ne pouvons plus répondre aux enjeux de mobilité d’aujourd’hui et de demain en continuant à y apporter les réponses d’hier. Le développement de nouvelles offres\, la révolution digitale et la transition énergétique constituent un formidable potentiel pour répondre à cet enjeu majeur. C’est dans cet esprit que sera tiendra cette 7e édition\, avec les acteurs français et européens de la mobilité\, qui y partageront leur vision et leurs solutions au service d’une mobilité pour tous et pour tous les territoires. \nUn lieu unique où se réunissent chaque année les acteurs majeurs de la mobilité et l’automobile \nÀ l’issue de la journée\, seront décernés les Imagine Mobility Awards 2019\, récompensant les produits innovants issus des projets collaboratifs du pôle. \nLouis Schweitzer avait inauguré en 2015 la première édition de ces trophées\, et Henry Seydoux l’édition 2016 et Gérard Feldzer l’édition 2017 en récompensant Cityscoot et ecov\, dans les catégories « mobilité intelligente & connectée » et « mobilité propre & économe ». En 2018\, Rémi Bastien a récompensé Airweb et le CERTAM\, respectivement dans les catégories « Smart Mobility » et « Green Mobility ». \nPROGRAMME
URL:https://www.yvelines-infos.fr/agenda/imagine-mobility-forum-2019/
LOCATION:Campus Paris Saclay\, 12 Avenue Paul Delouvrier\, Montigny-le-Bretonneux\, 78180
ATTACH;FMTTYPE=image/png:https://www.yvelines-infos.fr/content/uploads/2019/capture-decran-2019-05-21-a-16-10-29.png
END:VEVENT
BEGIN:VEVENT
DTSTART;VALUE=DATE:20180607
DTEND;VALUE=DATE:20180608
DTSTAMP:20260423T004554
CREATED:20180604T102759Z
LAST-MODIFIED:20180604T102759Z
UID:350740-1528329600-1528415999@www.yvelines-infos.fr
SUMMARY:Imagine Mobility Forum
DESCRIPTION:Plus propre\, plus intelligente\, plus sûre et abordable pour tous : les citoyens\, les entreprises et les pouvoirs publics attendent beaucoup de la mobilité et des immenses possibilités offertes par les nouvelles technologies. \nLabellisé « Gold » par l’European Clusters Excellence Initiative cette année encore\, le pôle compétitivité Mov’eo compte parmi les plus performants clusters d’Europe. Depuis plus de 10 ans\, le pôle accompagne les entreprises à répondre à ces attentes\, tant en terme de R&D et d’innovation que de commercialisation. \nLa convention annuelle réunit chaque année plus de 300 acteurs majeurs de la R&D Automobile et Mobilité\, afin de faciliter le networking entre professionnels et experts. Cette journée est la promesse d’une réflexion prospecte sur la mobilité de demain : plus sûre\, plus intelligente\, plus propre et plus connectée. Les participants se réunissent autour d’une exposition de produits issus de projets R&D\, d’ateliers technologiques animés par des experts reconnus du secteur\, d’une conférence plénière prospective et internationale au cours de laquelle les trophées de la mobilité du pôle\, les Image Mobility Awards\, récompensent les meilleurs projets des membres.
URL:https://www.yvelines-infos.fr/agenda/imagine-mobility-forum/
LOCATION:Campus Paris Saclay\, 12 Avenue Paul Delouvrier\, Montigny-le-Bretonneux\, 78180
ATTACH;FMTTYPE=image/png:https://www.yvelines-infos.fr/content/uploads/2018/capture-decran-2018-06-04-a-12-09-30.png
END:VEVENT
END:VCALENDAR