BEGIN:VCALENDAR
VERSION:2.0
PRODID:-//Yvelines Infos - ECPv6.0.2//NONSGML v1.0//EN
CALSCALE:GREGORIAN
METHOD:PUBLISH
X-WR-CALNAME:Yvelines Infos
X-ORIGINAL-URL:https://www.yvelines-infos.fr
X-WR-CALDESC:Évènements pour Yvelines Infos
REFRESH-INTERVAL;VALUE=DURATION:PT1H
X-Robots-Tag:noindex
X-PUBLISHED-TTL:PT1H
BEGIN:VTIMEZONE
TZID:Europe/Paris
BEGIN:DAYLIGHT
TZOFFSETFROM:+0100
TZOFFSETTO:+0200
TZNAME:CEST
DTSTART:20220327T010000
END:DAYLIGHT
BEGIN:STANDARD
TZOFFSETFROM:+0200
TZOFFSETTO:+0100
TZNAME:CET
DTSTART:20221030T010000
END:STANDARD
END:VTIMEZONE
BEGIN:VEVENT
DTSTART;TZID=Europe/Paris:20220116T180000
DTEND;TZID=Europe/Paris:20220116T193000
DTSTAMP:20260423T031941
CREATED:20220126T132330Z
LAST-MODIFIED:20220126T132330Z
UID:382989-1642356000-1642361400@www.yvelines-infos.fr
SUMMARY:Collection Julie Manet
DESCRIPTION:Conférence – diaporama autour de l’exposition Julie Manet\, sa collection au musée Marmottan-Monet \nà la Maison des Loisirs de Chambourcy – 30\, rue Gramont \nEntrée 10 € – masque et passe sanitaire – \n 
URL:https://www.yvelines-infos.fr/agenda/collection-julie-manet/
LOCATION:Maison desLoisirs deChambourcy- 30\, rue Gramont\, 30\, rue Gramont\, CHAMBOURCY\, 78240
ATTACH;FMTTYPE=image/jpeg:https://www.yvelines-infos.fr/content/uploads/2022/0-julie-3-scaled.jpg
END:VEVENT
END:VCALENDAR