BEGIN:VCALENDAR
VERSION:2.0
PRODID:-//Yvelines Infos - ECPv6.0.2//NONSGML v1.0//EN
CALSCALE:GREGORIAN
METHOD:PUBLISH
X-ORIGINAL-URL:https://www.yvelines-infos.fr
X-WR-CALDESC:Évènements pour Yvelines Infos
REFRESH-INTERVAL;VALUE=DURATION:PT1H
X-Robots-Tag:noindex
X-PUBLISHED-TTL:PT1H
BEGIN:VTIMEZONE
TZID:Europe/Paris
BEGIN:DAYLIGHT
TZOFFSETFROM:+0100
TZOFFSETTO:+0200
TZNAME:CEST
DTSTART:20170326T010000
END:DAYLIGHT
BEGIN:STANDARD
TZOFFSETFROM:+0200
TZOFFSETTO:+0100
TZNAME:CET
DTSTART:20171029T010000
END:STANDARD
BEGIN:DAYLIGHT
TZOFFSETFROM:+0100
TZOFFSETTO:+0200
TZNAME:CEST
DTSTART:20180325T010000
END:DAYLIGHT
BEGIN:STANDARD
TZOFFSETFROM:+0200
TZOFFSETTO:+0100
TZNAME:CET
DTSTART:20181028T010000
END:STANDARD
BEGIN:DAYLIGHT
TZOFFSETFROM:+0100
TZOFFSETTO:+0200
TZNAME:CEST
DTSTART:20190331T010000
END:DAYLIGHT
BEGIN:STANDARD
TZOFFSETFROM:+0200
TZOFFSETTO:+0100
TZNAME:CET
DTSTART:20191027T010000
END:STANDARD
BEGIN:DAYLIGHT
TZOFFSETFROM:+0100
TZOFFSETTO:+0200
TZNAME:CEST
DTSTART:20200329T010000
END:DAYLIGHT
BEGIN:STANDARD
TZOFFSETFROM:+0200
TZOFFSETTO:+0100
TZNAME:CET
DTSTART:20201025T010000
END:STANDARD
BEGIN:DAYLIGHT
TZOFFSETFROM:+0100
TZOFFSETTO:+0200
TZNAME:CEST
DTSTART:20210328T010000
END:DAYLIGHT
BEGIN:STANDARD
TZOFFSETFROM:+0200
TZOFFSETTO:+0100
TZNAME:CET
DTSTART:20211031T010000
END:STANDARD
BEGIN:DAYLIGHT
TZOFFSETFROM:+0100
TZOFFSETTO:+0200
TZNAME:CEST
DTSTART:20220327T010000
END:DAYLIGHT
BEGIN:STANDARD
TZOFFSETFROM:+0200
TZOFFSETTO:+0100
TZNAME:CET
DTSTART:20221030T010000
END:STANDARD
END:VTIMEZONE
BEGIN:VEVENT
DTSTART;TZID=Europe/Paris:20220326T210000
DTEND;TZID=Europe/Paris:20220326T210000
DTSTAMP:20260422T234456
CREATED:20220322T141358Z
LAST-MODIFIED:20220322T141358Z
UID:384211-1648328400-1648328400@www.yvelines-infos.fr
SUMMARY:THE BROOKS
DESCRIPTION:De Montréal à Paris\, en passant par Copenhague\, le Maroc et le Mexique\, The Brooks cumulent les succès partout où ils passent\, laissant derrière eux un public captivé par leur talent et le dynamisme contagieux\, dignes des plus grands noms de la scène Funk \, Soul et R&B. Les prestations d’envergure s’accumulent au registre du groupe : de Osheaga\, au Festival de Jazz de Montréal\, en passant par la première partie de Charles Bradley et le Montreux Jazz Fest. \nUn échange d’énergie électrisant et dynamique. Une expérience de grooves funky et de soul lumineux. Véritable célébration collective du moment présent dans le respect des influences musicales mythiques d’un autre temps. \nImpossible de résister à l’appel du groove signé The Brooks.
URL:https://www.yvelines-infos.fr/agenda/the-brooks/
LOCATION:MJC/CS L’Usine à Chapeaux\, 32 rue Gambetta\, Rambouillet\, 78120\, France
ATTACH;FMTTYPE=image/jpeg:https://www.yvelines-infos.fr/content/uploads/2022/fmaidf0780019223-1.jpg
ORGANIZER;CN="MJC%2FCS%20L%27Usine%20%C3%A0%20Chapeaux":MAILTO:ateliers@usineachapeaux.fr
GEO:48.6466556;1.8275252
X-APPLE-STRUCTURED-LOCATION;VALUE=URI;X-ADDRESS=MJC/CS L’Usine à Chapeaux 32 rue Gambetta Rambouillet 78120 France;X-APPLE-RADIUS=500;X-TITLE=32 rue Gambetta:geo:1.8275252,48.6466556
END:VEVENT
BEGIN:VEVENT
DTSTART;TZID=Europe/Paris:20190518T150000
DTEND;TZID=Europe/Paris:20190518T180000
DTSTAMP:20260422T234456
CREATED:20190515T094705Z
LAST-MODIFIED:20190515T100147Z
UID:358607-1558191600-1558202400@www.yvelines-infos.fr
SUMMARY:Forum "Bouge ton été" à Rambouillet
DESCRIPTION:La MJC l’Usine à Chapeaux de Rambouillet organise\, samedi 18 mai 2019\, le forum Bouge ton été\, réservé aux jeunes de 16 à 25 ans. Au programme\, jobs d’été\, séjours en France ou à l’étranger et ateliers de recherche d’emploi.\n\n\n \nVous avez entre 16 et 25 ans et souhaitez préparer vos vacances d’été ? La MJC l’Usine à Chapeaux de Rambouillet organise le forum « Bouge ton été »\, samedi 18 mai 2019\, pour trouver un job\, une mission en chantier bénévole ou encore vous informer sur le Brevet d’aptitude aux fonctions d’animateur (Bafa) ou les séjours en France et à l’étranger. \nLes jeunes âgés de plus de 18 ans pourront rencontrer les recruteurs présents. \nDes ateliers de recherche d’emploi\, de rédaction de CV et de simulation d’entretien d’embauche seront également proposés. \nPenser à apporter son CV.
URL:https://www.yvelines-infos.fr/agenda/forum-bouge-ton-ete-a-rambouillet/
LOCATION:MJC/CS L’Usine à Chapeaux\, 32 rue Gambetta\, Rambouillet\, 78120\, France
ATTACH;FMTTYPE=image/jpeg:https://www.yvelines-infos.fr/content/uploads/2019/adult-advice-businesswoman-70292.jpg
ORGANIZER;CN="MJC%2FCS%20L%27Usine%20%C3%A0%20Chapeaux":MAILTO:ateliers@usineachapeaux.fr
GEO:48.6466556;1.8275252
X-APPLE-STRUCTURED-LOCATION;VALUE=URI;X-ADDRESS=MJC/CS L’Usine à Chapeaux 32 rue Gambetta Rambouillet 78120 France;X-APPLE-RADIUS=500;X-TITLE=32 rue Gambetta:geo:1.8275252,48.6466556
END:VEVENT
BEGIN:VEVENT
DTSTART;TZID=Europe/Paris:20170610T140000
DTEND;TZID=Europe/Paris:20170610T180000
DTSTAMP:20260422T234456
CREATED:20170530T095713Z
LAST-MODIFIED:20170530T095726Z
UID:339570-1497103200-1497117600@www.yvelines-infos.fr
SUMMARY:Fête de la MJC/CS L'Usine à Chapeaux  : "Venez découvrir l'Artisanat d'Art"
DESCRIPTION:Lors de cet après-midi de fête\, venez découvrir les ateliers d’artisanat d’Art qui sont proposés à l’année à la MJC/CS de Rambouillet. \n4h pour vous renseigner\, essayer et découvrir les créations des ateliers :\n– Couture (adultes & enfants)\n– Emaux (adultes)\n– Encadrement (adultes)\n– Peinture sur Porcelaine (adultes)\n– Poterie (adultes & enfants)\n– Reliure (adultes) \nVous pourrez également obtenir les jours et horaires des cours en prévision de votre inscription le samedi 1er juillet !
URL:https://www.yvelines-infos.fr/agenda/fete-de-mjccs-lusine-a-chapeaux-venez-decouvrir-lartisanat-dart/
LOCATION:MJC/CS L’Usine à Chapeaux\, 32 rue Gambetta\, Rambouillet\, 78120\, France
ATTACH;FMTTYPE=image/jpeg:https://www.yvelines-infos.fr/content/uploads/2017/usine-a-chapeaux-mjc.jpg
ORGANIZER;CN="MJC%2FCS%20L%27Usine%20%C3%A0%20Chapeaux":MAILTO:ateliers@usineachapeaux.fr
GEO:48.6466556;1.8275252
X-APPLE-STRUCTURED-LOCATION;VALUE=URI;X-ADDRESS=MJC/CS L’Usine à Chapeaux 32 rue Gambetta Rambouillet 78120 France;X-APPLE-RADIUS=500;X-TITLE=32 rue Gambetta:geo:1.8275252,48.6466556
END:VEVENT
END:VCALENDAR