BEGIN:VCALENDAR
VERSION:2.0
PRODID:-//Yvelines Infos - ECPv6.0.2//NONSGML v1.0//EN
CALSCALE:GREGORIAN
METHOD:PUBLISH
X-ORIGINAL-URL:https://www.yvelines-infos.fr
X-WR-CALDESC:Évènements pour Yvelines Infos
REFRESH-INTERVAL;VALUE=DURATION:PT1H
X-Robots-Tag:noindex
X-PUBLISHED-TTL:PT1H
BEGIN:VTIMEZONE
TZID:Europe/Paris
BEGIN:DAYLIGHT
TZOFFSETFROM:+0100
TZOFFSETTO:+0200
TZNAME:CEST
DTSTART:20180325T010000
END:DAYLIGHT
BEGIN:STANDARD
TZOFFSETFROM:+0200
TZOFFSETTO:+0100
TZNAME:CET
DTSTART:20181028T010000
END:STANDARD
BEGIN:DAYLIGHT
TZOFFSETFROM:+0100
TZOFFSETTO:+0200
TZNAME:CEST
DTSTART:20190331T010000
END:DAYLIGHT
BEGIN:STANDARD
TZOFFSETFROM:+0200
TZOFFSETTO:+0100
TZNAME:CET
DTSTART:20191027T010000
END:STANDARD
END:VTIMEZONE
BEGIN:VEVENT
DTSTART;VALUE=DATE:20190928
DTEND;VALUE=DATE:20191219
DTSTAMP:20260422T223523
CREATED:20191008T154809Z
LAST-MODIFIED:20191008T154809Z
UID:362353-1569628800-1576713599@www.yvelines-infos.fr
SUMMARY:Exposition L'Image Située
DESCRIPTION:L’Image Située\, exposition collective inaugurale de la saison 2019 – 2020\, confronte l’image à l’architecture monumentale de l’Onde signée Claude Vasconi. Elle prend pour point de départ la photographie\, et dans son sillage la représentation\, pour se mesurer à l’espace. \n\n\n\n\n\n\n  \nL’exposition réunit une scène et des pratiques de l’image qui actent définitivement la sortie du cadre et confrontent l’image à l’espace tridimensionnel. Remise en jeu de la prise de vue dans un contexte donné (Aurélie Pétrel)\, création d’un dispositif illusionniste où la photographie s’hybride au dessin (Constance Nouvel)\, jeux scénographiques semant le doute sur l’espace environnant (Jagna Ciuchta)\, relocalisation de l’image dans un corps (Estefania Peñafiel Loaiza)\, les images parfois prêtes à être activées ou performées malmènent le réel\, défient l’espace. La photographie dans le champ élargi prend possession des lieux. Les images mises sens dessus dessous sabotent la représentation. \n\navec  Xavier Antin\, Jagna Ciuchta\,\nConstance Nouvel\, Aurélie Pétrel\,\nEstefania Peñafiel Loaiza\, Diogo Pimentão
URL:https://www.yvelines-infos.fr/agenda/exposition-limage-situee/2019-09-28/
LOCATION:L'Onde Théâtre Centre d'art\, 8 bis\, avenue Louis Breguet\, Vélizy-Villacoublay\, France\, 78140
ATTACH;FMTTYPE=image/jpeg:https://www.yvelines-infos.fr/content/uploads/2019/estefania-penafiel-loiaza.jpg
ORGANIZER;CN="Micro%20Onde":MAILTO:microonde@londe.fr
GEO:48.7822173;2.1800377
X-APPLE-STRUCTURED-LOCATION;VALUE=URI;X-ADDRESS=L'Onde Théâtre Centre d'art 8 bis avenue Louis Breguet Vélizy-Villacoublay France 78140;X-APPLE-RADIUS=500;X-TITLE=8 bis\, avenue Louis Breguet:geo:2.1800377,48.7822173
END:VEVENT
BEGIN:VEVENT
DTSTART;TZID=Europe/Paris:20190118T193000
DTEND;TZID=Europe/Paris:20190118T213000
DTSTAMP:20260422T223523
CREATED:20190123T103756Z
LAST-MODIFIED:20190123T103756Z
UID:354952-1547839800-1547847000@www.yvelines-infos.fr
SUMMARY:Vernissage des expositions de Vivien Roubaud et d’Elsa Werth
DESCRIPTION:Vernissage des expositions\n« Vide secondaire » de Vivien Roubaud et « Temps partiel » d’Elsa Werth\nVendredi 18 janvier à 19h30*\nEntrée libre \n*Navette gratuite au départ de Paris-Concorde à 18h30\nRéservation obligatoire au 01-78-74-39-17 / 06-19-77-32-89 ou sur microonde@londe.fr \n————————————\nVivien Roubaud\, Vide secondaire \nLoin de vouloir susciter la fascination\, Vivien Roubaud\, attentif aux environnements techniques dans lesquels nos corps évoluent\, cherche à déplacer notre sens de l’observation et à faire naître la curiosité. Notre monde physique se révèle sous un jour nouveau. \nPour son exposition personnelle au Centre d’art de l’Onde\, Vide Secondaire\, Vivien Roubaud conçoit une proposition spécifique prenant l’air comme dénominateur commun. L’installation centrale quatre filins\, freins\, moteurs\, polyane\, quarante huit volts joue avec les conditions atmosphériques de la galerie. L’artiste présente également un projet inspiré par des techniques anciennes de fabrication d’ampoules à filament. \nhttps://www.londe.fr/spectacles/vivien-roubaud-vide-secondaire \n——————————————\nElsa Werth\, Temps partiel \nÀ l’Onde\, Elsa Werth propose de redonner à la Rue traversante des airs de rue\, en s’emparant des codes du monde du travail\, de la communication et du commerce. \nCet ensemble d’installations\, réparties sur la longueur et la hauteur de la Rue\, reprennent les formes et la disposition d’éléments urbains\, à la limite entre le signe\, le support et l’information. Comme souvent dans le travail d’Elsa Werth\, les pièces de Temps partiel sont à la fois d’une grande simplicité et intégrées à leur environnement. En changeant les habitudes d’exposition dans la Rue traversante\, ces œuvres en révèlent avec humour les aspects les plus inattendus. \nhttps://www.londe.fr/spectacles/elsa-werth-temps-partiel
URL:https://www.yvelines-infos.fr/agenda/vernissage-des-expositions-de-vivien-roubaud-et-delsa-werth/
LOCATION:L'Onde Théâtre Centre d'art\, 8 bis\, avenue Louis Breguet\, Vélizy-Villacoublay\, France\, 78140
ATTACH;FMTTYPE=image/jpeg:https://www.yvelines-infos.fr/content/uploads/2019/affichevrew.jpg
ORGANIZER;CN="Micro%20Onde":MAILTO:microonde@londe.fr
GEO:48.7822173;2.1800377
X-APPLE-STRUCTURED-LOCATION;VALUE=URI;X-ADDRESS=L'Onde Théâtre Centre d'art 8 bis avenue Louis Breguet Vélizy-Villacoublay France 78140;X-APPLE-RADIUS=500;X-TITLE=8 bis\, avenue Louis Breguet:geo:2.1800377,48.7822173
END:VEVENT
BEGIN:VEVENT
DTSTART;TZID=Europe/Paris:20181116T203000
DTEND;TZID=Europe/Paris:20181116T223000
DTSTAMP:20260422T223523
CREATED:20181113T102004Z
LAST-MODIFIED:20181113T102004Z
UID:353826-1542400200-1542407400@www.yvelines-infos.fr
SUMMARY:Confluence n°1 / Incidence 1327
DESCRIPTION:Dans le cadre de son exposition « Sous les lunes de Jupiter » à l’Onde\, Gwendoline Robin nous propose une dernière soirée de performance et de spectacle. \n  \nConfluence n°1 \nGwendoline Robin active une performance au coeur de son exposition Sous les lunes de Jupiter\, dans la Galerie de l’Onde. Dans une rencontre improvisée avec la chorégraphe Gaëlle Bourges et le musicien Stéphane Monteiro (a.k.a XtroniK)\, elle imagine un parcours qui s’ouvre et se resserre sous la pression des corps\, des matériaux et du son en mouvement. \nIncidence 1327 \nLa chorégraphe Gaëlle Bourges et la plasticienne Gwendoline Robin évoquent l’idylle de Pétrarque pour une dénommée Laure\, rencontrée le 6 avril 1327 à Avignon. Aujourd’hui encore\, on lit les poèmes du Canzoniere qu’elle lui a inspirés. Par l’histoire\, l’histoire de l’art\, la langue et les matières\, c’est la rencontre et ses effets aléatoires\, explosifs\, qui sont ici sondés.
URL:https://www.yvelines-infos.fr/agenda/confluence-n1-incidence-1327/
LOCATION:L'Onde Théâtre Centre d'art\, 8 bis\, avenue Louis Breguet\, Vélizy-Villacoublay\, France\, 78140
ATTACH;FMTTYPE=image/jpeg:https://www.yvelines-infos.fr/content/uploads/2018/38020288-953795428142659-3171179108612702208-o.jpg
ORGANIZER;CN="Micro%20Onde":MAILTO:microonde@londe.fr
GEO:48.7822173;2.1800377
X-APPLE-STRUCTURED-LOCATION;VALUE=URI;X-ADDRESS=L'Onde Théâtre Centre d'art 8 bis avenue Louis Breguet Vélizy-Villacoublay France 78140;X-APPLE-RADIUS=500;X-TITLE=8 bis\, avenue Louis Breguet:geo:2.1800377,48.7822173
END:VEVENT
END:VCALENDAR