BEGIN:VCALENDAR
VERSION:2.0
PRODID:-//Yvelines Infos - ECPv6.0.2//NONSGML v1.0//EN
CALSCALE:GREGORIAN
METHOD:PUBLISH
X-ORIGINAL-URL:https://www.yvelines-infos.fr
X-WR-CALDESC:Évènements pour Yvelines Infos
REFRESH-INTERVAL;VALUE=DURATION:PT1H
X-Robots-Tag:noindex
X-PUBLISHED-TTL:PT1H
BEGIN:VTIMEZONE
TZID:Europe/Paris
BEGIN:DAYLIGHT
TZOFFSETFROM:+0100
TZOFFSETTO:+0200
TZNAME:CEST
DTSTART:20210328T010000
END:DAYLIGHT
BEGIN:STANDARD
TZOFFSETFROM:+0200
TZOFFSETTO:+0100
TZNAME:CET
DTSTART:20211031T010000
END:STANDARD
BEGIN:DAYLIGHT
TZOFFSETFROM:+0100
TZOFFSETTO:+0200
TZNAME:CEST
DTSTART:20220327T010000
END:DAYLIGHT
BEGIN:STANDARD
TZOFFSETFROM:+0200
TZOFFSETTO:+0100
TZNAME:CET
DTSTART:20221030T010000
END:STANDARD
END:VTIMEZONE
BEGIN:VEVENT
DTSTART;TZID=Europe/Paris:20220522T180000
DTEND;TZID=Europe/Paris:20220522T200000
DTSTAMP:20260423T044112
CREATED:20220401T131224Z
LAST-MODIFIED:20220401T131224Z
UID:385128-1653242400-1653249600@www.yvelines-infos.fr
SUMMARY:Christophe Maé en concert
DESCRIPTION:La ville des Mureaux va vibrer aux sons de Christophe Maé à l’occasion de la célébration de ses 15 années de carrière. Ce beau parcours musical marqué par plusieurs succès a hissé l’artiste au plus haut niveau de sa carrière. \nPassionné de musique depuis l’adolescence\, Christophe Maé s’est essayé à de multiples instruments\, notamment la guitare\, la batterie et le violon\, tout en travaillant sa voix très tôt\, avec en tête les exemples de ses idoles Stevie Wonder ou Marvin Gaye. Ce n’est donc pas un hasard si Christophe Maé se tourne vers la soul et le Rythm and Blues. \nAprès des années à vivre de petits boulots en essayant de percer dans la musique\, Christophe Maé est remarqué par un certain Dove Attia. Ce dernier conseille au jeune chanteur de rejoindre le casting de la comédie musicale est tel qu’il propulse Christophe Maé sur le devant de la scène\, et lui permet par la suite d’entamer une prolifique carrière solo. \nEn 2007\, il peut enfin sortir un premier album solo\, MON PARADIS. Fort d’un grand succès\, il enchaîne avec une tournée qui s’étalera sur plus d’un an et rassemblera un million de spectateurs. \n15ans de carrière à ce jour et Christophe Maé a bien voulu communier avec son public à travers une grande tournée Anniversaire dans toute la France et pour l’occasion\, l’artiste a choisi de faire escale aux Mureaux pour la tournée anniversaire de « Mon Paradis ». \nLa ville des Mureaux vivra ce PARADIS musical avec Christophe Maé le dimanche 22 mai 2022 à partir de 18h. \nRéservez vos places en ligne ou dans le hall d’accueil de La Médiathèque – Rue Joseph-Hémard\n• mardi\, jeudi\, vendredi et dimanche : de 14h à 18h\n• mercredi : de 10h à 18h\n• samedi : de 10h à 13h et de 14h à 18h
URL:https://www.yvelines-infos.fr/agenda/christophe-mae-en-concert/
LOCATION:Gymnase Cosec Pablo Neruda\, Rue Salvador Allende\, Mureaux\, 78130
ATTACH;FMTTYPE=image/jpeg:https://www.yvelines-infos.fr/content/uploads/2022/christophe-mae-4236907124968034233.jpg
END:VEVENT
BEGIN:VEVENT
DTSTART;TZID=Europe/Paris:20220326T203000
DTEND;TZID=Europe/Paris:20220326T203000
DTSTAMP:20260423T044112
CREATED:20220322T150320Z
LAST-MODIFIED:20220322T150320Z
UID:384058-1648326600-1648326600@www.yvelines-infos.fr
SUMMARY:CALI
DESCRIPTION:Retour sur la route pour l’éternel « adulescent » de la chanson française : Cali revient bientôt avce un nouveau disque plein d’amour et de lumière ! Ce n’est pas un hasard si le mot heureux apparaît aussi régulièrement dans ses textes. Car si ce n’est le bonheur qui porte Cali dans sa course effrénée vers la pureté\, cela y ressemble beaucoup. Le chanteur\, désormais quinquagénaire\, s’est adjoint le talentueux Augustin Charnet\, jeune pianiste et compositeur touche-à-tout\, pour façonner ce nouvel opus en totale liberté. Une aventure de plus pour un homme solaire et ébloui par la vie\, libertaire et engagé\, têtu et poète. Cali nous embarque dans sa cavale\, tel un prêcheur de joie fulgurante\, un prescripteur d’émotions élégantes. Il n’a pas à nous le demander deux fois : on le suit avec allégresse !
URL:https://www.yvelines-infos.fr/agenda/cali/
LOCATION:C.O.S.E.C // Mureaux\, Rue Salvador Allende\, Les Mureaux\, 78130
ATTACH;FMTTYPE=image/jpeg:https://www.yvelines-infos.fr/content/uploads/2022/csm-2015-11-14-cali-fuseaux-saint-dizier-c-yann-orhan-d278a0a9ce.jpg
END:VEVENT
BEGIN:VEVENT
DTSTART;TZID=Europe/Paris:20211130T100000
DTEND;TZID=Europe/Paris:20211130T170000
DTSTAMP:20260423T044112
CREATED:20211021T132138Z
LAST-MODIFIED:20211021T132138Z
UID:380238-1638266400-1638291600@www.yvelines-infos.fr
SUMMARY:Le Cœur de ville des Mureaux met la bande-dessinée à l’honneur
DESCRIPTION:Exposition\, concours de cosplay\, stand de maquillage\, rencontre avec des dessinateurs professionnels… Le samedi 30 octobre\, le Cœur de ville des Mureaux mettra le 9ème art à l’honneur. Pour que chacun puisse profiter pleinement de ces animations\, la rue Paul Doumer sera en partie réservée aux piétons. Un évènement ludique et festif à partager en famille ! \nLe samedi 30 octobre\, venez à la rencontre du dessinateur François Plisson\, découvrez l’histoire de Spirou et Fantasio ou encore participez au grand concours de cosplay sur la Place de la Libération. \nDécouvrez ci-dessous le programme complet de cet évènement inédit : \n• Exposition « Super-héros d’argile »\nDu vendredi 22 octobre au samedi 30 octobre \nExposition de petits Super-héros d’argile réalisés par les enfants de 18 mois à 2 ans de 4 crèches de la ville\, dans le cadre du programme « Petites histoires de l’art » mis en place par la ville des Mureaux.\nMagasin Franprix – rue Paul-Doumer \n  \n• Exposition « Spirou à travers les âges »\nDu vendredi 22 octobre au samedi 30 octobre \nL’association Bulles de Mantes présente une exposition de reproductions de planches retraçant les albums « Spirou et Fantasio » qui auront marqué son histoire\, de ceux dessinés par Rob-Vel son créateur à celui d’Emile Bravo\, le dessinateur du dernier album en date.\nLibrairie Aptimots – 84\, boulevard Victor-Hugo \n  \n• Exposition et animations manga\nSamedi 30 octobre de 10h à 17h \nL’organisme France Japon – Rêves de Japon\, propose une exposition et des animations autour du manga.\nRue Paul-Doumer (en face de la boucherie de la Gare) \n  \n• Animations autour de la bande dessinée\nSamedi 30 octobre de 10h à 17h \nFrançois Plisson\, dessinateur des Éditions de La Fibule\, propose des animations autour de la bande dessinée.\nPlace du Chef de Gare (en face de la Librairie Aptimots) \n  \n• Déambulation de personnages\nSamedi 30 octobre de 10h à 17h \nDes super-héros Marvel\, de manga\, de bande dessinée déambulent la rue Paul-Doumer à la rencontre des passants. Déguisés ou non\, petits et grands sont invités à les accompagner dans leur balade et prendre des photos avec les personnages.\nRue Paul-Doumer et Place de la Libération \n  \n• Stand de maquillage\nSamedi 30 octobre de 10h à 12h et de 14h à 17h \nLes enfants peuvent se mettre dans la peau de leurs personnages préférés en se rendant au stand de maquillage. Ouvert à tous gratuitement.\nRue Paul-Doumer (en face de la boulangerie 5 Épis d’Or) \n  \n• Stand photocall\nSamedi 30 octobre de 10h à 17h \nVenez vous prendre en photo au stand de photocall pour immortaliser cette journée !\nRue Paul-Doumer (en face de la banque Caisse d’Epargne) \n  \n• Concours de cosplay\nSamedi 30 octobre à partir de 15h15 \nL’association Multiuniverse Fantasy Cosplay (AMF Cosplay) propose un concours de cosplay\, ouvert à tous à partir de 7 ans. Le principe ? Mettez-vous dans la peau de vos personnages préférés\, de manga\, bande dessinée ou de Marvel\, en revêtant leurs tenues.\nPlace de la Libération \n\nHoraires de passage des 7 à 12 ans : 15h15 à 15h45\nHoraires de passage des 13 à 16 ans : 15h45 à 16h15\nHoraires de passage des adultes (à partir de 17 ans) : 16h15 à 17h\n\nÀ l’issu de chaque passage\, le jury composé de 3 personnes (représentant des commerçants\, élu de la ville et représentant du Conseil municipal d’enfants) élira les 3 gagnants de chaque catégorie avant la remise des prix. Concours ouvert à tous\, dans la limite de 10 groupes (seul ou à plusieurs) par catégorie. \nInscriptions ouvertes jusqu’au vendredi 29 octobre (dans la limite des places restantes) \n\nà l’accueil de La Médiathèque (rue Joseph-Hémard)\npar mail\, en direction de l’association AMF Cosplay\, à : amfcosplay@gmail.com\n\nL’inscription est obligatoire et gratuite via le formulaire d’inscription. Chaque inscription sera étudiée avec attention (avec bande-son\, temps de passage\, images de référence\, etc.). Toute inscription incomplète ne sera pas prise en compte. \nVotre inscription sera confirmée directement lors de votre présentation à La Médiathèque ou par retour de mail\, si vous vous inscrivez en ligne. \nTéléchargez la fiche d’inscription au concours de cosplay \nConsultez le règlement du concours de cosplay
URL:https://www.yvelines-infos.fr/agenda/le-coeur-de-ville-des-mureaux-met-la-bande-dessinee-a-lhonneur/
LOCATION:Rue Paul Doumer\, Les Mureaux\, 78130
ATTACH;FMTTYPE=image/png:https://www.yvelines-infos.fr/content/uploads/2021/les-mureaux-en-bd-2635817351.png
END:VEVENT
END:VCALENDAR