BEGIN:VCALENDAR
VERSION:2.0
PRODID:-//Yvelines Infos - ECPv6.0.2//NONSGML v1.0//EN
CALSCALE:GREGORIAN
METHOD:PUBLISH
X-WR-CALNAME:Yvelines Infos
X-ORIGINAL-URL:https://www.yvelines-infos.fr
X-WR-CALDESC:Évènements pour Yvelines Infos
REFRESH-INTERVAL;VALUE=DURATION:PT1H
X-Robots-Tag:noindex
X-PUBLISHED-TTL:PT1H
BEGIN:VTIMEZONE
TZID:Europe/Paris
BEGIN:DAYLIGHT
TZOFFSETFROM:+0100
TZOFFSETTO:+0200
TZNAME:CEST
DTSTART:20180325T010000
END:DAYLIGHT
BEGIN:STANDARD
TZOFFSETFROM:+0200
TZOFFSETTO:+0100
TZNAME:CET
DTSTART:20181028T010000
END:STANDARD
END:VTIMEZONE
BEGIN:VEVENT
DTSTART;TZID=Europe/Paris:20180127T140000
DTEND;TZID=Europe/Paris:20180211T180000
DTSTAMP:20260423T105739
CREATED:20180130T150725Z
LAST-MODIFIED:20180130T151037Z
UID:346691-1517061600-1518372000@www.yvelines-infos.fr
SUMMARY:Exposition JORGE BORRÁS à la Maison de l' étang à Louveciennes
DESCRIPTION:Exposition JORGE BORRÁS à la Maison de l’ Étang à Louveciennes. Dessins – peintures – sculptures
URL:https://www.yvelines-infos.fr/agenda/exposition-jorge-borras-a-maison-de-l-etang-a-louveciennes/
LOCATION:Maison de l’Étang\, 4 rue de l'Étang\, Louveciennes\, 78430
ATTACH;FMTTYPE=image/jpeg:https://www.yvelines-infos.fr/content/uploads/2018/expo.jpg
GEO:48.8591476;2.1151101
X-APPLE-STRUCTURED-LOCATION;VALUE=URI;X-ADDRESS=Maison de l’Étang 4 rue de l'Étang Louveciennes 78430;X-APPLE-RADIUS=500;X-TITLE=4 rue de l'Étang:geo:2.1151101,48.8591476
END:VEVENT
END:VCALENDAR