BEGIN:VCALENDAR
VERSION:2.0
PRODID:-//Yvelines Infos - ECPv6.0.2//NONSGML v1.0//EN
CALSCALE:GREGORIAN
METHOD:PUBLISH
X-ORIGINAL-URL:https://www.yvelines-infos.fr
X-WR-CALDESC:Évènements pour Yvelines Infos
REFRESH-INTERVAL;VALUE=DURATION:PT1H
X-Robots-Tag:noindex
X-PUBLISHED-TTL:PT1H
BEGIN:VTIMEZONE
TZID:Europe/Paris
BEGIN:DAYLIGHT
TZOFFSETFROM:+0100
TZOFFSETTO:+0200
TZNAME:CEST
DTSTART:20210328T010000
END:DAYLIGHT
BEGIN:STANDARD
TZOFFSETFROM:+0200
TZOFFSETTO:+0100
TZNAME:CET
DTSTART:20211031T010000
END:STANDARD
END:VTIMEZONE
BEGIN:VEVENT
DTSTART;VALUE=DATE:20210708
DTEND;VALUE=DATE:20210824
DTSTAMP:20260422T153313
CREATED:20210609T142216Z
LAST-MODIFIED:20210609T142216Z
UID:376332-1625702400-1629763199@www.yvelines-infos.fr
SUMMARY:Mythologie noire
DESCRIPTION:Une exposition de Philippe Niorthe \nL’exposition Mythologie noire regroupe trois séries de photographies réalisées par Philippe Niorthe en 2005 et 2017 à Douala (Cameroun) et à Limay et Mantes la Jolie en 2020. Ces images sont des réflexions de l’artiste autour de la peau noire et de sa perception culturelle\, affective ou raciale. Elles questionnent l’idée du modèle occidental en s’appuyant sur la bouillonnante mythologie grecque et des débats sur les dieux et les déesses africaines\, partagés avec les modèles. Les séries évoquent l’intersectionnalité afin de mettre à distance la seule question de la race et d’évoquer le handicap\, le féminisme\, le jeune homme.
URL:https://www.yvelines-infos.fr/agenda/mythologie-noire/2021-07-08/
LOCATION:les Réservoirs\, 2 rue des réservoirs\, Limay\, 78520\, France
ATTACH;FMTTYPE=image/jpeg:https://www.yvelines-infos.fr/content/uploads/2021/194251886-1371095243261344-2213212706676833878-n.jpg
ORGANIZER;CN="mairie%20de%20Limay":MAILTO:lesreservoirs@ville-limay.fr
GEO:48.9964644;1.7335602
X-APPLE-STRUCTURED-LOCATION;VALUE=URI;X-ADDRESS=les Réservoirs 2 rue des réservoirs Limay 78520 France;X-APPLE-RADIUS=500;X-TITLE=2 rue des réservoirs:geo:1.7335602,48.9964644
END:VEVENT
BEGIN:VEVENT
DTSTART;TZID=Europe/Paris:20210704T163000
DTEND;TZID=Europe/Paris:20210704T180000
DTSTAMP:20260422T153313
CREATED:20210624T145527Z
LAST-MODIFIED:20210624T145527Z
UID:376786-1625416200-1625421600@www.yvelines-infos.fr
SUMMARY:Mythologie noire - Rendez-vous avec l'artiste
DESCRIPTION:Rencontre avec Philippe Niorthe pour échanger avec lui à propos de son exposition Mythologie noire\, présentée aux Réservoirs jusqu’au 11 juillet 2021. \nGratuit\, sur réservation : lesreservoirs@ville-limay.fr \nDossier de presse de l’exposition
URL:https://www.yvelines-infos.fr/agenda/mythologie-noire-rendez-vous-avec-lartiste/2021-07-04/
LOCATION:les Réservoirs\, 2 rue des réservoirs\, Limay\, 78520\, France
ATTACH;FMTTYPE=image/jpeg:https://www.yvelines-infos.fr/content/uploads/2021/194251886-1371095243261344-2213212706676833878-n-2.jpg
ORGANIZER;CN="mairie%20de%20Limay":MAILTO:lesreservoirs@ville-limay.fr
GEO:48.9964644;1.7335602
X-APPLE-STRUCTURED-LOCATION;VALUE=URI;X-ADDRESS=les Réservoirs 2 rue des réservoirs Limay 78520 France;X-APPLE-RADIUS=500;X-TITLE=2 rue des réservoirs:geo:1.7335602,48.9964644
END:VEVENT
BEGIN:VEVENT
DTSTART;VALUE=DATE:20210704
DTEND;VALUE=DATE:20210820
DTSTAMP:20260422T153313
CREATED:20210609T142216Z
LAST-MODIFIED:20210609T142216Z
UID:376331-1625356800-1629417599@www.yvelines-infos.fr
SUMMARY:Mythologie noire
DESCRIPTION:Une exposition de Philippe Niorthe \nL’exposition Mythologie noire regroupe trois séries de photographies réalisées par Philippe Niorthe en 2005 et 2017 à Douala (Cameroun) et à Limay et Mantes la Jolie en 2020. Ces images sont des réflexions de l’artiste autour de la peau noire et de sa perception culturelle\, affective ou raciale. Elles questionnent l’idée du modèle occidental en s’appuyant sur la bouillonnante mythologie grecque et des débats sur les dieux et les déesses africaines\, partagés avec les modèles. Les séries évoquent l’intersectionnalité afin de mettre à distance la seule question de la race et d’évoquer le handicap\, le féminisme\, le jeune homme.
URL:https://www.yvelines-infos.fr/agenda/mythologie-noire/2021-07-04/
LOCATION:les Réservoirs\, 2 rue des réservoirs\, Limay\, 78520\, France
ATTACH;FMTTYPE=image/jpeg:https://www.yvelines-infos.fr/content/uploads/2021/194251886-1371095243261344-2213212706676833878-n.jpg
ORGANIZER;CN="mairie%20de%20Limay":MAILTO:lesreservoirs@ville-limay.fr
GEO:48.9964644;1.7335602
X-APPLE-STRUCTURED-LOCATION;VALUE=URI;X-ADDRESS=les Réservoirs 2 rue des réservoirs Limay 78520 France;X-APPLE-RADIUS=500;X-TITLE=2 rue des réservoirs:geo:1.7335602,48.9964644
END:VEVENT
BEGIN:VEVENT
DTSTART;VALUE=DATE:20210703
DTEND;VALUE=DATE:20210819
DTSTAMP:20260422T153313
CREATED:20210609T142216Z
LAST-MODIFIED:20210609T142216Z
UID:376330-1625270400-1629331199@www.yvelines-infos.fr
SUMMARY:Mythologie noire
DESCRIPTION:Une exposition de Philippe Niorthe \nL’exposition Mythologie noire regroupe trois séries de photographies réalisées par Philippe Niorthe en 2005 et 2017 à Douala (Cameroun) et à Limay et Mantes la Jolie en 2020. Ces images sont des réflexions de l’artiste autour de la peau noire et de sa perception culturelle\, affective ou raciale. Elles questionnent l’idée du modèle occidental en s’appuyant sur la bouillonnante mythologie grecque et des débats sur les dieux et les déesses africaines\, partagés avec les modèles. Les séries évoquent l’intersectionnalité afin de mettre à distance la seule question de la race et d’évoquer le handicap\, le féminisme\, le jeune homme.
URL:https://www.yvelines-infos.fr/agenda/mythologie-noire/2021-07-03/
LOCATION:les Réservoirs\, 2 rue des réservoirs\, Limay\, 78520\, France
ATTACH;FMTTYPE=image/jpeg:https://www.yvelines-infos.fr/content/uploads/2021/194251886-1371095243261344-2213212706676833878-n.jpg
ORGANIZER;CN="mairie%20de%20Limay":MAILTO:lesreservoirs@ville-limay.fr
GEO:48.9964644;1.7335602
X-APPLE-STRUCTURED-LOCATION;VALUE=URI;X-ADDRESS=les Réservoirs 2 rue des réservoirs Limay 78520 France;X-APPLE-RADIUS=500;X-TITLE=2 rue des réservoirs:geo:1.7335602,48.9964644
END:VEVENT
BEGIN:VEVENT
DTSTART;VALUE=DATE:20210702
DTEND;VALUE=DATE:20210818
DTSTAMP:20260422T153313
CREATED:20210609T142216Z
LAST-MODIFIED:20210609T142216Z
UID:376329-1625184000-1629244799@www.yvelines-infos.fr
SUMMARY:Mythologie noire
DESCRIPTION:Une exposition de Philippe Niorthe \nL’exposition Mythologie noire regroupe trois séries de photographies réalisées par Philippe Niorthe en 2005 et 2017 à Douala (Cameroun) et à Limay et Mantes la Jolie en 2020. Ces images sont des réflexions de l’artiste autour de la peau noire et de sa perception culturelle\, affective ou raciale. Elles questionnent l’idée du modèle occidental en s’appuyant sur la bouillonnante mythologie grecque et des débats sur les dieux et les déesses africaines\, partagés avec les modèles. Les séries évoquent l’intersectionnalité afin de mettre à distance la seule question de la race et d’évoquer le handicap\, le féminisme\, le jeune homme.
URL:https://www.yvelines-infos.fr/agenda/mythologie-noire/2021-07-02/
LOCATION:les Réservoirs\, 2 rue des réservoirs\, Limay\, 78520\, France
ATTACH;FMTTYPE=image/jpeg:https://www.yvelines-infos.fr/content/uploads/2021/194251886-1371095243261344-2213212706676833878-n.jpg
ORGANIZER;CN="mairie%20de%20Limay":MAILTO:lesreservoirs@ville-limay.fr
GEO:48.9964644;1.7335602
X-APPLE-STRUCTURED-LOCATION;VALUE=URI;X-ADDRESS=les Réservoirs 2 rue des réservoirs Limay 78520 France;X-APPLE-RADIUS=500;X-TITLE=2 rue des réservoirs:geo:1.7335602,48.9964644
END:VEVENT
BEGIN:VEVENT
DTSTART;VALUE=DATE:20210701
DTEND;VALUE=DATE:20210817
DTSTAMP:20260422T153313
CREATED:20210609T142216Z
LAST-MODIFIED:20210609T142216Z
UID:376328-1625097600-1629158399@www.yvelines-infos.fr
SUMMARY:Mythologie noire
DESCRIPTION:Une exposition de Philippe Niorthe \nL’exposition Mythologie noire regroupe trois séries de photographies réalisées par Philippe Niorthe en 2005 et 2017 à Douala (Cameroun) et à Limay et Mantes la Jolie en 2020. Ces images sont des réflexions de l’artiste autour de la peau noire et de sa perception culturelle\, affective ou raciale. Elles questionnent l’idée du modèle occidental en s’appuyant sur la bouillonnante mythologie grecque et des débats sur les dieux et les déesses africaines\, partagés avec les modèles. Les séries évoquent l’intersectionnalité afin de mettre à distance la seule question de la race et d’évoquer le handicap\, le féminisme\, le jeune homme.
URL:https://www.yvelines-infos.fr/agenda/mythologie-noire/2021-07-01/
LOCATION:les Réservoirs\, 2 rue des réservoirs\, Limay\, 78520\, France
ATTACH;FMTTYPE=image/jpeg:https://www.yvelines-infos.fr/content/uploads/2021/194251886-1371095243261344-2213212706676833878-n.jpg
ORGANIZER;CN="mairie%20de%20Limay":MAILTO:lesreservoirs@ville-limay.fr
GEO:48.9964644;1.7335602
X-APPLE-STRUCTURED-LOCATION;VALUE=URI;X-ADDRESS=les Réservoirs 2 rue des réservoirs Limay 78520 France;X-APPLE-RADIUS=500;X-TITLE=2 rue des réservoirs:geo:1.7335602,48.9964644
END:VEVENT
BEGIN:VEVENT
DTSTART;TZID=Europe/Paris:20210627T163000
DTEND;TZID=Europe/Paris:20210627T180000
DTSTAMP:20260422T153313
CREATED:20210624T145527Z
LAST-MODIFIED:20210624T145527Z
UID:376785-1624811400-1624816800@www.yvelines-infos.fr
SUMMARY:Mythologie noire - Rendez-vous avec l'artiste
DESCRIPTION:Rencontre avec Philippe Niorthe pour échanger avec lui à propos de son exposition Mythologie noire\, présentée aux Réservoirs jusqu’au 11 juillet 2021. \nGratuit\, sur réservation : lesreservoirs@ville-limay.fr \nDossier de presse de l’exposition
URL:https://www.yvelines-infos.fr/agenda/mythologie-noire-rendez-vous-avec-lartiste/2021-06-27/
LOCATION:les Réservoirs\, 2 rue des réservoirs\, Limay\, 78520\, France
ATTACH;FMTTYPE=image/jpeg:https://www.yvelines-infos.fr/content/uploads/2021/194251886-1371095243261344-2213212706676833878-n-2.jpg
ORGANIZER;CN="mairie%20de%20Limay":MAILTO:lesreservoirs@ville-limay.fr
GEO:48.9964644;1.7335602
X-APPLE-STRUCTURED-LOCATION;VALUE=URI;X-ADDRESS=les Réservoirs 2 rue des réservoirs Limay 78520 France;X-APPLE-RADIUS=500;X-TITLE=2 rue des réservoirs:geo:1.7335602,48.9964644
END:VEVENT
BEGIN:VEVENT
DTSTART;VALUE=DATE:20210627
DTEND;VALUE=DATE:20210813
DTSTAMP:20260422T153313
CREATED:20210609T142216Z
LAST-MODIFIED:20210609T142216Z
UID:376327-1624752000-1628812799@www.yvelines-infos.fr
SUMMARY:Mythologie noire
DESCRIPTION:Une exposition de Philippe Niorthe \nL’exposition Mythologie noire regroupe trois séries de photographies réalisées par Philippe Niorthe en 2005 et 2017 à Douala (Cameroun) et à Limay et Mantes la Jolie en 2020. Ces images sont des réflexions de l’artiste autour de la peau noire et de sa perception culturelle\, affective ou raciale. Elles questionnent l’idée du modèle occidental en s’appuyant sur la bouillonnante mythologie grecque et des débats sur les dieux et les déesses africaines\, partagés avec les modèles. Les séries évoquent l’intersectionnalité afin de mettre à distance la seule question de la race et d’évoquer le handicap\, le féminisme\, le jeune homme.
URL:https://www.yvelines-infos.fr/agenda/mythologie-noire/2021-06-27/
LOCATION:les Réservoirs\, 2 rue des réservoirs\, Limay\, 78520\, France
ATTACH;FMTTYPE=image/jpeg:https://www.yvelines-infos.fr/content/uploads/2021/194251886-1371095243261344-2213212706676833878-n.jpg
ORGANIZER;CN="mairie%20de%20Limay":MAILTO:lesreservoirs@ville-limay.fr
GEO:48.9964644;1.7335602
X-APPLE-STRUCTURED-LOCATION;VALUE=URI;X-ADDRESS=les Réservoirs 2 rue des réservoirs Limay 78520 France;X-APPLE-RADIUS=500;X-TITLE=2 rue des réservoirs:geo:1.7335602,48.9964644
END:VEVENT
BEGIN:VEVENT
DTSTART;VALUE=DATE:20210626
DTEND;VALUE=DATE:20210812
DTSTAMP:20260422T153313
CREATED:20210609T142216Z
LAST-MODIFIED:20210609T142216Z
UID:376326-1624665600-1628726399@www.yvelines-infos.fr
SUMMARY:Mythologie noire
DESCRIPTION:Une exposition de Philippe Niorthe \nL’exposition Mythologie noire regroupe trois séries de photographies réalisées par Philippe Niorthe en 2005 et 2017 à Douala (Cameroun) et à Limay et Mantes la Jolie en 2020. Ces images sont des réflexions de l’artiste autour de la peau noire et de sa perception culturelle\, affective ou raciale. Elles questionnent l’idée du modèle occidental en s’appuyant sur la bouillonnante mythologie grecque et des débats sur les dieux et les déesses africaines\, partagés avec les modèles. Les séries évoquent l’intersectionnalité afin de mettre à distance la seule question de la race et d’évoquer le handicap\, le féminisme\, le jeune homme.
URL:https://www.yvelines-infos.fr/agenda/mythologie-noire/2021-06-26/
LOCATION:les Réservoirs\, 2 rue des réservoirs\, Limay\, 78520\, France
ATTACH;FMTTYPE=image/jpeg:https://www.yvelines-infos.fr/content/uploads/2021/194251886-1371095243261344-2213212706676833878-n.jpg
ORGANIZER;CN="mairie%20de%20Limay":MAILTO:lesreservoirs@ville-limay.fr
GEO:48.9964644;1.7335602
X-APPLE-STRUCTURED-LOCATION;VALUE=URI;X-ADDRESS=les Réservoirs 2 rue des réservoirs Limay 78520 France;X-APPLE-RADIUS=500;X-TITLE=2 rue des réservoirs:geo:1.7335602,48.9964644
END:VEVENT
BEGIN:VEVENT
DTSTART;VALUE=DATE:20210625
DTEND;VALUE=DATE:20210811
DTSTAMP:20260422T153313
CREATED:20210609T142216Z
LAST-MODIFIED:20210609T142216Z
UID:376325-1624579200-1628639999@www.yvelines-infos.fr
SUMMARY:Mythologie noire
DESCRIPTION:Une exposition de Philippe Niorthe \nL’exposition Mythologie noire regroupe trois séries de photographies réalisées par Philippe Niorthe en 2005 et 2017 à Douala (Cameroun) et à Limay et Mantes la Jolie en 2020. Ces images sont des réflexions de l’artiste autour de la peau noire et de sa perception culturelle\, affective ou raciale. Elles questionnent l’idée du modèle occidental en s’appuyant sur la bouillonnante mythologie grecque et des débats sur les dieux et les déesses africaines\, partagés avec les modèles. Les séries évoquent l’intersectionnalité afin de mettre à distance la seule question de la race et d’évoquer le handicap\, le féminisme\, le jeune homme.
URL:https://www.yvelines-infos.fr/agenda/mythologie-noire/2021-06-25/
LOCATION:les Réservoirs\, 2 rue des réservoirs\, Limay\, 78520\, France
ATTACH;FMTTYPE=image/jpeg:https://www.yvelines-infos.fr/content/uploads/2021/194251886-1371095243261344-2213212706676833878-n.jpg
ORGANIZER;CN="mairie%20de%20Limay":MAILTO:lesreservoirs@ville-limay.fr
GEO:48.9964644;1.7335602
X-APPLE-STRUCTURED-LOCATION;VALUE=URI;X-ADDRESS=les Réservoirs 2 rue des réservoirs Limay 78520 France;X-APPLE-RADIUS=500;X-TITLE=2 rue des réservoirs:geo:1.7335602,48.9964644
END:VEVENT
BEGIN:VEVENT
DTSTART;VALUE=DATE:20210624
DTEND;VALUE=DATE:20210810
DTSTAMP:20260422T153313
CREATED:20210609T142216Z
LAST-MODIFIED:20210609T142216Z
UID:376324-1624492800-1628553599@www.yvelines-infos.fr
SUMMARY:Mythologie noire
DESCRIPTION:Une exposition de Philippe Niorthe \nL’exposition Mythologie noire regroupe trois séries de photographies réalisées par Philippe Niorthe en 2005 et 2017 à Douala (Cameroun) et à Limay et Mantes la Jolie en 2020. Ces images sont des réflexions de l’artiste autour de la peau noire et de sa perception culturelle\, affective ou raciale. Elles questionnent l’idée du modèle occidental en s’appuyant sur la bouillonnante mythologie grecque et des débats sur les dieux et les déesses africaines\, partagés avec les modèles. Les séries évoquent l’intersectionnalité afin de mettre à distance la seule question de la race et d’évoquer le handicap\, le féminisme\, le jeune homme.
URL:https://www.yvelines-infos.fr/agenda/mythologie-noire/2021-06-24/
LOCATION:les Réservoirs\, 2 rue des réservoirs\, Limay\, 78520\, France
ATTACH;FMTTYPE=image/jpeg:https://www.yvelines-infos.fr/content/uploads/2021/194251886-1371095243261344-2213212706676833878-n.jpg
ORGANIZER;CN="mairie%20de%20Limay":MAILTO:lesreservoirs@ville-limay.fr
GEO:48.9964644;1.7335602
X-APPLE-STRUCTURED-LOCATION;VALUE=URI;X-ADDRESS=les Réservoirs 2 rue des réservoirs Limay 78520 France;X-APPLE-RADIUS=500;X-TITLE=2 rue des réservoirs:geo:1.7335602,48.9964644
END:VEVENT
BEGIN:VEVENT
DTSTART;VALUE=DATE:20210620
DTEND;VALUE=DATE:20210806
DTSTAMP:20260422T153313
CREATED:20210609T142216Z
LAST-MODIFIED:20210609T142216Z
UID:376323-1624147200-1628207999@www.yvelines-infos.fr
SUMMARY:Mythologie noire
DESCRIPTION:Une exposition de Philippe Niorthe \nL’exposition Mythologie noire regroupe trois séries de photographies réalisées par Philippe Niorthe en 2005 et 2017 à Douala (Cameroun) et à Limay et Mantes la Jolie en 2020. Ces images sont des réflexions de l’artiste autour de la peau noire et de sa perception culturelle\, affective ou raciale. Elles questionnent l’idée du modèle occidental en s’appuyant sur la bouillonnante mythologie grecque et des débats sur les dieux et les déesses africaines\, partagés avec les modèles. Les séries évoquent l’intersectionnalité afin de mettre à distance la seule question de la race et d’évoquer le handicap\, le féminisme\, le jeune homme.
URL:https://www.yvelines-infos.fr/agenda/mythologie-noire/2021-06-20/
LOCATION:les Réservoirs\, 2 rue des réservoirs\, Limay\, 78520\, France
ATTACH;FMTTYPE=image/jpeg:https://www.yvelines-infos.fr/content/uploads/2021/194251886-1371095243261344-2213212706676833878-n.jpg
ORGANIZER;CN="mairie%20de%20Limay":MAILTO:lesreservoirs@ville-limay.fr
GEO:48.9964644;1.7335602
X-APPLE-STRUCTURED-LOCATION;VALUE=URI;X-ADDRESS=les Réservoirs 2 rue des réservoirs Limay 78520 France;X-APPLE-RADIUS=500;X-TITLE=2 rue des réservoirs:geo:1.7335602,48.9964644
END:VEVENT
BEGIN:VEVENT
DTSTART;VALUE=DATE:20210619
DTEND;VALUE=DATE:20210805
DTSTAMP:20260422T153313
CREATED:20210609T142216Z
LAST-MODIFIED:20210609T142216Z
UID:376322-1624060800-1628121599@www.yvelines-infos.fr
SUMMARY:Mythologie noire
DESCRIPTION:Une exposition de Philippe Niorthe \nL’exposition Mythologie noire regroupe trois séries de photographies réalisées par Philippe Niorthe en 2005 et 2017 à Douala (Cameroun) et à Limay et Mantes la Jolie en 2020. Ces images sont des réflexions de l’artiste autour de la peau noire et de sa perception culturelle\, affective ou raciale. Elles questionnent l’idée du modèle occidental en s’appuyant sur la bouillonnante mythologie grecque et des débats sur les dieux et les déesses africaines\, partagés avec les modèles. Les séries évoquent l’intersectionnalité afin de mettre à distance la seule question de la race et d’évoquer le handicap\, le féminisme\, le jeune homme.
URL:https://www.yvelines-infos.fr/agenda/mythologie-noire/2021-06-19/
LOCATION:les Réservoirs\, 2 rue des réservoirs\, Limay\, 78520\, France
ATTACH;FMTTYPE=image/jpeg:https://www.yvelines-infos.fr/content/uploads/2021/194251886-1371095243261344-2213212706676833878-n.jpg
ORGANIZER;CN="mairie%20de%20Limay":MAILTO:lesreservoirs@ville-limay.fr
GEO:48.9964644;1.7335602
X-APPLE-STRUCTURED-LOCATION;VALUE=URI;X-ADDRESS=les Réservoirs 2 rue des réservoirs Limay 78520 France;X-APPLE-RADIUS=500;X-TITLE=2 rue des réservoirs:geo:1.7335602,48.9964644
END:VEVENT
BEGIN:VEVENT
DTSTART;VALUE=DATE:20210618
DTEND;VALUE=DATE:20210804
DTSTAMP:20260422T153313
CREATED:20210609T142216Z
LAST-MODIFIED:20210609T142216Z
UID:376321-1623974400-1628035199@www.yvelines-infos.fr
SUMMARY:Mythologie noire
DESCRIPTION:Une exposition de Philippe Niorthe \nL’exposition Mythologie noire regroupe trois séries de photographies réalisées par Philippe Niorthe en 2005 et 2017 à Douala (Cameroun) et à Limay et Mantes la Jolie en 2020. Ces images sont des réflexions de l’artiste autour de la peau noire et de sa perception culturelle\, affective ou raciale. Elles questionnent l’idée du modèle occidental en s’appuyant sur la bouillonnante mythologie grecque et des débats sur les dieux et les déesses africaines\, partagés avec les modèles. Les séries évoquent l’intersectionnalité afin de mettre à distance la seule question de la race et d’évoquer le handicap\, le féminisme\, le jeune homme.
URL:https://www.yvelines-infos.fr/agenda/mythologie-noire/2021-06-18/
LOCATION:les Réservoirs\, 2 rue des réservoirs\, Limay\, 78520\, France
ATTACH;FMTTYPE=image/jpeg:https://www.yvelines-infos.fr/content/uploads/2021/194251886-1371095243261344-2213212706676833878-n.jpg
ORGANIZER;CN="mairie%20de%20Limay":MAILTO:lesreservoirs@ville-limay.fr
GEO:48.9964644;1.7335602
X-APPLE-STRUCTURED-LOCATION;VALUE=URI;X-ADDRESS=les Réservoirs 2 rue des réservoirs Limay 78520 France;X-APPLE-RADIUS=500;X-TITLE=2 rue des réservoirs:geo:1.7335602,48.9964644
END:VEVENT
BEGIN:VEVENT
DTSTART;VALUE=DATE:20210617
DTEND;VALUE=DATE:20210803
DTSTAMP:20260422T153313
CREATED:20210609T142216Z
LAST-MODIFIED:20210609T142216Z
UID:376320-1623888000-1627948799@www.yvelines-infos.fr
SUMMARY:Mythologie noire
DESCRIPTION:Une exposition de Philippe Niorthe \nL’exposition Mythologie noire regroupe trois séries de photographies réalisées par Philippe Niorthe en 2005 et 2017 à Douala (Cameroun) et à Limay et Mantes la Jolie en 2020. Ces images sont des réflexions de l’artiste autour de la peau noire et de sa perception culturelle\, affective ou raciale. Elles questionnent l’idée du modèle occidental en s’appuyant sur la bouillonnante mythologie grecque et des débats sur les dieux et les déesses africaines\, partagés avec les modèles. Les séries évoquent l’intersectionnalité afin de mettre à distance la seule question de la race et d’évoquer le handicap\, le féminisme\, le jeune homme.
URL:https://www.yvelines-infos.fr/agenda/mythologie-noire/2021-06-17/
LOCATION:les Réservoirs\, 2 rue des réservoirs\, Limay\, 78520\, France
ATTACH;FMTTYPE=image/jpeg:https://www.yvelines-infos.fr/content/uploads/2021/194251886-1371095243261344-2213212706676833878-n.jpg
ORGANIZER;CN="mairie%20de%20Limay":MAILTO:lesreservoirs@ville-limay.fr
GEO:48.9964644;1.7335602
X-APPLE-STRUCTURED-LOCATION;VALUE=URI;X-ADDRESS=les Réservoirs 2 rue des réservoirs Limay 78520 France;X-APPLE-RADIUS=500;X-TITLE=2 rue des réservoirs:geo:1.7335602,48.9964644
END:VEVENT
BEGIN:VEVENT
DTSTART;TZID=Europe/Paris:20210616T190000
DTEND;TZID=Europe/Paris:20210616T220000
DTSTAMP:20260422T153313
CREATED:20210609T142201Z
LAST-MODIFIED:20210609T142201Z
UID:376286-1623870000-1623880800@www.yvelines-infos.fr
SUMMARY:Mythologie noire - rencontre
DESCRIPTION:Dans le catalogue de son exposition Mythologie noire\, Philippe Niorthe livre un aperçu de la correspondance qu’il entretient avec Lionel Manga à travers un échange de nature épistolaire et un texte inédit de Lionel Manga.\nLionel Manga est un magicien du verbe. Écrivain et commissaire d’exposition\, il est l’auteur de L’Ivresse du papillon (2008)\, le premier essai paru sur la scène des arts plastiques au Cameroun. \nConsulter le dossier de presse de l’exposition \n>>> Jauge limitée\, réservation obligatoire : 01 34 97 27 03 ou e.joly@ville-limay.fr \n  \nLes événements sont programmés dans le respect des directives gouvernementales et des précautions sanitaires nécessaires à l’accueil du public.
URL:https://www.yvelines-infos.fr/agenda/mythologie-noire-rencontre/
LOCATION:les Réservoirs\, 2 rue des réservoirs\, Limay\, 78520\, France
ATTACH;FMTTYPE=image/jpeg:https://www.yvelines-infos.fr/content/uploads/2021/194251886-1371095243261344-2213212706676833878-n-1.jpg
ORGANIZER;CN="mairie%20de%20Limay":MAILTO:lesreservoirs@ville-limay.fr
GEO:48.9964644;1.7335602
X-APPLE-STRUCTURED-LOCATION;VALUE=URI;X-ADDRESS=les Réservoirs 2 rue des réservoirs Limay 78520 France;X-APPLE-RADIUS=500;X-TITLE=2 rue des réservoirs:geo:1.7335602,48.9964644
END:VEVENT
BEGIN:VEVENT
DTSTART;VALUE=DATE:20210613
DTEND;VALUE=DATE:20210730
DTSTAMP:20260422T153313
CREATED:20210609T142216Z
LAST-MODIFIED:20210609T142216Z
UID:376319-1623542400-1627603199@www.yvelines-infos.fr
SUMMARY:Mythologie noire
DESCRIPTION:Une exposition de Philippe Niorthe \nL’exposition Mythologie noire regroupe trois séries de photographies réalisées par Philippe Niorthe en 2005 et 2017 à Douala (Cameroun) et à Limay et Mantes la Jolie en 2020. Ces images sont des réflexions de l’artiste autour de la peau noire et de sa perception culturelle\, affective ou raciale. Elles questionnent l’idée du modèle occidental en s’appuyant sur la bouillonnante mythologie grecque et des débats sur les dieux et les déesses africaines\, partagés avec les modèles. Les séries évoquent l’intersectionnalité afin de mettre à distance la seule question de la race et d’évoquer le handicap\, le féminisme\, le jeune homme.
URL:https://www.yvelines-infos.fr/agenda/mythologie-noire/2021-06-13/
LOCATION:les Réservoirs\, 2 rue des réservoirs\, Limay\, 78520\, France
ATTACH;FMTTYPE=image/jpeg:https://www.yvelines-infos.fr/content/uploads/2021/194251886-1371095243261344-2213212706676833878-n.jpg
ORGANIZER;CN="mairie%20de%20Limay":MAILTO:lesreservoirs@ville-limay.fr
GEO:48.9964644;1.7335602
X-APPLE-STRUCTURED-LOCATION;VALUE=URI;X-ADDRESS=les Réservoirs 2 rue des réservoirs Limay 78520 France;X-APPLE-RADIUS=500;X-TITLE=2 rue des réservoirs:geo:1.7335602,48.9964644
END:VEVENT
BEGIN:VEVENT
DTSTART;VALUE=DATE:20210612
DTEND;VALUE=DATE:20210729
DTSTAMP:20260422T153313
CREATED:20210609T142216Z
LAST-MODIFIED:20210609T142216Z
UID:376318-1623456000-1627516799@www.yvelines-infos.fr
SUMMARY:Mythologie noire
DESCRIPTION:Une exposition de Philippe Niorthe \nL’exposition Mythologie noire regroupe trois séries de photographies réalisées par Philippe Niorthe en 2005 et 2017 à Douala (Cameroun) et à Limay et Mantes la Jolie en 2020. Ces images sont des réflexions de l’artiste autour de la peau noire et de sa perception culturelle\, affective ou raciale. Elles questionnent l’idée du modèle occidental en s’appuyant sur la bouillonnante mythologie grecque et des débats sur les dieux et les déesses africaines\, partagés avec les modèles. Les séries évoquent l’intersectionnalité afin de mettre à distance la seule question de la race et d’évoquer le handicap\, le féminisme\, le jeune homme.
URL:https://www.yvelines-infos.fr/agenda/mythologie-noire/2021-06-12/
LOCATION:les Réservoirs\, 2 rue des réservoirs\, Limay\, 78520\, France
ATTACH;FMTTYPE=image/jpeg:https://www.yvelines-infos.fr/content/uploads/2021/194251886-1371095243261344-2213212706676833878-n.jpg
ORGANIZER;CN="mairie%20de%20Limay":MAILTO:lesreservoirs@ville-limay.fr
GEO:48.9964644;1.7335602
X-APPLE-STRUCTURED-LOCATION;VALUE=URI;X-ADDRESS=les Réservoirs 2 rue des réservoirs Limay 78520 France;X-APPLE-RADIUS=500;X-TITLE=2 rue des réservoirs:geo:1.7335602,48.9964644
END:VEVENT
BEGIN:VEVENT
DTSTART;VALUE=DATE:20210611
DTEND;VALUE=DATE:20210728
DTSTAMP:20260422T153313
CREATED:20210609T142216Z
LAST-MODIFIED:20210609T142216Z
UID:376317-1623369600-1627430399@www.yvelines-infos.fr
SUMMARY:Mythologie noire
DESCRIPTION:Une exposition de Philippe Niorthe \nL’exposition Mythologie noire regroupe trois séries de photographies réalisées par Philippe Niorthe en 2005 et 2017 à Douala (Cameroun) et à Limay et Mantes la Jolie en 2020. Ces images sont des réflexions de l’artiste autour de la peau noire et de sa perception culturelle\, affective ou raciale. Elles questionnent l’idée du modèle occidental en s’appuyant sur la bouillonnante mythologie grecque et des débats sur les dieux et les déesses africaines\, partagés avec les modèles. Les séries évoquent l’intersectionnalité afin de mettre à distance la seule question de la race et d’évoquer le handicap\, le féminisme\, le jeune homme.
URL:https://www.yvelines-infos.fr/agenda/mythologie-noire/2021-06-11/
LOCATION:les Réservoirs\, 2 rue des réservoirs\, Limay\, 78520\, France
ATTACH;FMTTYPE=image/jpeg:https://www.yvelines-infos.fr/content/uploads/2021/194251886-1371095243261344-2213212706676833878-n.jpg
ORGANIZER;CN="mairie%20de%20Limay":MAILTO:lesreservoirs@ville-limay.fr
GEO:48.9964644;1.7335602
X-APPLE-STRUCTURED-LOCATION;VALUE=URI;X-ADDRESS=les Réservoirs 2 rue des réservoirs Limay 78520 France;X-APPLE-RADIUS=500;X-TITLE=2 rue des réservoirs:geo:1.7335602,48.9964644
END:VEVENT
BEGIN:VEVENT
DTSTART;VALUE=DATE:20210610
DTEND;VALUE=DATE:20210727
DTSTAMP:20260422T153313
CREATED:20210609T142216Z
LAST-MODIFIED:20210609T142216Z
UID:376266-1623283200-1627343999@www.yvelines-infos.fr
SUMMARY:Mythologie noire
DESCRIPTION:Une exposition de Philippe Niorthe \nL’exposition Mythologie noire regroupe trois séries de photographies réalisées par Philippe Niorthe en 2005 et 2017 à Douala (Cameroun) et à Limay et Mantes la Jolie en 2020. Ces images sont des réflexions de l’artiste autour de la peau noire et de sa perception culturelle\, affective ou raciale. Elles questionnent l’idée du modèle occidental en s’appuyant sur la bouillonnante mythologie grecque et des débats sur les dieux et les déesses africaines\, partagés avec les modèles. Les séries évoquent l’intersectionnalité afin de mettre à distance la seule question de la race et d’évoquer le handicap\, le féminisme\, le jeune homme.
URL:https://www.yvelines-infos.fr/agenda/mythologie-noire/2021-06-10/
LOCATION:les Réservoirs\, 2 rue des réservoirs\, Limay\, 78520\, France
ATTACH;FMTTYPE=image/jpeg:https://www.yvelines-infos.fr/content/uploads/2021/194251886-1371095243261344-2213212706676833878-n.jpg
ORGANIZER;CN="mairie%20de%20Limay":MAILTO:lesreservoirs@ville-limay.fr
GEO:48.9964644;1.7335602
X-APPLE-STRUCTURED-LOCATION;VALUE=URI;X-ADDRESS=les Réservoirs 2 rue des réservoirs Limay 78520 France;X-APPLE-RADIUS=500;X-TITLE=2 rue des réservoirs:geo:1.7335602,48.9964644
END:VEVENT
END:VCALENDAR