BEGIN:VCALENDAR
VERSION:2.0
PRODID:-//Yvelines Infos - ECPv6.0.2//NONSGML v1.0//EN
CALSCALE:GREGORIAN
METHOD:PUBLISH
X-ORIGINAL-URL:https://www.yvelines-infos.fr
X-WR-CALDESC:Évènements pour Yvelines Infos
REFRESH-INTERVAL;VALUE=DURATION:PT1H
X-Robots-Tag:noindex
X-PUBLISHED-TTL:PT1H
BEGIN:VTIMEZONE
TZID:Europe/Paris
BEGIN:DAYLIGHT
TZOFFSETFROM:+0100
TZOFFSETTO:+0200
TZNAME:CEST
DTSTART:20210328T010000
END:DAYLIGHT
BEGIN:STANDARD
TZOFFSETFROM:+0200
TZOFFSETTO:+0100
TZNAME:CET
DTSTART:20211031T010000
END:STANDARD
END:VTIMEZONE
BEGIN:VEVENT
DTSTART;TZID=Europe/Paris:20210919T143000
DTEND;TZID=Europe/Paris:20210919T153000
DTSTAMP:20260423T064054
CREATED:20210916T080659Z
LAST-MODIFIED:20210916T080659Z
UID:379040-1632061800-1632065400@www.yvelines-infos.fr
SUMMARY:Conférence : « Une\, deux\, trois …restaurations : redécouverte du patrimoine de l’église d’Autouillet »
DESCRIPTION:Autouillet \, Eglise ND de l’Assomption : conférence le dimanche 19/09 à 14h30 : « Une\, deux\, trois …restaurations : redécouverte du patrimoine de l’église d’Autouillet » \nEn parallèle des travaux engagés sur l’église\, la commune d’Autouillet a entrepris avec l’aide du Département des Yvelines\, la restauration de plusieurs œuvres : de l’imposant retable du chœur en passant par le tableau figurant la mort de saint Joseph jusqu’aux aux deux toiles insérées dans les boiseries. Cette conférence donnée par Mme Cécile Garguelle\, conservateur délégué des antiquités et objets d’art des Yvelines\, sera l’occasion de revivre les principales étapes de ces restaurations et de redécouvrir ce patrimoine.
URL:https://www.yvelines-infos.fr/agenda/conference-une-deux-trois-restaurations-redecouverte-du-patrimoine-de-leglise-dautouillet/
LOCATION:Église Notre-Dame-de-l’Assomption à Autouillet\, Route de la Haye-Frogeay\, Autouillet\, 78770
ATTACH;FMTTYPE=image/jpeg:https://www.yvelines-infos.fr/content/uploads/2021/img-8950.jpg
END:VEVENT
END:VCALENDAR