BEGIN:VCALENDAR
VERSION:2.0
PRODID:-//Yvelines Infos - ECPv6.0.2//NONSGML v1.0//EN
CALSCALE:GREGORIAN
METHOD:PUBLISH
X-ORIGINAL-URL:https://www.yvelines-infos.fr
X-WR-CALDESC:Évènements pour Yvelines Infos
REFRESH-INTERVAL;VALUE=DURATION:PT1H
X-Robots-Tag:noindex
X-PUBLISHED-TTL:PT1H
BEGIN:VTIMEZONE
TZID:Europe/Paris
BEGIN:DAYLIGHT
TZOFFSETFROM:+0100
TZOFFSETTO:+0200
TZNAME:CEST
DTSTART:20170326T010000
END:DAYLIGHT
BEGIN:STANDARD
TZOFFSETFROM:+0200
TZOFFSETTO:+0100
TZNAME:CET
DTSTART:20171029T010000
END:STANDARD
BEGIN:DAYLIGHT
TZOFFSETFROM:+0100
TZOFFSETTO:+0200
TZNAME:CEST
DTSTART:20180325T010000
END:DAYLIGHT
BEGIN:STANDARD
TZOFFSETFROM:+0200
TZOFFSETTO:+0100
TZNAME:CET
DTSTART:20181028T010000
END:STANDARD
END:VTIMEZONE
BEGIN:VEVENT
DTSTART;TZID=Europe/Paris:20180324T100000
DTEND;TZID=Europe/Paris:20180324T160000
DTSTAMP:20260423T121712
CREATED:20180314T135937Z
LAST-MODIFIED:20180323T220325Z
UID:348269-1521885600-1521907200@www.yvelines-infos.fr
SUMMARY:Ateliers - Jeux : penser le nouveau collège\, comment révéler le potentiel de tous ?
DESCRIPTION:A partir de l’exemple du futur collège de Mantes-la-Jolie\, l’objectif de cette journée est de sensibiliser les jeunes de 8 à 13 ans au fonctionnement du futur établissement. Un accueil est également prévu pour les parents et les accompagnants tout au long de la journée. \nLe collège dont tu es le héros (20min). Dans ce jeu grandeur nature c’est toi qui es le héros! Choisis un scénario et réponds aux questions dans le temps imparti! Promène toi dans ton quartier et crée ton nouveau collège\, envisage l’espace à ta manière\, propose des activités que tu voudrais mettre en place au sein du collège. La seule barrière ? Ton imagination ! \nEscape game: save the college ! (30min) Le collège est menacé par un virus rendant les gens antipathiques et tous les cours inintéressants. Seul(e) ou à plusieurs vous devrez faire preuve de logique et d’esprit d’équipe pour remporter la course contre la montre et sauver le collège à temps. Que la Force soit avec vous ! \nQue veut dire apprendre ? Développez vos idées grâce aux images ! (30min) «Comment apprendre au collège» revient souvent à se demander «que faire pour réussir» ? En suivant le rythme ? Pourrait-on choisir son programme ? Les besoins des enfants sont différents\, leurs méthodes d’apprentissage également. Quel est le rôle de l’enfant\, du professeur dans le partage des connaissances ? Quelles réponses le nouveau collège pourrait-il apporter ? Venez partager vos idées lors de l’atelier ludique de photolangage. \nEchanges avec le public au point d’information sur le nouveau collège de Mantes-la-Jolie. \nAteliers en continu de 10h à 12h et de 14h à 16h. \nInscriptions sur place. \nCette journée fait suite au colloque organisé sur le même thème à Paris (éditions PlayBac) le mercredi 21 mars. \n 
URL:https://www.yvelines-infos.fr/agenda/ateliers-jeux-penser-nouveau-college-reveler-potentiel-de/
LOCATION:Centre de Vie Sociale\, 6 rue Boileau\, Mantes-La-Jolie\, 78 200
ATTACH;FMTTYPE=image/jpeg:https://www.yvelines-infos.fr/content/uploads/2018/flyerateliers.jpg
GEO:48.997423;1.686056
X-APPLE-STRUCTURED-LOCATION;VALUE=URI;X-ADDRESS=Centre de Vie Sociale 6 rue Boileau Mantes-La-Jolie 78 200;X-APPLE-RADIUS=500;X-TITLE=6 rue Boileau:geo:1.686056,48.997423
END:VEVENT
BEGIN:VEVENT
DTSTART;VALUE=DATE:20171125
DTEND;VALUE=DATE:20171126
DTSTAMP:20260423T121712
CREATED:20171103T113244Z
LAST-MODIFIED:20171103T113244Z
UID:345242-1511568000-1511654399@www.yvelines-infos.fr
SUMMARY:Foire aux Oignons
DESCRIPTION:Samedi 25 novembre\, la Ville de Mantes-la-Jolie accueille la 568e édition de la Foire aux Oignons\, l’une des plus vieilles de France.\nFaites un bond dans le temps pour revivre l’ambiance du Moyen-Âge dans un village médiéval place Saint Maclou.\nAu programme animations gratuites\, métiers d’art et grande taverne. \n 
URL:https://www.yvelines-infos.fr/agenda/foire-aux-oignons/
LOCATION:Centre-Ville de Mantes-la-Jolie\, France
ATTACH;FMTTYPE=image/jpeg:https://www.yvelines-infos.fr/content/uploads/2017/AfficheWeb_FoireAuxOignons_2017-e1509708730828.jpg
END:VEVENT
END:VCALENDAR