BEGIN:VCALENDAR
VERSION:2.0
PRODID:-//Yvelines Infos - ECPv6.0.2//NONSGML v1.0//EN
CALSCALE:GREGORIAN
METHOD:PUBLISH
X-WR-CALNAME:Yvelines Infos
X-ORIGINAL-URL:https://www.yvelines-infos.fr
X-WR-CALDESC:Évènements pour Yvelines Infos
REFRESH-INTERVAL;VALUE=DURATION:PT1H
X-Robots-Tag:noindex
X-PUBLISHED-TTL:PT1H
BEGIN:VTIMEZONE
TZID:Europe/Paris
BEGIN:DAYLIGHT
TZOFFSETFROM:+0100
TZOFFSETTO:+0200
TZNAME:CEST
DTSTART:20180325T010000
END:DAYLIGHT
BEGIN:STANDARD
TZOFFSETFROM:+0200
TZOFFSETTO:+0100
TZNAME:CET
DTSTART:20181028T010000
END:STANDARD
BEGIN:DAYLIGHT
TZOFFSETFROM:+0100
TZOFFSETTO:+0200
TZNAME:CEST
DTSTART:20190331T010000
END:DAYLIGHT
BEGIN:STANDARD
TZOFFSETFROM:+0200
TZOFFSETTO:+0100
TZNAME:CET
DTSTART:20191027T010000
END:STANDARD
BEGIN:DAYLIGHT
TZOFFSETFROM:+0100
TZOFFSETTO:+0200
TZNAME:CEST
DTSTART:20200329T010000
END:DAYLIGHT
BEGIN:STANDARD
TZOFFSETFROM:+0200
TZOFFSETTO:+0100
TZNAME:CET
DTSTART:20201025T010000
END:STANDARD
END:VTIMEZONE
BEGIN:VEVENT
DTSTART;VALUE=DATE:20200118
DTEND;VALUE=DATE:20200404
DTSTAMP:20260422T212029
CREATED:20200114T102535Z
LAST-MODIFIED:20200114T102535Z
UID:364611-1579305600-1585958399@www.yvelines-infos.fr
SUMMARY:Exposition Facing Landmarks
DESCRIPTION:Pour sa première exposition personnelle dans un centre d’art en France\, le jeune artiste Matan Mittwoch poursuit son exploration des outils technologiques qui nous entourent et des dispositifs de contrôle qu’ils induisent. \n\n\n\n\n\n\n  \nL’artiste s’intéresse aux techniques d’enregistrement et de reproduction par lesquelles une image ou un objet peuvent être générés. L’artiste a mis au point des dispositifs de prises de vues invisibles aux spectateurs par lesquels il investigue fréquemment le comportement d’un écran tactile et contrôle le processus de création d’une image\, de sa genèse à sa duplication. Des machines se font face et fonctionnent en circuit fermé\, l’oeil mécanique concurrence l’oeil humain qui se retrouve pris dans une expérience perceptuelle\, parfois cinétique. Les machines détournées s’avèrent être de surprenants catalyseurs de formes\, rappelant souvent l’histoire moderne de l’abstraction. \nMatan Mittwoch est né en 1982 à Tel-Aviv. Il est représenté par la galerie Dvir (Tel-Aviv\, Bruxelles). \n\n\n\n\n\n\nVernissage\nsamedi 18 janvier à partir de 15 h 30\nNavette gratuite depuis Paris-Concorde\nInfos / réservation :\n01 78 74 39 17 / 06 19 77 32 89 \nCrédit image : Matan Mittwoch\, Waste\, 2016
URL:https://www.yvelines-infos.fr/agenda/exposition-facing-landmarks/2020-01-18/
LOCATION:L'Onde Théâtre Centre d'art\, 8 bis\, avenue Louis Breguet\, Vélizy-Villacoublay\, France\, 78140
ATTACH;FMTTYPE=image/jpeg:https://www.yvelines-infos.fr/content/uploads/2020/matanmittwochfracnormandierouen-1.jpg
ORGANIZER;CN="L%27Onde%20Th%C3%A9%C3%A2tre%20Centre%20d%27art":MAILTO:microonde@londe.fr
GEO:48.7822173;2.1800377
X-APPLE-STRUCTURED-LOCATION;VALUE=URI;X-ADDRESS=L'Onde Théâtre Centre d'art 8 bis avenue Louis Breguet Vélizy-Villacoublay France 78140;X-APPLE-RADIUS=500;X-TITLE=8 bis\, avenue Louis Breguet:geo:2.1800377,48.7822173
END:VEVENT
BEGIN:VEVENT
DTSTART;TZID=Europe/Paris:20180407T150000
DTEND;TZID=Europe/Paris:20180630T183000
DTSTAMP:20260422T212029
CREATED:20180425T142940Z
LAST-MODIFIED:20180425T143646Z
UID:349338-1523113200-1530383400@www.yvelines-infos.fr
SUMMARY:Kodomo No Kuni - Enfance et aires de jeux au Japon
DESCRIPTION:Après l’exposition Aires de jeux – Contre-emplacements en 2010\, Micro Onde invite de nouveau le commissaire indépendant Vincent Romagny à poursuivre ses réflexions sur les liens entre les aires de jeux pour enfants et certaines formes présentes dans l’art contemporain. \n\n\n\n\n\n\n« Kodomo No Kuni » (« le pays des enfants » en japonais) est le nom d’un parc dont l’inauguration en 1965 a été l’occasion d’une déclaration du gouvernement japonais\, mettant un terme officiel aux reconstructions de l’après Seconde Guerre mondiale. « Kodomo No Kuni » est ainsi\, métaphoriquement\, le signe du recours à l’enfance suite aux destructions qu’ont pu occasionner l’histoire ou des catastrophes naturelles.\nL’exposition éponyme propose une traversée sélective dans l’histoire des formes de l’aire de jeux de l’après-guerre\, et dans l’art contemporain au Japon. Elle nous propose de découvrir des jeunes artistes japonais qui portent une attention particulière aux questions de l’enfance et de la mémoire. \nAvec les œuvres de Kasumi FUJISAWA\, Le Gentil Garçon\, Fujio KITO\, Isamu NOGUCHI\, Tadashi ONO\, Kohei SASAHARA\, Mitsuru SENDA\, SHIMABUKU\, Mayu SOEDA\, Constance SOREL\, Soni TAKEURA\, Mutsumi TSUDA et Yohei YAMAKADO.
URL:https://www.yvelines-infos.fr/agenda/kodomo-no-kuni-enfance-aires-de-jeux-japon/2018-04-07/
LOCATION:L'Onde\, 8 bis\, avenue Louis Breguet\, Vélizy-Villacoublay\, 78140
ATTACH;FMTTYPE=image/jpeg:https://www.yvelines-infos.fr/content/uploads/2018/children-dancing-with-dwarfs-hats-after-the-opening-ceremony-of-kodomonokuni-on-may-51965-bd.jpg
ORGANIZER;CN="L%27Onde%20Th%C3%A9%C3%A2tre%20Centre%20d%27art":MAILTO:microonde@londe.fr
GEO:48.7822173;2.1800377
X-APPLE-STRUCTURED-LOCATION;VALUE=URI;X-ADDRESS=L'Onde 8 bis avenue Louis Breguet Vélizy-Villacoublay 78140;X-APPLE-RADIUS=500;X-TITLE=8 bis\, avenue Louis Breguet:geo:2.1800377,48.7822173
END:VEVENT
END:VCALENDAR