BEGIN:VCALENDAR
VERSION:2.0
PRODID:-//Yvelines Infos - ECPv6.0.2//NONSGML v1.0//EN
CALSCALE:GREGORIAN
METHOD:PUBLISH
X-ORIGINAL-URL:https://www.yvelines-infos.fr
X-WR-CALDESC:Évènements pour Yvelines Infos
REFRESH-INTERVAL;VALUE=DURATION:PT1H
X-Robots-Tag:noindex
X-PUBLISHED-TTL:PT1H
BEGIN:VTIMEZONE
TZID:Europe/Paris
BEGIN:DAYLIGHT
TZOFFSETFROM:+0100
TZOFFSETTO:+0200
TZNAME:CEST
DTSTART:20220327T010000
END:DAYLIGHT
BEGIN:STANDARD
TZOFFSETFROM:+0200
TZOFFSETTO:+0100
TZNAME:CET
DTSTART:20221030T010000
END:STANDARD
END:VTIMEZONE
BEGIN:VEVENT
DTSTART;VALUE=DATE:20220423
DTEND;VALUE=DATE:20220424
DTSTAMP:20260423T053536
CREATED:20220322T141217Z
LAST-MODIFIED:20220322T141217Z
UID:384443-1650672000-1650758399@www.yvelines-infos.fr
SUMMARY:ARDER-HAVIR
DESCRIPTION:Elisa Pône est sculptrice et vidéaste\, parfois bassiste dans un groupe punk. Julien Perez\, compositeur et interprète\, travaille à mettre en musique certaines sculptures. Dans la rencontre entre leurs deux univers se construit une exposition inclassable et hors-norme. \n\n\n\n\n\n\nVéritable injonction à la combustion\, ARDER-HAVIR tire son origine de deux termes d’Ancien français qui font référence à la brûlure\, à l’inflammation\, à l’incandescence. Dans l’idée d’une réciprocité entre les\nœuvres\, entre combustion et exaltation\, réside le versant d’un projet purificateur. Le langage courant conserve les expressions : « être consumé par la haine »\, « exploser de joie ». Le feu donc\, pour quel horizon esthétique\net pour quelle réciprocité mentionnée ci-dessus ? \nDe fait\, la combustion réduit la matière pour se donner à voir. Il n’y a pas de fumée sans feu. Poussière\, tu redeviendras poussière. Dans cette courte filiation qui mène de l’image au son\, de la rétine au tympan\, il s’agit probablement ici de déplacer ce cordonnet sanitaire d’un silence qui place l’art hors de l’état d’écoute\, vers un mutisme protecteur et sacralisateur. \nDans la rencontre des travaux de Julien Perez et Elisa Pône\, réside un regard qui sera nécessairement celui du tiers\, une affinité élective émergeant de leur dialogue. \nInformations pratiques :\n– vernissage > samedi 23 avril│15h\nnavette gratuite depuis Paris-La Concorde\n> info-réservation : microonde@londe.fr
URL:https://www.yvelines-infos.fr/agenda/arder-havir/
LOCATION:L'Onde Théâtre Centre d'art\, 8 bis\, avenue Louis Breguet\, Vélizy-Villacoublay\, France\, 78140
ATTACH;FMTTYPE=image/png:https://www.yvelines-infos.fr/content/uploads/2022/46-arder-havir-jpg.png
GEO:48.7822173;2.1800377
X-APPLE-STRUCTURED-LOCATION;VALUE=URI;X-ADDRESS=L'Onde Théâtre Centre d'art 8 bis avenue Louis Breguet Vélizy-Villacoublay France 78140;X-APPLE-RADIUS=500;X-TITLE=8 bis\, avenue Louis Breguet:geo:2.1800377,48.7822173
END:VEVENT
END:VCALENDAR