BEGIN:VCALENDAR
VERSION:2.0
PRODID:-//Yvelines Infos - ECPv6.0.2//NONSGML v1.0//EN
CALSCALE:GREGORIAN
METHOD:PUBLISH
X-ORIGINAL-URL:https://www.yvelines-infos.fr
X-WR-CALDESC:Évènements pour Yvelines Infos
REFRESH-INTERVAL;VALUE=DURATION:PT1H
X-Robots-Tag:noindex
X-PUBLISHED-TTL:PT1H
BEGIN:VTIMEZONE
TZID:Europe/Paris
BEGIN:DAYLIGHT
TZOFFSETFROM:+0100
TZOFFSETTO:+0200
TZNAME:CEST
DTSTART:20220327T010000
END:DAYLIGHT
BEGIN:STANDARD
TZOFFSETFROM:+0200
TZOFFSETTO:+0100
TZNAME:CET
DTSTART:20221030T010000
END:STANDARD
END:VTIMEZONE
BEGIN:VEVENT
DTSTART;TZID=Europe/Paris:20220519T203000
DTEND;TZID=Europe/Paris:20220519T203000
DTSTAMP:20260423T062520
CREATED:20220322T141147Z
LAST-MODIFIED:20220322T141147Z
UID:384459-1652992200-1652992200@www.yvelines-infos.fr
SUMMARY:La Pastorale
DESCRIPTION:Thierry Malandain et ses vingt-deux danseurs magnifient Beethoven dans une ode sublime à la beauté de la nature et à la puissance du corps dansant. \n\n\n\n\n\n\nCréé pour célébrer le 250e anniversaire de la naissance de Beethoven\, ce ballet rend un sublime hommage au compositeur. Star de la danse néo-classique et résolument novateur\, Thierry Malandain excelle dans l’écriture pour les grands ensembles. Vingt-deux danseurs virtuoses donnent ainsi corps à la 6e Symphonie\, à la Cantate op.112 et à quelques motifs des Ruines d’Athènes dans ce ballet puissant. \nLe chorégraphe se retrouve dans les idéaux humanistes portés par le compositeur épris de liberté. Traduisant l’amour ardent de Beethoven pour la nature\, La Pastorale ressuscite à nos yeux l’Arcadie de l’âge d’or dans des mouvements millimétrés d’une grande force expressive. La sobriété de la scénographie laisse exploser l’intensité\, la sensualité et la virtuosité des danseurs. \nEntre envolées légères et étreintes fougueuses\, grands ensembles et solos\, La Pastorale déploie une dimension spirituelle dans un tourbillon d’élégance. Un moment hors du temps !
URL:https://www.yvelines-infos.fr/agenda/la-pastorale/
LOCATION:L'Onde Théâtre Centre d'art\, 8 bis\, avenue Louis Breguet\, Vélizy-Villacoublay\, France\, 78140
ATTACH;FMTTYPE=image/jpeg:https://www.yvelines-infos.fr/content/uploads/2022/1600x1000-a3aef10-6676-p10066756.jpeg
GEO:48.7822173;2.1800377
X-APPLE-STRUCTURED-LOCATION;VALUE=URI;X-ADDRESS=L'Onde Théâtre Centre d'art 8 bis avenue Louis Breguet Vélizy-Villacoublay France 78140;X-APPLE-RADIUS=500;X-TITLE=8 bis\, avenue Louis Breguet:geo:2.1800377,48.7822173
END:VEVENT
END:VCALENDAR