BEGIN:VCALENDAR
VERSION:2.0
PRODID:-//Yvelines Infos - ECPv6.0.2//NONSGML v1.0//EN
CALSCALE:GREGORIAN
METHOD:PUBLISH
X-ORIGINAL-URL:https://www.yvelines-infos.fr
X-WR-CALDESC:Évènements pour Yvelines Infos
REFRESH-INTERVAL;VALUE=DURATION:PT1H
X-Robots-Tag:noindex
X-PUBLISHED-TTL:PT1H
BEGIN:VTIMEZONE
TZID:Europe/Paris
BEGIN:DAYLIGHT
TZOFFSETFROM:+0100
TZOFFSETTO:+0200
TZNAME:CEST
DTSTART:20220327T010000
END:DAYLIGHT
BEGIN:STANDARD
TZOFFSETFROM:+0200
TZOFFSETTO:+0100
TZNAME:CET
DTSTART:20221030T010000
END:STANDARD
END:VTIMEZONE
BEGIN:VEVENT
DTSTART;TZID=Europe/Paris:20220402T100000
DTEND;TZID=Europe/Paris:20220403T180000
DTSTAMP:20260423T080735
CREATED:20220322T140818Z
LAST-MODIFIED:20220324T090225Z
UID:384635-1648893600-1649008800@www.yvelines-infos.fr
SUMMARY:Salon chocolats et gourmandises
DESCRIPTION:Organisé par le Lions club Poissy Blanche de Castille au profit de ses œuvres sociales et humanistes. \nLes artisans proposerons leurs produits tels que chocolat\, biscuits\, miels … \nLes 2 et 3 avril 2022 à Villennes sur seine \nCette année les fonds récoltés serviront au financement d’un robot ORL pédiatrique destiné à l’hôpital Robert Debré.
URL:https://www.yvelines-infos.fr/agenda/salon-chocolats-et-gourmandises/
LOCATION:espace des arts\, 57 place de la libération\, Villennes sur seine\, 78670
ATTACH;FMTTYPE=image/jpeg:https://www.yvelines-infos.fr/content/uploads/2022/a4-salon-chocolat-210x297mm-2.jpg
ORGANIZER;CN="Lions%20club%20Poissy%20Blanche%20de%20Castille":MAILTO:salonchocolat.lionspoissy@gmail.com
END:VEVENT
END:VCALENDAR