BEGIN:VCALENDAR
VERSION:2.0
PRODID:-//Yvelines Infos - ECPv6.0.2//NONSGML v1.0//EN
CALSCALE:GREGORIAN
METHOD:PUBLISH
X-ORIGINAL-URL:https://www.yvelines-infos.fr
X-WR-CALDESC:Évènements pour Yvelines Infos
REFRESH-INTERVAL;VALUE=DURATION:PT1H
X-Robots-Tag:noindex
X-PUBLISHED-TTL:PT1H
BEGIN:VTIMEZONE
TZID:Europe/Paris
BEGIN:DAYLIGHT
TZOFFSETFROM:+0100
TZOFFSETTO:+0200
TZNAME:CEST
DTSTART:20170326T010000
END:DAYLIGHT
BEGIN:STANDARD
TZOFFSETFROM:+0200
TZOFFSETTO:+0100
TZNAME:CET
DTSTART:20171029T010000
END:STANDARD
END:VTIMEZONE
BEGIN:VEVENT
DTSTART;TZID=Europe/Paris:20170707T080000
DTEND;TZID=Europe/Paris:20170707T170000
DTSTAMP:20260423T044031
CREATED:20170718T125302Z
LAST-MODIFIED:20170718T125302Z
UID:341785-1499414400-1499446800@www.yvelines-infos.fr
SUMMARY:PORTES OUVERTES A L’ASTROPORT DE BONNIERES/SEINE
DESCRIPTION:Le dimanche 10 septembre\, portes ouvertes à l’Astroport de Bonnières/Seine: \n\nprésentation du programme des Cafés associatifs du vendredi et des Beaux dimanches\nlancement du Fablab\, atelier de fabrication numérique\nanimations diverses en musique\ndécouverte de l’atelier du plasticien Jacques Lélut\n\n  \n 
URL:https://www.yvelines-infos.fr/agenda/portes-ouvertes-a-lastroport-de-bonnieresseine/
LOCATION:ASTROPORT\, 8 impasse Michelet\, Bonnières/Seine\, 78270
ORGANIZER;CN="Les%20Passagers%20de%20l%26%23039%3BAstroport":MAILTO:lespassagers78@orange.fr
GEO:49.0378203;1.579944
X-APPLE-STRUCTURED-LOCATION;VALUE=URI;X-ADDRESS=ASTROPORT 8 impasse Michelet Bonnières/Seine 78270;X-APPLE-RADIUS=500;X-TITLE=8 impasse Michelet:geo:1.579944,49.0378203
END:VEVENT
END:VCALENDAR