BEGIN:VCALENDAR
VERSION:2.0
PRODID:-//Yvelines Infos - ECPv6.0.2//NONSGML v1.0//EN
CALSCALE:GREGORIAN
METHOD:PUBLISH
X-WR-CALNAME:Yvelines Infos
X-ORIGINAL-URL:https://www.yvelines-infos.fr
X-WR-CALDESC:Évènements pour Yvelines Infos
REFRESH-INTERVAL;VALUE=DURATION:PT1H
X-Robots-Tag:noindex
X-PUBLISHED-TTL:PT1H
BEGIN:VTIMEZONE
TZID:Europe/Paris
BEGIN:DAYLIGHT
TZOFFSETFROM:+0100
TZOFFSETTO:+0200
TZNAME:CEST
DTSTART:20180325T010000
END:DAYLIGHT
BEGIN:STANDARD
TZOFFSETFROM:+0200
TZOFFSETTO:+0100
TZNAME:CET
DTSTART:20181028T010000
END:STANDARD
END:VTIMEZONE
BEGIN:VEVENT
DTSTART;TZID=Europe/Paris:20180309T210000
DTEND;TZID=Europe/Paris:20180317T223000
DTSTAMP:20260423T124951
CREATED:20180308T154725Z
LAST-MODIFIED:20180308T154725Z
UID:347930-1520629200-1521325800@www.yvelines-infos.fr
SUMMARY:Venise sous la neige
DESCRIPTION:La soirée promettait d’être sympathique pour Christophe et Clément qui se recroisent par hasard après s’être perdus de vue depuis plusieurs années. Ils décident de se présenter leurs compagnes respectives Patricia et Nathalie lors d’un dîner. Mais lorsque Christophe arrive en compagnie de Patricia alors qu’ils viennent de se disputer\, cette dernière décide de ne pas décrocher un mot ! La soirée va vite devenir explosive et pleine de rebondissement !\nUn cocktail d’humour\, de critique grinçante sur notre générosité et des personnages attachants malgré eux !
URL:https://www.yvelines-infos.fr/agenda/venise-sous-la-neige/2018-03-09/
LOCATION:Salle des Fetes de Maule\, Chaussée Saint Vincent\, Maule\, 78580
ATTACH;FMTTYPE=image/jpeg:https://www.yvelines-infos.fr/content/uploads/2018/180115-cartepostale-venise01.jpg
ORGANIZER;CN="Les%20Mascarilles":MAILTO:contact@lesmascarilles.fr
END:VEVENT
END:VCALENDAR