BEGIN:VCALENDAR
VERSION:2.0
PRODID:-//Yvelines Infos - ECPv6.0.2//NONSGML v1.0//EN
CALSCALE:GREGORIAN
METHOD:PUBLISH
X-WR-CALNAME:Yvelines Infos
X-ORIGINAL-URL:https://www.yvelines-infos.fr
X-WR-CALDESC:Évènements pour Yvelines Infos
REFRESH-INTERVAL;VALUE=DURATION:PT1H
X-Robots-Tag:noindex
X-PUBLISHED-TTL:PT1H
BEGIN:VTIMEZONE
TZID:Europe/Paris
BEGIN:DAYLIGHT
TZOFFSETFROM:+0100
TZOFFSETTO:+0200
TZNAME:CEST
DTSTART:20180325T010000
END:DAYLIGHT
BEGIN:STANDARD
TZOFFSETFROM:+0200
TZOFFSETTO:+0100
TZNAME:CET
DTSTART:20181028T010000
END:STANDARD
END:VTIMEZONE
BEGIN:VEVENT
DTSTART;TZID=Europe/Paris:20181216T160000
DTEND;TZID=Europe/Paris:20181216T180000
DTSTAMP:20260423T054539
CREATED:20181204T153545Z
LAST-MODIFIED:20181204T153545Z
UID:354002-1544976000-1544983200@www.yvelines-infos.fr
SUMMARY:FLÛTE de PAN & ORGUE
DESCRIPTION:Né à Alger d’une famille de musiciens originaire d’Alsace\, Georges SCHMITT\, artiste aux multiples talents\, est qualifié par ses pairs de « saltimbanque de génie\, inclassable dans le monde du spectacle ».\n\n\n\nA la manière d’un véritable artisan\, il confectionne ses flûtes de pan en remplaçant la cire d’abeille traditionnellement utilisée depuis l’antiquité pour accorder les flûtes de pan par un système breveté de réglage à piston.\n\nCe procédé simple mais révolutionnaire a fait de Georges SCHMITT l’inventeur de flûte de pan accordable. Ce qui lui a permis d’étendre ainsi son répertoire à la musique classique et sacrée.\n\nC’est aussi un merveilleux imitateur de chants d’oiseaux. Cette disposition lui vient de son goût prononcé pour l’ornithologie qui remonte à sa plus tendre enfance. De même\, il imite le son de la flûte avec ses mains ; ce qui ne manque pas de surprendre le public lors d’un concert.\n\nGeorges SCHMITT aime aussi faire partager sa passion pour la musique et se révèle alors être un excellent pédagogue en milieux scolaire. Doté d’un agrément reçu du Ministère de !’Education Nationale\, il anime régulièrement des journées «Spectacle Jeune Public».\n\nMais cet homme aux mille visages est surtout mondialement connu et reconnu pour ses talents de musicien et compositeur. Georges SCHMITT jouit d’une renommée qui l’a souvent précédé à l’étranger où il se produit régulièrement. Seoul \, Brésil \, Venezuela\, Europe \, Afrique …\n\nSes succès sont aujourd’hui difficilement quantifiables tant ils sont nombreux et divers. Outre ses tournées mondiales\, ses concerts avec de petites ou de grandes formations : le Chœur de l’Armée française\, l’orchestre de Radio-France ; Georges SCHMITT a composé ou interpreté des musiques pour les campagnes publicitaires de grandes marques connues \, Vittel \, Herta\, Jacques Vabre\, Chambourcy\, etc…. des musiques pour le cinéma et pour des émissions diffusées sur le petit écran. Il a aussi été l’invité de nombreuses émissions télévi­sées. Quant à sa discographie\, depuis le début de sa carrière\, Georges SCHMITT a enregis­tré 16 albums et a obtenu 9 disques d’or.\n\nEn outre\, il a eu le privilège de travailler avec de grands compositeurs tels que : Ennio Morricone\, Vladimir Cosma \, Roland Romanelli \, Jean-Marie Senia\, le Commandant Cousteau pour l’illustration sonore des séries sur la Calypso et l’Alcyone\, Yves Boisset et Jean-Pierre Mocky.\n\nIl se produit régulièrement dans les églises\, cathédrales\, théâtres\, festivals\, en duo avec un organiste \, ou en trio avec une harpiste et une violoncelliste .
URL:https://www.yvelines-infos.fr/agenda/flute-de-pan-orgue/
LOCATION:Eglise Notre Dame de MONTESSON\, 2\, rue du général Leclerc\, MONTESSON\, 78360
ATTACH;FMTTYPE=image/jpeg:https://www.yvelines-infos.fr/content/uploads/2018/affiche-georges-schmitt-page-001-1.jpg
ORGANIZER;CN="Les%20Amis%20de%20l%27Orgue%20de%20Montesson":MAILTO:orgue.montesson@gmail.com
END:VEVENT
END:VCALENDAR