BEGIN:VCALENDAR
VERSION:2.0
PRODID:-//Yvelines Infos - ECPv6.0.2//NONSGML v1.0//EN
CALSCALE:GREGORIAN
METHOD:PUBLISH
X-ORIGINAL-URL:https://www.yvelines-infos.fr
X-WR-CALDESC:Évènements pour Yvelines Infos
REFRESH-INTERVAL;VALUE=DURATION:PT1H
X-Robots-Tag:noindex
X-PUBLISHED-TTL:PT1H
BEGIN:VTIMEZONE
TZID:Europe/Paris
BEGIN:DAYLIGHT
TZOFFSETFROM:+0100
TZOFFSETTO:+0200
TZNAME:CEST
DTSTART:20170326T010000
END:DAYLIGHT
BEGIN:STANDARD
TZOFFSETFROM:+0200
TZOFFSETTO:+0100
TZNAME:CET
DTSTART:20171029T010000
END:STANDARD
BEGIN:DAYLIGHT
TZOFFSETFROM:+0100
TZOFFSETTO:+0200
TZNAME:CEST
DTSTART:20180325T010000
END:DAYLIGHT
BEGIN:STANDARD
TZOFFSETFROM:+0200
TZOFFSETTO:+0100
TZNAME:CET
DTSTART:20181028T010000
END:STANDARD
BEGIN:DAYLIGHT
TZOFFSETFROM:+0100
TZOFFSETTO:+0200
TZNAME:CEST
DTSTART:20190331T010000
END:DAYLIGHT
BEGIN:STANDARD
TZOFFSETFROM:+0200
TZOFFSETTO:+0100
TZNAME:CET
DTSTART:20191027T010000
END:STANDARD
BEGIN:DAYLIGHT
TZOFFSETFROM:+0100
TZOFFSETTO:+0200
TZNAME:CEST
DTSTART:20200329T010000
END:DAYLIGHT
BEGIN:STANDARD
TZOFFSETFROM:+0200
TZOFFSETTO:+0100
TZNAME:CET
DTSTART:20201025T010000
END:STANDARD
BEGIN:DAYLIGHT
TZOFFSETFROM:+0100
TZOFFSETTO:+0200
TZNAME:CEST
DTSTART:20210328T010000
END:DAYLIGHT
BEGIN:STANDARD
TZOFFSETFROM:+0200
TZOFFSETTO:+0100
TZNAME:CET
DTSTART:20211031T010000
END:STANDARD
BEGIN:DAYLIGHT
TZOFFSETFROM:+0100
TZOFFSETTO:+0200
TZNAME:CEST
DTSTART:20220327T010000
END:DAYLIGHT
BEGIN:STANDARD
TZOFFSETFROM:+0200
TZOFFSETTO:+0100
TZNAME:CET
DTSTART:20221030T010000
END:STANDARD
END:VTIMEZONE
BEGIN:VEVENT
DTSTART;TZID=Europe/Paris:20220403T170000
DTEND;TZID=Europe/Paris:20220403T183000
DTSTAMP:20260423T032458
CREATED:20220126T132624Z
LAST-MODIFIED:20220126T132624Z
UID:382873-1649005200-1649010600@www.yvelines-infos.fr
SUMMARY:Concert Galoubet\, tambourin\, orgue
DESCRIPTION:Programme de musique italienne et de musique traditionnelle provençale \nAndré Gabriel\, galoubet et tambourin\, surnommé le « le Paganini du Galoubet » \nLuc Antonini\, orgue\, titulaire à Avignon
URL:https://www.yvelines-infos.fr/agenda/concert-galoubet-tambourin-orgue/
LOCATION:Eglise de Coignières\, 3 place de la Mairie\, Coignières\, 78310\, France
ATTACH;FMTTYPE=image/jpeg:https://www.yvelines-infos.fr/content/uploads/2022/duo-galoubet-orgue.jpg
ORGANIZER;CN="Les%20amis%20de%20l%27Orgue%20de%20Coigni%C3%A8res":MAILTO:orgue.coignieres@free.fr
GEO:48.74729;1.91838
X-APPLE-STRUCTURED-LOCATION;VALUE=URI;X-ADDRESS=Eglise de Coignières 3 place de la Mairie Coignières 78310 France;X-APPLE-RADIUS=500;X-TITLE=3 place de la Mairie:geo:1.91838,48.74729
END:VEVENT
BEGIN:VEVENT
DTSTART;TZID=Europe/Paris:20220313T170000
DTEND;TZID=Europe/Paris:20220313T183000
DTSTAMP:20260423T032458
CREATED:20220126T132631Z
LAST-MODIFIED:20220126T132631Z
UID:382871-1647190800-1647196200@www.yvelines-infos.fr
SUMMARY:Concert du Trio Orpheus
DESCRIPTION:Musique de chambre du XIX ° siècle : Liszt\, Saint-Saëns\, Rheinberger \nFrancine Trachier\, violoniste \nStephan Soëder\, violoncelliste \nGabriel Bestion de Camboulas\, organiste
URL:https://www.yvelines-infos.fr/agenda/concert-du-trio-orpheus/
LOCATION:Eglise de Coignières\, 3 place de la Mairie\, Coignières\, 78310\, France
ATTACH;FMTTYPE=image/jpeg:https://www.yvelines-infos.fr/content/uploads/2022/trio-orpheusr.jpg
ORGANIZER;CN="Les%20amis%20de%20l%27Orgue%20de%20Coigni%C3%A8res":MAILTO:orgue.coignieres@free.fr
GEO:48.74729;1.91838
X-APPLE-STRUCTURED-LOCATION;VALUE=URI;X-ADDRESS=Eglise de Coignières 3 place de la Mairie Coignières 78310 France;X-APPLE-RADIUS=500;X-TITLE=3 place de la Mairie:geo:1.91838,48.74729
END:VEVENT
BEGIN:VEVENT
DTSTART;TZID=Europe/Paris:20220213T170000
DTEND;TZID=Europe/Paris:20220213T183000
DTSTAMP:20260423T032458
CREATED:20220126T132637Z
LAST-MODIFIED:20220126T132637Z
UID:382869-1644771600-1644777000@www.yvelines-infos.fr
SUMMARY:Lecture musicale autour du "Petit Prince" de Saint-Exupéry
DESCRIPTION:Le narrateur et le Petit Prince (Pierre-Marie Escourrou\, Pauline Choplin)\, nous feront revivre quelques chapitres de la rencontre de l’aviateur avec le Petit Prince venu de « l’astéroïde B 612 »\ntandis que l’orgue recréera l’atmosphère singulière des dialogues par des improvisations dont Sophie-Véronique Cauchefer-Choplin a le secret.
URL:https://www.yvelines-infos.fr/agenda/lecture-musicale-autour-du-petit-prince-de-saint-exupery/
LOCATION:Eglise de Coignières\, 3 place de la Mairie\, Coignières\, 78310\, France
ATTACH;FMTTYPE=image/jpeg:https://www.yvelines-infos.fr/content/uploads/2022/photo-trio.jpg
ORGANIZER;CN="Les%20amis%20de%20l%27Orgue%20de%20Coigni%C3%A8res":MAILTO:orgue.coignieres@free.fr
GEO:48.74729;1.91838
X-APPLE-STRUCTURED-LOCATION;VALUE=URI;X-ADDRESS=Eglise de Coignières 3 place de la Mairie Coignières 78310 France;X-APPLE-RADIUS=500;X-TITLE=3 place de la Mairie:geo:1.91838,48.74729
END:VEVENT
BEGIN:VEVENT
DTSTART;TZID=Europe/Paris:20201115T170000
DTEND;TZID=Europe/Paris:20201115T183000
DTSTAMP:20260423T032458
CREATED:20201001T100605Z
LAST-MODIFIED:20201001T100605Z
UID:369397-1605459600-1605465000@www.yvelines-infos.fr
SUMMARY:Orgue et percussions africaines
DESCRIPTION:Un concert unique par la réunion de deux artistes Michael Matthes\, organiste titulaire en l’église Saint Germain l’Auxerrois à Paris et Jacob Diboum né au Cameroun et enseignant à Troyes ; ce dernier est à la fois musicien\, auteur\, compositeur\, interprète\, danseur et plasticien. \nPartant des rythmes camerounais traditionnels\, avec percussions et guitare\, ses mélodies flirtent avec le jazz\, le reggae avant de rejoindre le répertoire classique.
URL:https://www.yvelines-infos.fr/agenda/orgue-et-percussions-africaines/
LOCATION:Eglise de Coignières\, 3 place de la Mairie\, Coignières\, 78310\, France
ATTACH;FMTTYPE=image/jpeg:https://www.yvelines-infos.fr/content/uploads/2020/michael-matthes-organiste-de-troyes-en-concert-1474989105.jpg
ORGANIZER;CN="Les%20amis%20de%20l%27Orgue%20de%20Coigni%C3%A8res":MAILTO:orgue.coignieres@free.fr
GEO:48.74729;1.91838
X-APPLE-STRUCTURED-LOCATION;VALUE=URI;X-ADDRESS=Eglise de Coignières 3 place de la Mairie Coignières 78310 France;X-APPLE-RADIUS=500;X-TITLE=3 place de la Mairie:geo:1.91838,48.74729
END:VEVENT
BEGIN:VEVENT
DTSTART;TZID=Europe/Paris:20201011T170000
DTEND;TZID=Europe/Paris:20201011T183000
DTSTAMP:20260423T032458
CREATED:20201001T100614Z
LAST-MODIFIED:20201001T100614Z
UID:369395-1602435600-1602441000@www.yvelines-infos.fr
SUMMARY:Concert "Claviers en concertos"
DESCRIPTION:Marie Vallin claveciniste et Jacques Pichard organiste proposent de jouer des concertos pour 2 claviers de J.S. Bach ainsi que des pièces  illustrant l’Europe Musicale au 18° siècle : l’Angleterre avec Avison et Stanley\, la France avec Duphly et l’Italie avec des pièces inédites de compositeurs anonymes trouvées dans un manuscrit conservé aux archives à Versailles. Marie Vallin en a identifie et enregistré quelques unes.
URL:https://www.yvelines-infos.fr/agenda/concert-claviers-en-concertos/
LOCATION:Eglise de Coignières\, 3 place de la Mairie\, Coignières\, 78310\, France
ATTACH;FMTTYPE=image/jpeg:https://www.yvelines-infos.fr/content/uploads/2020/duo.jpg
ORGANIZER;CN="Les%20amis%20de%20l%27Orgue%20de%20Coigni%C3%A8res":MAILTO:orgue.coignieres@free.fr
GEO:48.74729;1.91838
X-APPLE-STRUCTURED-LOCATION;VALUE=URI;X-ADDRESS=Eglise de Coignières 3 place de la Mairie Coignières 78310 France;X-APPLE-RADIUS=500;X-TITLE=3 place de la Mairie:geo:1.91838,48.74729
END:VEVENT
BEGIN:VEVENT
DTSTART;TZID=Europe/Paris:20181125T170000
DTEND;TZID=Europe/Paris:20181125T183000
DTSTAMP:20260423T032458
CREATED:20180717T154251Z
LAST-MODIFIED:20180717T154251Z
UID:351587-1543165200-1543170600@www.yvelines-infos.fr
SUMMARY:Du classique au jazz et vice-versa !
DESCRIPTION:Un formidable défi\, qu’a relevé le Trio Adrian Clarck\, d’associer dans un même récital jazz\, gospel\, blues\, chants traditionnels et musique classique. \nDamien Argentieri\, claviers et orgue à tuyaux \nSandrine Conry\, chant \nDavid Pouradier Duteil\, percussions
URL:https://www.yvelines-infos.fr/agenda/classique-jazz-vice-versa/
LOCATION:Eglise de Coignières\, 3 place de la Mairie\, Coignières\, 78310\, France
ATTACH;FMTTYPE=image/jpeg:https://www.yvelines-infos.fr/content/uploads/2018/adrian-clarck01.jpg
ORGANIZER;CN="Les%20amis%20de%20l%27Orgue%20de%20Coigni%C3%A8res":MAILTO:orgue.coignieres@free.fr
GEO:48.74729;1.91838
X-APPLE-STRUCTURED-LOCATION;VALUE=URI;X-ADDRESS=Eglise de Coignières 3 place de la Mairie Coignières 78310 France;X-APPLE-RADIUS=500;X-TITLE=3 place de la Mairie:geo:1.91838,48.74729
END:VEVENT
BEGIN:VEVENT
DTSTART;TZID=Europe/Paris:20180930T170000
DTEND;TZID=Europe/Paris:20180930T183000
DTSTAMP:20260423T032458
CREATED:20180806T095532Z
LAST-MODIFIED:20180806T095607Z
UID:351585-1538326800-1538332200@www.yvelines-infos.fr
SUMMARY:Récital orgue et chant\, airs profanes et sacrés
DESCRIPTION:De Purcell à Mozart\, florilèges d’airs sur le thème de l’Amour. \npar Géraldine Casey\, soprano colorature et Fanny Cousseau\, organiste. \nPurcell\, Pergolese\, Haendell\, Bach\, Mozart.
URL:https://www.yvelines-infos.fr/agenda/recital-orgue-chant-airs-profanes-sacres/
LOCATION:Eglise de Coignières\, 3 place de la Mairie\, Coignières\, 78310\, France
ATTACH;FMTTYPE=image/jpeg:https://www.yvelines-infos.fr/content/uploads/2018/img-8657.jpeg
ORGANIZER;CN="Les%20amis%20de%20l%27Orgue%20de%20Coigni%C3%A8res":MAILTO:orgue.coignieres@free.fr
GEO:48.74729;1.91838
X-APPLE-STRUCTURED-LOCATION;VALUE=URI;X-ADDRESS=Eglise de Coignières 3 place de la Mairie Coignières 78310 France;X-APPLE-RADIUS=500;X-TITLE=3 place de la Mairie:geo:1.91838,48.74729
END:VEVENT
BEGIN:VEVENT
DTSTART;TZID=Europe/Paris:20171119T170000
DTEND;TZID=Europe/Paris:20171119T183000
DTSTAMP:20260423T032458
CREATED:20171002T141952Z
LAST-MODIFIED:20171002T141952Z
UID:344069-1511110800-1511116200@www.yvelines-infos.fr
SUMMARY:Concert "Orgue & Cosmos"
DESCRIPTION:De Galiléi à Gustav Holts (Les Planètes)\, voyage musical avec des oeuvres inspirées par l’astronomie. \nDominique Proust\, organiste et astrophysicien à l’Observatoire de Meudon \nDominique Reymann\, trompettiste \nJean-Pierre Maillard\, chercheur émérite à l’Institut d’Astrophysique de Paris
URL:https://www.yvelines-infos.fr/agenda/concert-orgue-cosmos/
LOCATION:Maison de Voisinage de Coignières\, 30 Rue de Neauphle-le-Chateau\, Coignières\, France
ATTACH;FMTTYPE=image/jpeg:https://www.yvelines-infos.fr/content/uploads/2017/Orgue-Bach_Arnstadt.jpg
ORGANIZER;CN="Les%20amis%20de%20l%27Orgue%20de%20Coigni%C3%A8res":MAILTO:orgue.coignieres@free.fr
GEO:48.7491223;1.9184223
X-APPLE-STRUCTURED-LOCATION;VALUE=URI;X-ADDRESS=Maison de Voisinage de Coignières 30 Rue de Neauphle-le-Chateau Coignières France;X-APPLE-RADIUS=500;X-TITLE=30 Rue de Neauphle-le-Chateau:geo:1.9184223,48.7491223
END:VEVENT
END:VCALENDAR