BEGIN:VCALENDAR
VERSION:2.0
PRODID:-//Yvelines Infos - ECPv6.0.2//NONSGML v1.0//EN
CALSCALE:GREGORIAN
METHOD:PUBLISH
X-WR-CALNAME:Yvelines Infos
X-ORIGINAL-URL:https://www.yvelines-infos.fr
X-WR-CALDESC:Évènements pour Yvelines Infos
REFRESH-INTERVAL;VALUE=DURATION:PT1H
X-Robots-Tag:noindex
X-PUBLISHED-TTL:PT1H
BEGIN:VTIMEZONE
TZID:Europe/Paris
BEGIN:DAYLIGHT
TZOFFSETFROM:+0100
TZOFFSETTO:+0200
TZNAME:CEST
DTSTART:20190331T010000
END:DAYLIGHT
BEGIN:STANDARD
TZOFFSETFROM:+0200
TZOFFSETTO:+0100
TZNAME:CET
DTSTART:20191027T010000
END:STANDARD
END:VTIMEZONE
BEGIN:VEVENT
DTSTART;TZID=Europe/Paris:20190620T193000
DTEND;TZID=Europe/Paris:20190620T223000
DTSTAMP:20260423T044000
CREATED:20190620T081041Z
LAST-MODIFIED:20190620T081041Z
UID:359421-1561059000-1561069800@www.yvelines-infos.fr
SUMMARY:Soirée ROCKETMAN
DESCRIPTION:Soirée ROCKETMAN au cinéma L’Atalante !\n19h30 : cocktail & animations\n20h30 : projection du film \nTarif réduit (6\,70€) pour les spectateurs déguisés en « Elton John » ! \nVENEZ NOMBREUX !
URL:https://www.yvelines-infos.fr/agenda/soiree-rocketman/
LOCATION:Cinéma L’Atalante\, 48\, rue du Prieuré\, Maisons-Laffitte\, 78600
ATTACH;FMTTYPE=image/jpeg:https://www.yvelines-infos.fr/content/uploads/2019/rocketman-poster.jpg
ORGANIZER;CN="Les%20Amis%20de%20L%27Atalante":MAILTO:amisdelatalante@gmail.com
END:VEVENT
BEGIN:VEVENT
DTSTART;TZID=Europe/Paris:20190326T203000
DTEND;TZID=Europe/Paris:20190326T230000
DTSTAMP:20260423T044000
CREATED:20190320T135440Z
LAST-MODIFIED:20190320T135440Z
UID:356598-1553632200-1553641200@www.yvelines-infos.fr
SUMMARY:Cinérgie #6 – Food Coop
DESCRIPTION:Dans le cadre du cycle Cinérgie\, venez assister à:\n– la projection du film FOOD COOP de Tom Boothe\,\n– la discussion-débat avec les coordonnateurs de la Coopérative de Saint Germain-en-Laye. \nPlein tarif : 8.20€ – Tarif « Amis » : 6.70€ \n« Cinérgie » est un cycle de films\, organisé par l’association Les Amis de L’Atalante\, proposant des projections de films\, autour de questions d’actualité\, suivies d’un débat.
URL:https://www.yvelines-infos.fr/agenda/cinergie-6-food-coop/
LOCATION:Cinéma L’Atalante\, 48\, rue du Prieuré\, Maisons-Laffitte\, 78600
ATTACH;FMTTYPE=image/jpeg:https://www.yvelines-infos.fr/content/uploads/2019/014520.jpg
ORGANIZER;CN="Les%20Amis%20de%20L%27Atalante":MAILTO:amisdelatalante@gmail.com
END:VEVENT
END:VCALENDAR