BEGIN:VCALENDAR
VERSION:2.0
PRODID:-//Yvelines Infos - ECPv6.0.2//NONSGML v1.0//EN
CALSCALE:GREGORIAN
METHOD:PUBLISH
X-WR-CALNAME:Yvelines Infos
X-ORIGINAL-URL:https://www.yvelines-infos.fr
X-WR-CALDESC:Évènements pour Yvelines Infos
REFRESH-INTERVAL;VALUE=DURATION:PT1H
X-Robots-Tag:noindex
X-PUBLISHED-TTL:PT1H
BEGIN:VTIMEZONE
TZID:Europe/Paris
BEGIN:DAYLIGHT
TZOFFSETFROM:+0100
TZOFFSETTO:+0200
TZNAME:CEST
DTSTART:20210328T010000
END:DAYLIGHT
BEGIN:STANDARD
TZOFFSETFROM:+0200
TZOFFSETTO:+0100
TZNAME:CET
DTSTART:20211031T010000
END:STANDARD
END:VTIMEZONE
BEGIN:VEVENT
DTSTART;TZID=Europe/Paris:20211123T204500
DTEND;TZID=Europe/Paris:20211123T204500
DTSTAMP:20260423T063851
CREATED:20211025T121658Z
LAST-MODIFIED:20211025T121658Z
UID:380301-1637700300-1637700300@www.yvelines-infos.fr
SUMMARY:La Famille Ortiz
DESCRIPTION:Après « Adieu Monsieur Haffmann »\, voici la nouvelle création de Jean-Philippe Daguerre. \nUne famille extraordinaire : un père insubmersible\, une mère protectrice. En leur sein\, une fratrie qui fête et savoure chaque instant au rythme de scènes fantasmées de jeu de combat\, rituels nostalgiques du passé glorieux de leur père. Un jour\, pourtant\, un acte manqué à plus d’un titre brisera leur équilibre. Ils feront tout pour éviter l’inéluctable… voire le pire. C’est l’histoire de la famille Ortiz qui vit d’amour comme dans un rêve… jusqu’à ce que la réalité s’en mêle. \nUne pièce intrigante\, colorée\, drôle\, dont la qualité d’émotion témoigne d’une véritable profondeur humaine. \nDurée : 1h20 \nPlein tarif : 24 €\, tarif réduit : 20 € \nRéservation auprès du service culturel de l’hôtel de ville ou via la billetterie en ligne
URL:https://www.yvelines-infos.fr/agenda/la-famille-ortiz/
LOCATION:Le Quai 3\, 3 Quai Voltaire\, Le Pecq\, 78230
ATTACH;FMTTYPE=image/png:https://www.yvelines-infos.fr/content/uploads/2021/nouveau-lafamilleortiz-afftournee-altern2020-21-print-1036x1536-1.png
ORGANIZER;CN="Le%20Quai%203":MAILTO:mairie@ville-lepecq.fr
END:VEVENT
END:VCALENDAR