BEGIN:VCALENDAR
VERSION:2.0
PRODID:-//Yvelines Infos - ECPv6.0.2//NONSGML v1.0//EN
CALSCALE:GREGORIAN
METHOD:PUBLISH
X-WR-CALNAME:Yvelines Infos
X-ORIGINAL-URL:https://www.yvelines-infos.fr
X-WR-CALDESC:Évènements pour Yvelines Infos
REFRESH-INTERVAL;VALUE=DURATION:PT1H
X-Robots-Tag:noindex
X-PUBLISHED-TTL:PT1H
BEGIN:VTIMEZONE
TZID:Europe/Paris
BEGIN:DAYLIGHT
TZOFFSETFROM:+0100
TZOFFSETTO:+0200
TZNAME:CEST
DTSTART:20210328T010000
END:DAYLIGHT
BEGIN:STANDARD
TZOFFSETFROM:+0200
TZOFFSETTO:+0100
TZNAME:CET
DTSTART:20211031T010000
END:STANDARD
BEGIN:DAYLIGHT
TZOFFSETFROM:+0100
TZOFFSETTO:+0200
TZNAME:CEST
DTSTART:20220327T010000
END:DAYLIGHT
BEGIN:STANDARD
TZOFFSETFROM:+0200
TZOFFSETTO:+0100
TZNAME:CET
DTSTART:20221030T010000
END:STANDARD
END:VTIMEZONE
BEGIN:VEVENT
DTSTART;TZID=Europe/Paris:20220205T204500
DTEND;TZID=Europe/Paris:20220205T220000
DTSTAMP:20260423T045129
CREATED:20220126T135100Z
LAST-MODIFIED:20220126T135100Z
UID:382823-1644093900-1644098400@www.yvelines-infos.fr
SUMMARY:ET SI ON NE SE MENTAIT PLUS ?
DESCRIPTION:Une pièce à l’atmosphère délicieuse. Bons mots et traits d’esprit sont distillés avec finesse par cinq comédiens remarquables de justesse. On adore ! \nParis\, automne 1901\, 26 place Vendôme.\nCinq amis se retrouvent pour le traditionnel déjeuner hebdomadaire\, dans le salon de Lucien Guitry en pleine répétition de sa prochaine pièce de théâtre. Alfred Capus\, Jules Renard\, Tristan Bernard\, Alphonse Allais\, Lucien Guitry\, cinq stars de la Belle Époque partagent un instant d’amitié\, où les répliques fusent et le vin coule à flots. Pourtant\, l’ombre du mensonge va mettre en péril leur amitié. Peuvent-ils mentir à leurs amis pour une femme ? Et pour de l’argent ?\nAprès tout… comme le disait Alphonse Allais : « À quoi bon prendre la vie au sérieux\, puisque de toute façon nous n’en sortirons pas vivants ? »
URL:https://www.yvelines-infos.fr/agenda/et-si-on-ne-se-mentait-plus/
LOCATION:Le Quai 3\, 3 Quai Voltaire\, Le Pecq\, 78230
ATTACH;FMTTYPE=image/jpeg:https://www.yvelines-infos.fr/content/uploads/2022/et-si-on-ne-se-mentait-plus-emmanuel-gaury-oeil-du-prince-theatre-texte.jpg
ORGANIZER;CN="Le%20Quai%203":MAILTO:mairie@ville-lepecq.fr
END:VEVENT
BEGIN:VEVENT
DTSTART;TZID=Europe/Paris:20220129T204500
DTEND;TZID=Europe/Paris:20220129T223000
DTSTAMP:20260423T045129
CREATED:20220126T133132Z
LAST-MODIFIED:20220126T133132Z
UID:382779-1643489100-1643495400@www.yvelines-infos.fr
SUMMARY:ALLONS ENFANTS !
DESCRIPTION:Du Big Bang à l’explosion de la Bastille le 14 juillet 1789\, l’Histoire de France comme vous ne l’avez encore jamais vue ! Partant de la plus lointaine origine de la France et donc de sa première particule\, les septs interprètes vont jouer plus de cents personnages que vous connaissez bien\, ou pas encore\, dans une énergie communicative. Ils relisent l’Histoire de France pour en extraire le cocasse\, le grotesque\, le comique.\nUne épopée burlesque\, lyrique et iconoclaste\, où la musique\, jouée en direct par tous les acteurs-musiciens-chanteurs de ce spectacle total\, rythme l’univers de chaque scène. Le parfait contrepoint à toute forme de morosité.
URL:https://www.yvelines-infos.fr/agenda/allons-enfants-2/
LOCATION:Le Quai 3\, 3 Quai Voltaire\, Le Pecq\, 78230
ATTACH;FMTTYPE=image/jpeg:https://www.yvelines-infos.fr/content/uploads/2022/24-allons-enfants-300x425-1.jpg
ORGANIZER;CN="Le%20Quai%203":MAILTO:mairie@ville-lepecq.fr
END:VEVENT
BEGIN:VEVENT
DTSTART;TZID=Europe/Paris:20220129T204500
DTEND;TZID=Europe/Paris:20220129T223000
DTSTAMP:20260423T045129
CREATED:20220126T133122Z
LAST-MODIFIED:20220126T133122Z
UID:382781-1643489100-1643495400@www.yvelines-infos.fr
SUMMARY:ALLONS ENFANTS !
DESCRIPTION:Du Big Bang à l’explosion de la Bastille le 14 juillet 1789\, l’Histoire de France comme vous ne l’avez encore jamais vue ! Partant de la plus lointaine origine de la France et donc de sa première particule\, les septs interprètes vont jouer plus de cents personnages que vous connaissez bien\, ou pas encore\, dans une énergie communicative. Ils relisent l’Histoire de France pour en extraire le cocasse\, le grotesque\, le comique.\nUne épopée burlesque\, lyrique et iconoclaste\, où la musique\, jouée en direct par tous les acteurs-musiciens-chanteurs de ce spectacle total\, rythme l’univers de chaque scène. Le parfait contrepoint à toute forme de morosité.
URL:https://www.yvelines-infos.fr/agenda/allons-enfants/
LOCATION:Le Quai 3\, 3 Quai Voltaire\, Le Pecq\, 78230
ATTACH;FMTTYPE=image/jpeg:https://www.yvelines-infos.fr/content/uploads/2022/24-allons-enfants-300x425-2.jpg
ORGANIZER;CN="Le%20Quai%203":MAILTO:mairie@ville-lepecq.fr
END:VEVENT
BEGIN:VEVENT
DTSTART;TZID=Europe/Paris:20220109T170000
DTEND;TZID=Europe/Paris:20220109T180000
DTSTAMP:20260423T045129
CREATED:20211105T134003Z
LAST-MODIFIED:20211105T134003Z
UID:380811-1641747600-1641751200@www.yvelines-infos.fr
SUMMARY:La Belle Lisse Poire du Prince de Motordu
DESCRIPTION:C’est dans une atmosphère pleine d’humour et de poésie\, mêlant chansons\, pirouettes langagières et acrobaties de l’esprit\, que la compagnie Demain existe revisite cette histoire haute en couleur ! \nLe Prince de Motordu mène une existence paisible dans son grand chapeau\, il joue au tartes avec ses coussins dans la grande salle à danger\, fait des batailles de poules de neige\, mène paître son troupeau de boutons. Jusqu’au jour où la princesse Dézécolle\, une drôle d’institutrice\, croise son chemin et l’invite à détordre les mots. \nD’après PEF.
URL:https://www.yvelines-infos.fr/agenda/la-belle-lisse-poire-du-prince-de-motordu/
LOCATION:Le Quai 3\, 3 Quai Voltaire\, Le Pecq\, 78230
ATTACH;FMTTYPE=image/jpeg:https://www.yvelines-infos.fr/content/uploads/2021/20-la-belle-lisse-poire-du-prince-de-motordu-300x425-1.jpg
ORGANIZER;CN="Le%20Quai%203":MAILTO:mairie@ville-lepecq.fr
END:VEVENT
BEGIN:VEVENT
DTSTART;TZID=Europe/Paris:20211211T183000
DTEND;TZID=Europe/Paris:20211211T193000
DTSTAMP:20260423T045129
CREATED:20211105T133157Z
LAST-MODIFIED:20211105T133157Z
UID:380785-1639247400-1639251000@www.yvelines-infos.fr
SUMMARY:AUGUSTIN PIRATE DES INDES
DESCRIPTION:Augustin Volubile Poivre à 6 ans quand il devient capitaine d’un bateau pirate. Sa passion : les épices. Pour débusquer le trésor du Maharadja de Pondichéry\, Augustin et son équipage (les enfants du public) vont traverser l’Océan Indien à dos de baleine à bosse\, échapper aux tigres\, entrer dans un palais de bonbons\, chanter des chansons de marin et découvrir des senteurs d’épices en direct. \nMené tambour battant\, Augustin pirate des Indes est un vrai conte de pirates sur la route des Indes\, un voyage olfactif et participatif\, plein d’invetion et de bonne humeur ! \nJeune public à partir de 3 ans. \nDurée : 55min \nInfos pratiques : \nParking gratuit dans les jardins de l’Hôtel de ville (entrez en voiture et prenez l’allée légèrement à gauche\, passez sous le porche) RER A Le Vésinet/Le Pecq. \nOuverture des portes 30 mn avant le début de la représentation
URL:https://www.yvelines-infos.fr/agenda/augustin-pirate-des-indes/
LOCATION:Le Quai 3\, 3 Quai Voltaire\, Le Pecq\, 78230
ATTACH;FMTTYPE=image/jpeg:https://www.yvelines-infos.fr/content/uploads/2021/augustin-pirate-des-indes-4788706209850390744-614d4d7ad65c1474441674.jpg
ORGANIZER;CN="Le%20Quai%203":MAILTO:mairie@ville-lepecq.fr
END:VEVENT
BEGIN:VEVENT
DTSTART;TZID=Europe/Paris:20211123T204500
DTEND;TZID=Europe/Paris:20211123T204500
DTSTAMP:20260423T045129
CREATED:20211025T121658Z
LAST-MODIFIED:20211025T121658Z
UID:380301-1637700300-1637700300@www.yvelines-infos.fr
SUMMARY:La Famille Ortiz
DESCRIPTION:Après « Adieu Monsieur Haffmann »\, voici la nouvelle création de Jean-Philippe Daguerre. \nUne famille extraordinaire : un père insubmersible\, une mère protectrice. En leur sein\, une fratrie qui fête et savoure chaque instant au rythme de scènes fantasmées de jeu de combat\, rituels nostalgiques du passé glorieux de leur père. Un jour\, pourtant\, un acte manqué à plus d’un titre brisera leur équilibre. Ils feront tout pour éviter l’inéluctable… voire le pire. C’est l’histoire de la famille Ortiz qui vit d’amour comme dans un rêve… jusqu’à ce que la réalité s’en mêle. \nUne pièce intrigante\, colorée\, drôle\, dont la qualité d’émotion témoigne d’une véritable profondeur humaine. \nDurée : 1h20 \nPlein tarif : 24 €\, tarif réduit : 20 € \nRéservation auprès du service culturel de l’hôtel de ville ou via la billetterie en ligne
URL:https://www.yvelines-infos.fr/agenda/la-famille-ortiz/
LOCATION:Le Quai 3\, 3 Quai Voltaire\, Le Pecq\, 78230
ATTACH;FMTTYPE=image/png:https://www.yvelines-infos.fr/content/uploads/2021/nouveau-lafamilleortiz-afftournee-altern2020-21-print-1036x1536-1.png
ORGANIZER;CN="Le%20Quai%203":MAILTO:mairie@ville-lepecq.fr
END:VEVENT
END:VCALENDAR