BEGIN:VCALENDAR
VERSION:2.0
PRODID:-//Yvelines Infos - ECPv6.0.2//NONSGML v1.0//EN
CALSCALE:GREGORIAN
METHOD:PUBLISH
X-WR-CALNAME:Yvelines Infos
X-ORIGINAL-URL:https://www.yvelines-infos.fr
X-WR-CALDESC:Évènements pour Yvelines Infos
REFRESH-INTERVAL;VALUE=DURATION:PT1H
X-Robots-Tag:noindex
X-PUBLISHED-TTL:PT1H
BEGIN:VTIMEZONE
TZID:Europe/Paris
BEGIN:DAYLIGHT
TZOFFSETFROM:+0100
TZOFFSETTO:+0200
TZNAME:CEST
DTSTART:20210328T010000
END:DAYLIGHT
BEGIN:STANDARD
TZOFFSETFROM:+0200
TZOFFSETTO:+0100
TZNAME:CET
DTSTART:20211031T010000
END:STANDARD
BEGIN:DAYLIGHT
TZOFFSETFROM:+0100
TZOFFSETTO:+0200
TZNAME:CEST
DTSTART:20220327T010000
END:DAYLIGHT
BEGIN:STANDARD
TZOFFSETFROM:+0200
TZOFFSETTO:+0100
TZNAME:CET
DTSTART:20221030T010000
END:STANDARD
END:VTIMEZONE
BEGIN:VEVENT
DTSTART;TZID=Europe/Paris:20220511T173000
DTEND;TZID=Europe/Paris:20220511T173000
DTSTAMP:20260422T201009
CREATED:20220406T133830Z
LAST-MODIFIED:20220406T133830Z
UID:384903-1652290200-1652290200@www.yvelines-infos.fr
SUMMARY:Danse avec les livres
DESCRIPTION:Teinté de moments poétiques et de petites touches narratives pleines d’humour et de dérision\, Danse avec les livres mêle danse hip-hop\, mime et burlesque. Le livre comme seul fil rouge devient un véritable élément de scénographie\, plastique\, sonore et olfactif. \nEntre corps et décors\, cette pièce chorégraphique rend un véritable hommage au livre. \nDurée : 30 minutes\nDès -7ans-
URL:https://www.yvelines-infos.fr/agenda/danse-avec-les-livres/
LOCATION:Le Prisme Elancourt\, Centre des 7 Mares\, Elancourt\, 78990
ATTACH;FMTTYPE=image/png:https://www.yvelines-infos.fr/content/uploads/2022/2654880-danse-avec-les-livres-110650.png
END:VEVENT
BEGIN:VEVENT
DTSTART;TZID=Europe/Paris:20220401T203000
DTEND;TZID=Europe/Paris:20220401T203000
DTSTAMP:20260422T201009
CREATED:20220126T131809Z
LAST-MODIFIED:20220126T131809Z
UID:383134-1648845000-1648845000@www.yvelines-infos.fr
SUMMARY:CYRANO DE BERGERAC
DESCRIPTION:Compagnie des Échappés de la Coulisse \nRedécouvrez l’un des plus grands classiques du théâtre français\, Cyrano de Bergerac d’après Edmond Rostand. L’intrépide mousquetaire qui manie les mots aussi bien que l’épée\, va vous faire revivre la poésie du texte dans une version plus moderne. L’histoire ne sera pas ancrée dans un lieu ou une époque\, mais le spectateur sera plongé au cœur d’une véritable épopée scénique. \nUn voyage dans le temps\, l’espace et les mots\, où les codes classiques de la tragédie se réinventent pour exalter les valeurs de l’héroïsme. Une réadaptation sublimée par la complicité des comédiens qui rend cette œuvre indémodable. \nGrande salle – Durée : 2h20
URL:https://www.yvelines-infos.fr/agenda/cyrano-de-bergerac/
LOCATION:Le Prisme Elancourt\, Centre des 7 Mares\, Elancourt\, 78990
ATTACH;FMTTYPE=image/jpeg:https://www.yvelines-infos.fr/content/uploads/2022/vz-7d8de48c-5639-4785-9f68-74363b359ab9.jpeg
END:VEVENT
BEGIN:VEVENT
DTSTART;TZID=Europe/Paris:20220318T203000
DTEND;TZID=Europe/Paris:20220318T203000
DTSTAMP:20260422T201009
CREATED:20220126T132103Z
LAST-MODIFIED:20220126T132103Z
UID:383116-1647635400-1647635400@www.yvelines-infos.fr
SUMMARY:FRANCOIS MOREL - J'AI DES DOUTES
DESCRIPTION:François Morel-Raymond Devos\, Raymond Devos-François Morel\, et la bouche est bouclée à double tour !\nCar la nouvelle création du comédien\, Molière 2019\, emprunte à l’illustre artiste le titre de l’un de ses fameux sketches où il interroge l’univers\, la folie de l’existence\, l’incommunicabilité avec son talent inégalé. Fasciné par ce grand clown au « grain de folie capable d’enrayer la mécanique bien huilée de la logique\, de la réalité\, du quotidien »\, François Morel s’est plongé corps et âme dans ses textes pour inventer un spectacle musical\, en hommage à Raymond Devos. \nUne performance réjouissante ponctuée de poésie et de sensibilitéx \nGrande salle – Durée : 1h30
URL:https://www.yvelines-infos.fr/agenda/francois-morel-jai-des-doutes/
LOCATION:Le Prisme Elancourt\, Centre des 7 Mares\, Elancourt\, 78990
ATTACH;FMTTYPE=image/jpeg:https://www.yvelines-infos.fr/content/uploads/2022/1920x1440-j-ai-des-doutes-2028.jpg
END:VEVENT
BEGIN:VEVENT
DTSTART;TZID=Europe/Paris:20220312T190000
DTEND;TZID=Europe/Paris:20220312T190000
DTSTAMP:20260422T201009
CREATED:20220126T132108Z
LAST-MODIFIED:20220126T132108Z
UID:383109-1647111600-1647111600@www.yvelines-infos.fr
SUMMARY:SOIRÉE SOUL AWA LY + JP BIMENI & THE BLACK BELTS
DESCRIPTION:Pour ce double plateau musical\, la folk et la soul sont à l’honneur ! Deux artistes\, deux voix qui nous transportent\, tour à tour\, à travers des timbres envoûtants et des paroles remplies d’histoires… \nEn première partie de soirée à 19h\, vous partirez à la rencontre d’Awa Ly. Tribale\, mystérieuse et mystique\, elle nous emmène découvrir son univers bien à elle : un mélange de folk\, de jazz et d’emprunts aux musiques du monde. \nEn seconde partie de soirée à 21h\, découvrez l’univers singulier de JP Bimeni  & The Black Belts. Vous tomberez sous le charme de sa voix aux allures d’Otis Redding ou encore de Ray Charles. Il nous chante son parcours incroyable dans une soul magnétique où l’espoir\, la peur\, la perte et l’amour sont les maîtres-mots. \nGrande salle
URL:https://www.yvelines-infos.fr/agenda/soiree-soul-awa-ly-jp-bimeni-the-black-belts/
LOCATION:Le Prisme Elancourt\, Centre des 7 Mares\, Elancourt\, 78990
ATTACH;FMTTYPE=image/png:https://www.yvelines-infos.fr/content/uploads/2022/thumbnail-2.png
END:VEVENT
BEGIN:VEVENT
DTSTART;TZID=Europe/Paris:20220215T203000
DTEND;TZID=Europe/Paris:20220215T203000
DTSTAMP:20260422T201009
CREATED:20220126T135053Z
LAST-MODIFIED:20220126T135053Z
UID:382829-1644957000-1644957000@www.yvelines-infos.fr
SUMMARY:BE.GIRL
DESCRIPTION:Compagnie Uzumaki \nPréparez-vous à être transporté par l’énergie fougueuse de BE.girl. Ce quintet féminin de « breakeuse » vous emmène aux tréfonds de la breakdance à la française. Une discipine aux multiples facettes qui alterne souplesse et puissance\, détermination et douceur\, énergie et précision. Menées sous la direction artistique de Valentine Nagata-Ramos\, les chorégraphies s’inspirent de la fusion des genres : traditionnel / moderne\, Orient / Occident\, féminin / masculin \nUne pièce chorégraphique exceptionnelle qui allie jeu de jambes\, appuis au sol et figures acrobatiques confirmant que la gravité peut se maîtriser avec subtilité. \nGRANDE SALLE – Durée : 50 minutes
URL:https://www.yvelines-infos.fr/agenda/be-girl/
LOCATION:Le Prisme Elancourt\, Centre des 7 Mares\, Elancourt\, 78990
ATTACH;FMTTYPE=image/png:https://www.yvelines-infos.fr/content/uploads/2022/2654872-be-girl-104505.png
END:VEVENT
BEGIN:VEVENT
DTSTART;TZID=Europe/Paris:20220202T143000
DTEND;TZID=Europe/Paris:20220202T143000
DTSTAMP:20260422T201009
CREATED:20211220T100836Z
LAST-MODIFIED:20211220T100836Z
UID:381799-1643812200-1643812200@www.yvelines-infos.fr
SUMMARY:LE DERNIER JOUR
DESCRIPTION:Compagnie Monsieur Lune \n– Dès 6 ans – \n\n\nPartez à la rencontre du petit Émile qui n’a plus qu’un jour pour avouer à Louise qu’il est amoureux d’elle. Ce soir\, il déménage ! Demain\, il sera dans une nouvelle école et ce sera trop tard ! En allant en classe\, le courage lui manque et il s’invente des excuses pour\, une fois encore\, éviter d’avouer ses sentiments. C’est alors qu’il trouve sur son bureau une mystérieuse boîte… Ce dernier jour d’école s’annonce plein de surprises pour Émile qui ne peut plus remettre au lendemain sa déclaration d’amour. \nUn conte musical rempli de tendresse et de bonne humeur qui ravira les petits comme les plus grands.
URL:https://www.yvelines-infos.fr/agenda/le-dernier-jour/
LOCATION:Le Prisme Elancourt\, Centre des 7 Mares\, Elancourt\, 78990
ATTACH;FMTTYPE=image/png:https://www.yvelines-infos.fr/content/uploads/2021/thumbnail-21.png
END:VEVENT
BEGIN:VEVENT
DTSTART;TZID=Europe/Paris:20220128T203000
DTEND;TZID=Europe/Paris:20220128T203000
DTSTAMP:20260422T201009
CREATED:20211104T151507Z
LAST-MODIFIED:20211104T151507Z
UID:380671-1643401800-1643401800@www.yvelines-infos.fr
SUMMARY:MATHIEU MADENIAN
DESCRIPTION:Sans artifice\, en jean et baskets blanches\, voici Mathieu Madénian dans le plus pur style “stand-up”. Dans son spectacle\, il s’attaque à un sujet qui nous parle tous : la famille. Il passe en revue tout les travers que chacun connait ; les vexations mal digérées\, les dîners alcoolisés\, les jalousies fraternelles… \nEn bref\, un véritable festival de névroses. Ce n’est pas avec son psy mais avec son public qu’il a décidé de tout déballer sur scène pour se guérir des guérillas familiales. Une véritable introspection explosive et collective\, à voir en famille. \nGrande Salle – Durée : 1h15 \nTarif réduit : 28€                                                                                                                                                                                                              Tarif plein : 32€
URL:https://www.yvelines-infos.fr/agenda/mathieu-madenian/
LOCATION:Le Prisme Elancourt\, Centre des 7 Mares\, Elancourt\, 78990
ATTACH;FMTTYPE=image/png:https://www.yvelines-infos.fr/content/uploads/2021/thumbnail-1-1.png
END:VEVENT
BEGIN:VEVENT
DTSTART;TZID=Europe/Paris:20220126T143000
DTEND;TZID=Europe/Paris:20220126T143000
DTSTAMP:20260422T201009
CREATED:20211104T151513Z
LAST-MODIFIED:20211104T151513Z
UID:380663-1643207400-1643207400@www.yvelines-infos.fr
SUMMARY:PUISQUE C'EST COMME CA JE VAIS FAIRE UN OPERA TOUTE SEULE
DESCRIPTION:Festival Odyssées en Yvelines \n– Dès 9 ans – \nDepuis qu’Anja a grandi\, les regards autour d’elle ont changé. Ceux des hommes\, ceux des femmes et ceux de ses camarades. Anja déborde d’envies\, de musique… et de colère : pour en terminer avec l’injustice\, les interdits\, les injonctions à devenir autre chose que ce qu’elle veut être : libre ! On lui dit que les grandes compositrices\, ça n’existe pas ? Puisque c’est comme ça\, elle s’enferme dans sa chambre pour faire son opéra toute seule. \nUne pièce musicale à l’énergie communicative où tout semble possible. \nTarif réduit : 7€                                                                                                                                                                                                                      Tarif plein : 10€
URL:https://www.yvelines-infos.fr/agenda/puisque-cest-comme-ca-je-vais-faire-un-opera-toute-seule/
LOCATION:Le Prisme Elancourt\, Centre des 7 Mares\, Elancourt\, 78990
ATTACH;FMTTYPE=image/png:https://www.yvelines-infos.fr/content/uploads/2021/thumbnail-12.png
END:VEVENT
BEGIN:VEVENT
DTSTART;TZID=Europe/Paris:20220122T200000
DTEND;TZID=Europe/Paris:20220122T200000
DTSTAMP:20260422T201009
CREATED:20211220T102500Z
LAST-MODIFIED:20211220T102500Z
UID:381609-1642881600-1642881600@www.yvelines-infos.fr
SUMMARY:Des vies
DESCRIPTION:Spectacle musical sur la base de chansons de Carole Fredericks\, Mickael Jones et Jean Jacques Goldman. \nIl raconte l’histoire d’une Sud-Africaine\, d’un Polonais et d’un Nord-Irlandais qui décident de changer de vie\, de quitter leur pays pour vivre leur rêve. Le hasard des voyages va faire qu’ils vont se rencontrer dans une auberge de jeunesse\, dans la ville Irlandaise du Connemara : Galway. \n48 heures qui vont bouleverser leur vie. Partiront-ils de Galway ? Seuls ? Pour qu’elle destination ? \nPlein tarif : 15€\nPersonnes à mobilitée réduite\, enfants et étudiants : 10€
URL:https://www.yvelines-infos.fr/agenda/des-vies/
LOCATION:Le Prisme Elancourt\, Centre des 7 Mares\, Elancourt\, 78990
ATTACH;FMTTYPE=image/png:https://www.yvelines-infos.fr/content/uploads/2021/thumbnail-19.png
END:VEVENT
BEGIN:VEVENT
DTSTART;TZID=Europe/Paris:20211216T183000
DTEND;TZID=Europe/Paris:20211216T183000
DTSTAMP:20260422T201009
CREATED:20211104T151550Z
LAST-MODIFIED:20211104T151550Z
UID:380656-1639679400-1639679400@www.yvelines-infos.fr
SUMMARY:Vincent Touchard / Stephen Binet
DESCRIPTION:Happy Hours \nVincent Touchard et Stephen Binet\, tous deux musiciens résidents du piano bar du Prisme\, présentent leur album « Happy Hours » sorti en janvier 2021 sur le label Jazz Family. Réunissant le temps d’un enregistrement les musiciens invités lors des soirées jam sessions du piano bar du Prisme\, le disque offre un large éventail du jazz passé et actuel. Un hommage au jazz et au partage de la musique à découvrir sur la scène du Prisme.
URL:https://www.yvelines-infos.fr/agenda/vincent-touchard-stephen-binet/
LOCATION:Le Prisme Elancourt\, Centre des 7 Mares\, Elancourt\, 78990
ATTACH;FMTTYPE=image/png:https://www.yvelines-infos.fr/content/uploads/2021/thumbnail-11.png
END:VEVENT
BEGIN:VEVENT
DTSTART;TZID=Europe/Paris:20211215T203000
DTEND;TZID=Europe/Paris:20211215T203000
DTSTAMP:20260422T201009
CREATED:20211104T152815Z
LAST-MODIFIED:20211104T152815Z
UID:380476-1639600200-1639600200@www.yvelines-infos.fr
SUMMARY:Bérengère Krief
DESCRIPTION:Amour\, voici le nouveau spectacle de Bérengère Krief. Un sujet qui soulève bon nombre d’interrogations et qui nous concerne tous ! Après 3 ans d’absence\, elle a pris le temps d’étudier le sujet de près : mariage raté\, perte de foi en l’humanité\, en l’amour et en elle-même. Du coup de foudre à la tempête des sentiments\, des papillons dans le ventre au bourdon dans la tête\, l’Amour sera décortiqué de long en large et\, surtout\, en travers. Bien plus qu’un stand-up\, un spectacle tour à tour hilarant et touchant qui regorge de belles surprises ! \n\n\n\n\nGrande Salle – Durée : 1h20 \nTarif réduit : 28€                                                                                                                                                                                                            Tarif plein : 32€
URL:https://www.yvelines-infos.fr/agenda/berengere-krief/
LOCATION:Le Prisme Elancourt\, Centre des 7 Mares\, Elancourt\, 78990
ATTACH;FMTTYPE=image/png:https://www.yvelines-infos.fr/content/uploads/2021/thumbnail-6.png
END:VEVENT
BEGIN:VEVENT
DTSTART;TZID=Europe/Paris:20211211T203000
DTEND;TZID=Europe/Paris:20211211T203000
DTSTAMP:20260422T201009
CREATED:20211104T152824Z
LAST-MODIFIED:20211104T152824Z
UID:380474-1639254600-1639254600@www.yvelines-infos.fr
SUMMARY:Dix Ans Après
DESCRIPTION:Bruno Solo\, Mélanie Page et Julien Boisselier vous embarquent dans une comédie truculente ! Vous allez découvrir des histoires d’amour et d’amitié qui s’entremêlent au fil de nombreux questionnements. \nFaut-il présenter son meilleur ami à la femme qu’on aime ? Faut-il dîner tous les jeudis soirs avec Bernard et Nicole ? Les gens pauvres s’aiment-ils plus longtemps que les riches ? Un écrivain est-il forcément plus drôle qu’un assureur ? Faut-il rompre avant ou après le dessert ? \nUn spectacle détonnant porté par des comédiens au sommet de leur art. \n\n\n\n\nGrande Salle – Durée : 1h25 \nTarif réduit : 34€                                                                                                                                                                                                            Tarif plein : 40€
URL:https://www.yvelines-infos.fr/agenda/dix-ans-apres/
LOCATION:Le Prisme Elancourt\, Centre des 7 Mares\, Elancourt\, 78990
ATTACH;FMTTYPE=image/png:https://www.yvelines-infos.fr/content/uploads/2021/thumbnail-5.png
END:VEVENT
BEGIN:VEVENT
DTSTART;TZID=Europe/Paris:20211116T190000
DTEND;TZID=Europe/Paris:20211116T210000
DTSTAMP:20260422T201009
CREATED:20211025T121734Z
LAST-MODIFIED:20211025T121734Z
UID:380283-1637089200-1637096400@www.yvelines-infos.fr
SUMMARY:PINOCCHIO
DESCRIPTION:Compagnie des Dramaticules \n– à partir de 9ans – \n\n\nConte célèbre d’un petit pantin de bois rêvant de devenir un vrai petit garçon\, Pinocchio n’est plus à présenter. Mais dans cette version de l’histoire\, Pinocchio ne veut pas grandir pour rester libre. Il entreprend alors un voyage initiatique aux mille et une péripéties où le spectateur est plongé dans une réalité fantasmagorique. \nC’est dans un décor inspiré de la féérie du 19ème siècle et l’univers très peuplé de Collodi\, que les spectateurs seront embarqués dans un tourbillon d’aventures. Un lieu de tous les possibles pour donner vie aux souvenirs\, aux fantasmes\, aux mythes et aux rêves… \nGrande Salle – Durée : 1h20 suivi d’un temps d’échange
URL:https://www.yvelines-infos.fr/agenda/pinocchio/
LOCATION:Le Prisme Elancourt\, Centre des 7 Mares\, Elancourt\, 78990
ATTACH;FMTTYPE=image/png:https://www.yvelines-infos.fr/content/uploads/2021/thumbnail-1.png
END:VEVENT
END:VCALENDAR