BEGIN:VCALENDAR
VERSION:2.0
PRODID:-//Yvelines Infos - ECPv6.0.2//NONSGML v1.0//EN
CALSCALE:GREGORIAN
METHOD:PUBLISH
X-ORIGINAL-URL:https://www.yvelines-infos.fr
X-WR-CALDESC:Évènements pour Yvelines Infos
REFRESH-INTERVAL;VALUE=DURATION:PT1H
X-Robots-Tag:noindex
X-PUBLISHED-TTL:PT1H
BEGIN:VTIMEZONE
TZID:Europe/Paris
BEGIN:DAYLIGHT
TZOFFSETFROM:+0100
TZOFFSETTO:+0200
TZNAME:CEST
DTSTART:20190331T010000
END:DAYLIGHT
BEGIN:STANDARD
TZOFFSETFROM:+0200
TZOFFSETTO:+0100
TZNAME:CET
DTSTART:20191027T010000
END:STANDARD
END:VTIMEZONE
BEGIN:VEVENT
DTSTART;VALUE=DATE:20190119
DTEND;VALUE=DATE:20190120
DTSTAMP:20260422T231730
CREATED:20190117T164908Z
LAST-MODIFIED:20190117T164908Z
UID:355017-1547856000-1547942399@www.yvelines-infos.fr
SUMMARY:La Nuit de la Lecture 2019 dans les Yvelines
DESCRIPTION:Lire ensemble\, lire le soir\, en pyjama\, en musique\, en langue des signes… Rendez-vous samedi 19 janvier dans vos bibliothèques et librairies pour participer à cette 3e Nuit de la lecture dont Bérénice Béjo est la marraine.  \nSamedi 19 janvier\, partout en France métropolitaine et dans les Yvelines\, les bibliothèques\, les médiathèques et les librairies vous proposent de découvrir de manière ludique et festive la richesse de leurs collections papier et numérique mais aussi de consulter les nouvelles parutions comme les œuvres littéraires du passé\, d’échanger ou encore de jouer autour des mots. \nDès le matin\, dans l’après-midi et toute la soirée\, participez aux animations gratuites conçues pour les enfants\, les adolescents et les adultes – lectures itinérantes\, jeux d’évasion\, ateliers en pyjama ou en musique\, débats – et aux rencontres avec des auteurs\, illustrateurs\, conteurs. \nRetrouvez toutes les animations dans les Yvelines sur la carte ci-dessous ou sur le site de la Nuit de la Lecture. \n 
URL:https://www.yvelines-infos.fr/agenda/la-nuit-de-la-lecture-2019-dans-les-yvelines/
ATTACH;FMTTYPE=image/jpeg:https://www.yvelines-infos.fr/content/uploads/2019/17-et-18-janvier-actualite-image-nuit-de--la--lecture-2019.jpg
END:VEVENT
END:VCALENDAR