BEGIN:VCALENDAR
VERSION:2.0
PRODID:-//Yvelines Infos - ECPv6.0.2//NONSGML v1.0//EN
CALSCALE:GREGORIAN
METHOD:PUBLISH
X-WR-CALNAME:Yvelines Infos
X-ORIGINAL-URL:https://www.yvelines-infos.fr
X-WR-CALDESC:Évènements pour Yvelines Infos
REFRESH-INTERVAL;VALUE=DURATION:PT1H
X-Robots-Tag:noindex
X-PUBLISHED-TTL:PT1H
BEGIN:VTIMEZONE
TZID:Europe/Paris
BEGIN:DAYLIGHT
TZOFFSETFROM:+0100
TZOFFSETTO:+0200
TZNAME:CEST
DTSTART:20180325T010000
END:DAYLIGHT
BEGIN:STANDARD
TZOFFSETFROM:+0200
TZOFFSETTO:+0100
TZNAME:CET
DTSTART:20181028T010000
END:STANDARD
END:VTIMEZONE
BEGIN:VEVENT
DTSTART;TZID=Europe/Paris:20181117T200000
DTEND;TZID=Europe/Paris:20181117T230000
DTSTAMP:20260423T054540
CREATED:20181113T170653Z
LAST-MODIFIED:20181113T171132Z
UID:353942-1542484800-1542495600@www.yvelines-infos.fr
SUMMARY:Lino Ventura à l'honneur du Festival de la bande-annonce
DESCRIPTION:Pour cette 4e édition\, samedi 17 novembre à 20h\, le Festival de la bande-annonce de Bois d’Arcy met à l’honneur un immense acteur du cinéma français. C’est l’année Lino Ventura à Bois d’Arcy. \nVenez découvrir ou redécouvrir les bandes-annonces des plus grands films de Lino Ventura\, mais aussi plein d’autres trésors du septième art.\nVincent Perrot\, nous fera encore l’honneur d’animer cette magnifique soirée au Théâtre de la Grange. Grand passionné de cinéma\, il saura vous guider à travers les différentes catégories sélectionnées grâce à sa science cinématographique.\nEntre curiosités\, grandes comédies ou encore films de l’année 1968\, vous allez en prendre plein les yeux. \nNouveauté 2019\nNouveauté cette année\, quizz et vote pendant la soirée pour gagner des places de spectacles et de cinéma. \nVersion junior\nLa ville donne rendez-vous aux jeunes\, le lendemain\, dimanche 18 novembre à 15h au cinéma de la Grange\, pour découvrir toutes les bandes-annonces des films d’animations et films pour enfants programmés dans les mois à venir à Bois d’Arcy. \nTél : 01 30 07 11 80 – lagrangedelatremblaye@boisdarcy.fr \nENTRÉE LIBRE – RÉSERVEZ VITE !
URL:https://www.yvelines-infos.fr/agenda/lino-ventura-a-lhonneur-du-festival-de-la-bande-annonce/
LOCATION:Cinéma de la Grange\, Ferme de la Tremblaye\, rue du Parc\, Bois d'Arcy \, 78390\, France
ATTACH;FMTTYPE=image/png:https://www.yvelines-infos.fr/content/uploads/2018/babalinoventura-40x60.png
ORGANIZER;CN="La%20Grange%20de%20la%20Tremblaye":MAILTO:lagrangedelatremblaye@boisdarcy.fr
GEO:48.7999107;2.0237049
X-APPLE-STRUCTURED-LOCATION;VALUE=URI;X-ADDRESS=Cinéma de la Grange Ferme de la Tremblaye rue du Parc Bois d'Arcy  78390 France;X-APPLE-RADIUS=500;X-TITLE=Ferme de la Tremblaye\, rue du Parc:geo:2.0237049,48.7999107
END:VEVENT
END:VCALENDAR