BEGIN:VCALENDAR
VERSION:2.0
PRODID:-//Yvelines Infos - ECPv6.0.2//NONSGML v1.0//EN
CALSCALE:GREGORIAN
METHOD:PUBLISH
X-WR-CALNAME:Yvelines Infos
X-ORIGINAL-URL:https://www.yvelines-infos.fr
X-WR-CALDESC:Évènements pour Yvelines Infos
REFRESH-INTERVAL;VALUE=DURATION:PT1H
X-Robots-Tag:noindex
X-PUBLISHED-TTL:PT1H
BEGIN:VTIMEZONE
TZID:Europe/Paris
BEGIN:DAYLIGHT
TZOFFSETFROM:+0100
TZOFFSETTO:+0200
TZNAME:CEST
DTSTART:20190331T010000
END:DAYLIGHT
BEGIN:STANDARD
TZOFFSETFROM:+0200
TZOFFSETTO:+0100
TZNAME:CET
DTSTART:20191027T010000
END:STANDARD
BEGIN:DAYLIGHT
TZOFFSETFROM:+0100
TZOFFSETTO:+0200
TZNAME:CEST
DTSTART:20200329T010000
END:DAYLIGHT
BEGIN:STANDARD
TZOFFSETFROM:+0200
TZOFFSETTO:+0100
TZNAME:CET
DTSTART:20201025T010000
END:STANDARD
BEGIN:DAYLIGHT
TZOFFSETFROM:+0100
TZOFFSETTO:+0200
TZNAME:CEST
DTSTART:20210328T010000
END:DAYLIGHT
BEGIN:STANDARD
TZOFFSETFROM:+0200
TZOFFSETTO:+0100
TZNAME:CET
DTSTART:20211031T010000
END:STANDARD
BEGIN:DAYLIGHT
TZOFFSETFROM:+0100
TZOFFSETTO:+0200
TZNAME:CEST
DTSTART:20220327T010000
END:DAYLIGHT
BEGIN:STANDARD
TZOFFSETFROM:+0200
TZOFFSETTO:+0100
TZNAME:CET
DTSTART:20221030T010000
END:STANDARD
END:VTIMEZONE
BEGIN:VEVENT
DTSTART;TZID=Europe/Paris:20220609T203000
DTEND;TZID=Europe/Paris:20220609T233000
DTSTAMP:20260422T125914
CREATED:20220519T090122Z
LAST-MODIFIED:20220519T090122Z
UID:386773-1654806600-1654817400@www.yvelines-infos.fr
SUMMARY:The Schizophonics + Chester Remington
DESCRIPTION:Dotés d’une puissante aisance scénique\, les Américains de Schizophonics offrent des concerts inoubliables tant par l’énergie qu’ils dépensent que par la qualité musicale proposée. Fondé en 2009 à San Diego par le chanteur / guitariste Pat Beers et la batteuse Lety Beers\, le projet se construit autour d’un rock’n’roll pur et transpirant\, inspiré par Jimi Hendricks\, Little Richard ou encore The Sonics. \nAprès un premier LP remarqué sorti en 2017 sur le label Sympathy for the Record Industry\, leur second album a fait l’unanimité et les a emmenés dans de longues tournées à travers le monde. L’excellence et la qualité de leurs prestations live ne sont pas passées inaperçues\, le magazine Shindig a décrit leur show « comme regarder un hybride fou de Wayne Kramer\, James Brown et le diable de Tasmanie »… Et on ne vous cache pas qu’on a hâte ! \nFusée sonore venue de Reims\, Chester Remington joue un rock kaléidoscopique qui n’appartient qu’à lui. Aussi bien influencé par la British Pop des 60’s\, le Grunge US 90’s ainsi que par le Garage ensorcelé australien\, le groupe a sorti en 2021 une poignée de titres remarqués. Porté par des concerts qui marquent les esprits\, le ciré jaune s’apprête à déferler sur 2022. Préparez-vous car vous n’avez pas fini d’en entendre parler.
URL:https://www.yvelines-infos.fr/agenda/the-schizophonics-chester-remington/
LOCATION:La Clef\, 46 rue de Mareil\, Saint Germain en Laye\, 78100
ATTACH;FMTTYPE=image/jpeg:https://www.yvelines-infos.fr/content/uploads/2022/the-schizophonics-johnnie-ca-4946533128546308063.jpg
ORGANIZER;CN="La%20Clef":MAILTO:contact@laclef.asso.fr
END:VEVENT
BEGIN:VEVENT
DTSTART;TZID=Europe/Paris:20220602T203000
DTEND;TZID=Europe/Paris:20220602T203000
DTSTAMP:20260422T125914
CREATED:20220518T151307Z
LAST-MODIFIED:20220518T151307Z
UID:386733-1654201800-1654201800@www.yvelines-infos.fr
SUMMARY:Tamikrest + Tiwiza
DESCRIPTION:Considéré comme le fer de lance de la nouvelle génération touareg\, ces héritiers légitimes de Tinariwen ouvrent depuis longtemps de nouvelles voies entre le blues du désert et le rock occidental. Tamikrest en langue tamasheq signifie jonction\, connexion\, nœud\, coalition… Parfaite représentation de la démarche du groupe dont les membres viennent d’horizons différents (Mali\, Niger\, Algérie et France). Souhaitant assumer pleinement leur identité touarègue\, ils ont trouvé dans la musique rebelle Ishumar les moyens de s’exprimer. Impressionnant de variété et d’énergie\, leur dernier album (« Tamotaït »\, sorti en 2020) est un hommage vibrant à l’histoire du blues touareg et aux combats des peuples en quête de liberté. \nCe seront les cinq musiciens du projet Tiwiza qui ouvriront le bal de cette soirée. Le groupe Franco-Algérien originaire de Toulouse propose une musique métissée\, entre rock et traditions Berbères\, une musique du monde qui balance entre tradition et modernité. Tiwiza\, c’est aussi un propos engagé\, pointant les désordres du monde et défendant la liberté et la sauvegarde de la diversité des cultures humaines. Bref\, un parfait écho à la démarche de Tamikrest\, et ce pour notre plus grand plaisir !
URL:https://www.yvelines-infos.fr/agenda/tamikrest-tiwiza/
LOCATION:La Clef\, 46 rue de Mareil\, Saint Germain en Laye\, 78100
ATTACH;FMTTYPE=image/jpeg:https://www.yvelines-infos.fr/content/uploads/2022/mu4t8-4946539458971857047.jpg
ORGANIZER;CN="La%20Clef":MAILTO:contact@laclef.asso.fr
END:VEVENT
BEGIN:VEVENT
DTSTART;TZID=Europe/Paris:20220530T204500
DTEND;TZID=Europe/Paris:20220530T204500
DTSTAMP:20260422T125914
CREATED:20220518T151407Z
LAST-MODIFIED:20220518T151407Z
UID:386729-1653943500-1653943500@www.yvelines-infos.fr
SUMMARY:Voodoo Cello par Imany
DESCRIPTION:Avec Voodoo Cello\, la chanteuse Imany jette un sort à huit violoncelles pour transformer des tubes incontournables de l’histoire de la pop (de Ed Sheeran à Cat Stevens en passant par Donna Summer\, Hozier\, t.A.T.u.\, Bob Marley\, Elton John\, Neil Diamond…). Sans aucun artifice\, elle utilise la magie combinée des cordes et de sa voix pour ensorceler les spectateurs et éveiller leurs consciences autour de la puissance du féminin. \nDepuis dix ans\, la voix grave d’Imany séduit le public français au rythme de compositions nourries de ses inspirations soul\, folk et blues. Du triomphe des deux single « Don’t Be So Shy » et « You Will Never Know »\, de ses deux albums à la bande originale du film « Sous les jupes des filles » d’Audrey Dana\, Imany enchaîne les succès partout dans le monde. Après une pause consécutive à de longues tournées internationales\, Imany retrouve la scène pour marier son timbre de voix aux chaudes sonorités d’un ensemble de violoncelles. À ne pas manquer !
URL:https://www.yvelines-infos.fr/agenda/voodoo-cello-par-imany/
LOCATION:Théâtre Alexandre Dumas\, Place André Malraux\, 78100 Saint-Germain-en-Laye \, 78100\, France
ATTACH;FMTTYPE=image/jpeg:https://www.yvelines-infos.fr/content/uploads/2022/imany-billet-4719416095148709386.jpg
ORGANIZER;CN="La%20Clef":MAILTO:contact@laclef.asso.fr
GEO:48.8970028;2.0956111
X-APPLE-STRUCTURED-LOCATION;VALUE=URI;X-ADDRESS=Théâtre Alexandre Dumas Place André Malraux 78100 Saint-Germain-en-Laye  78100 France;X-APPLE-RADIUS=500;X-TITLE=Place André Malraux:geo:2.0956111,48.8970028
END:VEVENT
BEGIN:VEVENT
DTSTART;TZID=Europe/Paris:20220525T200000
DTEND;TZID=Europe/Paris:20220525T233000
DTSTAMP:20260422T125914
CREATED:20220518T124840Z
LAST-MODIFIED:20220518T124840Z
UID:386721-1653508800-1653521400@www.yvelines-infos.fr
SUMMARY:Frustration + Vox Low + Bryan’s Magic Tears
DESCRIPTION:Cela fait maintenant une bonne quinzaine d’année que Frustration fait régner sa loi sur le post-punk hexagonal. Les voilà de retour à La CLEF après deux ans d’attente fébrile suite à une résidence ici en… décembre 2019 ! Les plus vieux pensionnaires de l’écurie Born Bad Records sont de retour pour marquer les 15 ans du label dont ils sont aussi l’un des groupes emblématiques. Frustration sortira l’artillerie lourde\, entre classiques de toujours et extraits de l’excellent dernier album « So Cold Streams »\, où trahir sa ligne de conduite tout en proposant des choses inédites\, notamment à travers des textes plus engagés que jamais ou des rapprochements avec tout un pan de la mythologie cold wave. \nLes parisiens de Vox Low sont probablement les plus proches parents de Frustration avec un post-punk / cold wave très musclé qui puise ses influences aussi bien chez Primal Scream que chez… Gary Numan ! Fidèle à une volonté d’indépendance et d’expérimentation\, le quatuor alterne les sorties sur Born Bad Records et les expériences avec de petits labels. En concert on reste scotché par l’une des rares formations à avoir su surfer avec classe entre les influences sixties-rockabilly et la techno froide et minimale venant du côté de Cologne ou de Berlin. \nBryan’s Magic Tears vient de sortir son troisième album « Vacuum Sealed »\, chez Born Bad Records\, déjà l’un des classiques à guitares du début des années 2000. Pour ceux qui ont déjà eu la chance de les voir sur scène\, « Vacuum Sealed » est l’évidente confirmation d’un groupe qui témoigne désormais de l’assurance des plus grands\, mais continue à se renouveler\, prêt à assumer une place centrale dans le rock psyché français d’aujourd’hui.
URL:https://www.yvelines-infos.fr/agenda/frustration-vox-low-bryans-magic-tears/
LOCATION:La Clef\, 46 rue de Mareil\, Saint Germain en Laye\, 78100
ATTACH;FMTTYPE=image/jpeg:https://www.yvelines-infos.fr/content/uploads/2022/frustration-4872188326989933920.jpg
ORGANIZER;CN="La%20Clef":MAILTO:contact@laclef.asso.fr
END:VEVENT
BEGIN:VEVENT
DTSTART;TZID=Europe/Paris:20220520T200000
DTEND;TZID=Europe/Paris:20220520T233000
DTSTAMP:20260422T125914
CREATED:20220519T145223Z
LAST-MODIFIED:20220519T145223Z
UID:386776-1653076800-1653089400@www.yvelines-infos.fr
SUMMARY:Soirée All access #9.6 de La CLEF !
DESCRIPTION:Voilà maintenant neuf saisons que les soirées dites « All Access » sont devenues l’incontournable rendez-vous découvertes de La CLEF. De nombreux groupes\, plus d’une centaine\, se sont déjà produits à l’Éclipse (club)\, venus de Saint-Germain ou des environs\, confirmés ou non. Tous les mois\, cette soirée prône l’éclectisme et met l’accent sur la proximité\, la rencontre et la convivialité. \nAu programme cette soirée : \n\nRen Gamma (rock funk groovy)\nEmilie Marcadé (piano-voix / chanson)\nCloudy Heads (rock alternatif)\nCircle Dudes (punk rock)\nAtelier jazz de La CLEF
URL:https://www.yvelines-infos.fr/agenda/soiree-all-access-9-6-de-la-clef/
LOCATION:La Clef\, 46 rue de Mareil\, Saint Germain en Laye\, 78100
ATTACH;FMTTYPE=image/jpeg:https://www.yvelines-infos.fr/content/uploads/2022/csm-all-access-9-6-4e65f92aed.jpg
ORGANIZER;CN="La%20Clef":MAILTO:contact@laclef.asso.fr
END:VEVENT
BEGIN:VEVENT
DTSTART;TZID=Europe/Paris:20190118T203000
DTEND;TZID=Europe/Paris:20190118T233000
DTSTAMP:20260422T125914
CREATED:20181017T093623Z
LAST-MODIFIED:20181017T093623Z
UID:353276-1547843400-1547854200@www.yvelines-infos.fr
SUMMARY:La CLEF présente Theo Lawrence & The Hearts / Gunwood au Théâtre du Vésinet
DESCRIPTION:Road trip à travers les routes du sud des Etats-Unis. On y entend du blues moite\, de la soul cuivrée et du rock authentique \nUne voix à l’accent irréprochable\, des chansons qui narguent l’horizon\, un mélange savant de rock et de soul… Theo Lawrence & The Hearts puise ses influences entre Alabama Shakes\, les Ramones et Aretha Franklin en passant par de la musique asiatique des années 60\, Ray Charles\, Neil Young\, du gospel… Aucune frontière ne leur résiste. Un univers riche\, à découvrir en live ! \n————————————- \nGunwood nous convie à un voyage musical aux inspirations multiples. Aux rythmes des mélodies\, des images affluent : celles des paysages de l’Irlande et de l’ouest américain. Loin de toute nostalgie\, ils s’autorisent à bousculer tous les codes\, offrant à leur musique un savoureux mélange d’héritage bluegrass et de modernité. Les membres de ce groupe ont le talent pour faire groover efficacement la musique à travers les grands espaces. Plus qu’un répertoire\, l’oeuvre de Gunwood est un véritable carnet de voyage mélodique. \n—————– \nACHETEZ VOS PLACES \nSans frais de location \nSur le site de La CLEF → http://bit.ly/1bccdnu \nAvec frais de location \nFnac – Carrefour – www.fnac.com \n—————– \nINFOS PRATIQUES \nThéâtre du Vésinet \n59 Boulevard Carnot\, 78110 Le Vésinet \nTéléphone : 01 30 15 66 00 \n  \nAssociation La CLEF \nCourriel : communication@laclef.asso.fr \n→ http://www.laclef.asso.fr/ \n→ http://facebook.com/laclefsaintgermain \n→ http://twitter.com/laclefstgermain \n→ http://instagram.com/laclefstgermain
URL:https://www.yvelines-infos.fr/agenda/la-clef-presente-theo-lawrence-the-hearts-gunwood-au-theatre-du-vesinet/
LOCATION:Théâtre du Vésinet\, 59 Boulevard Carnot\, Le Vésinet\, 78110
ATTACH;FMTTYPE=image/jpeg:https://www.yvelines-infos.fr/content/uploads/2018/theo-lawrence-officiel.jpg
ORGANIZER;CN="La%20Clef":MAILTO:contact@laclef.asso.fr
END:VEVENT
END:VCALENDAR