BEGIN:VCALENDAR
VERSION:2.0
PRODID:-//Yvelines Infos - ECPv6.0.2//NONSGML v1.0//EN
CALSCALE:GREGORIAN
METHOD:PUBLISH
X-ORIGINAL-URL:https://www.yvelines-infos.fr
X-WR-CALDESC:Évènements pour Yvelines Infos
REFRESH-INTERVAL;VALUE=DURATION:PT1H
X-Robots-Tag:noindex
X-PUBLISHED-TTL:PT1H
BEGIN:VTIMEZONE
TZID:Europe/Paris
BEGIN:DAYLIGHT
TZOFFSETFROM:+0100
TZOFFSETTO:+0200
TZNAME:CEST
DTSTART:20180325T010000
END:DAYLIGHT
BEGIN:STANDARD
TZOFFSETFROM:+0200
TZOFFSETTO:+0100
TZNAME:CET
DTSTART:20181028T010000
END:STANDARD
END:VTIMEZONE
BEGIN:VEVENT
DTSTART;VALUE=DATE:20181011
DTEND;VALUE=DATE:20181015
DTSTAMP:20260423T165701
CREATED:20181009T140524Z
LAST-MODIFIED:20181009T140524Z
UID:353100-1539216000-1539561599@www.yvelines-infos.fr
SUMMARY:Salon E-TONOMY
DESCRIPTION:E-TONOMY\, c’est le nouveau rendez-vous international de la rencontre du numérique et de l’aide à la personne qui se déroule du 11 octobre au 14 octobre au Campus aux Mureaux. Derrière l’événement\, INVIE\, une plateforme départementale au cœur des filières de services à la personne. Sous le parrainage de Michaël JEREMIASZ\, quadruple champion de tennis paralympique\, CoFondateur de l’association « Comme les autres »\, le salon attend plus de 2 000 visiteurs\, des délégations internationales\, des experts et des startups. Au programme ? Conférences\, Hackathon\, démos en robotique\, domotique et autres objets connectés pour faire avancer l’autonomie. \nLE SALON EN BREF : 20 000m² de campus\, \n2 000 visiteurs attendus\, \n54h de hackathon\, \n120 participants\, \n10 prix pour récompenser l’innovation\, \n22 experts\, \n7 pays représentés\, \nDes conférences\, \n2 jours de salon et de démonstrations par des startups françaises et internationales
URL:https://www.yvelines-infos.fr/agenda/salon-e-tonomy/
LOCATION:Campus des Mureaux\, 17 rue Albert Thomas\, Les Mureaux\, 78130\, France
ATTACH;FMTTYPE=image/png:https://www.yvelines-infos.fr/content/uploads/2018/capture-decran-2018-10-09-a-16-04-19.png
END:VEVENT
END:VCALENDAR