BEGIN:VCALENDAR
VERSION:2.0
PRODID:-//Yvelines Infos - ECPv6.0.2//NONSGML v1.0//EN
CALSCALE:GREGORIAN
METHOD:PUBLISH
X-WR-CALNAME:Yvelines Infos
X-ORIGINAL-URL:https://www.yvelines-infos.fr
X-WR-CALDESC:Évènements pour Yvelines Infos
REFRESH-INTERVAL;VALUE=DURATION:PT1H
X-Robots-Tag:noindex
X-PUBLISHED-TTL:PT1H
BEGIN:VTIMEZONE
TZID:Europe/Paris
BEGIN:DAYLIGHT
TZOFFSETFROM:+0100
TZOFFSETTO:+0200
TZNAME:CEST
DTSTART:20200329T010000
END:DAYLIGHT
BEGIN:STANDARD
TZOFFSETFROM:+0200
TZOFFSETTO:+0100
TZNAME:CET
DTSTART:20201025T010000
END:STANDARD
END:VTIMEZONE
BEGIN:VEVENT
DTSTART;TZID=Europe/Paris:20200118T100000
DTEND;TZID=Europe/Paris:20200118T140000
DTSTAMP:20260422T215923
CREATED:20191210T085735Z
LAST-MODIFIED:20191210T085735Z
UID:363969-1579341600-1579356000@www.yvelines-infos.fr
SUMMARY:Journée portes ouvertes de l'IFSY
DESCRIPTION:Venez découvrir l’IFSY et ses formations sociales lors de la journée portes ouvertes organisée le samedi 18 janvier 2020 de 10h à 14h. \nAu programme : \n– visite de l’établissement\n– rencontres avec les formateurs et les étudiants\n– présentation de association des étudiants\n– conférence sur les métiers sociaux à 11h \nNous vous attendons nombreux\, accueil garanti dans la bonne humeur 🙂
URL:https://www.yvelines-infos.fr/agenda/journee-portes-ouvertes-de-lifsy/
LOCATION:Institut de Formation Sociale des Yvelines\, 27 boulevard Saint-Antoine\, Versailles\, 78000\, France
ATTACH;FMTTYPE=image/png:https://www.yvelines-infos.fr/content/uploads/2019/jpo-image.png
ORGANIZER;CN="Institut%20de%20Formation%20Sociale%20des%20Yvelines":MAILTO:ifsy@yvelines.fr
END:VEVENT
END:VCALENDAR