BEGIN:VCALENDAR
VERSION:2.0
PRODID:-//Yvelines Infos - ECPv6.0.2//NONSGML v1.0//EN
CALSCALE:GREGORIAN
METHOD:PUBLISH
X-ORIGINAL-URL:https://www.yvelines-infos.fr
X-WR-CALDESC:Évènements pour Yvelines Infos
REFRESH-INTERVAL;VALUE=DURATION:PT1H
X-Robots-Tag:noindex
X-PUBLISHED-TTL:PT1H
BEGIN:VTIMEZONE
TZID:Europe/Paris
BEGIN:DAYLIGHT
TZOFFSETFROM:+0100
TZOFFSETTO:+0200
TZNAME:CEST
DTSTART:20190331T010000
END:DAYLIGHT
BEGIN:STANDARD
TZOFFSETFROM:+0200
TZOFFSETTO:+0100
TZNAME:CET
DTSTART:20191027T010000
END:STANDARD
BEGIN:DAYLIGHT
TZOFFSETFROM:+0100
TZOFFSETTO:+0200
TZNAME:CEST
DTSTART:20200329T010000
END:DAYLIGHT
BEGIN:STANDARD
TZOFFSETFROM:+0200
TZOFFSETTO:+0100
TZNAME:CET
DTSTART:20201025T010000
END:STANDARD
BEGIN:DAYLIGHT
TZOFFSETFROM:+0100
TZOFFSETTO:+0200
TZNAME:CEST
DTSTART:20210328T010000
END:DAYLIGHT
BEGIN:STANDARD
TZOFFSETFROM:+0200
TZOFFSETTO:+0100
TZNAME:CET
DTSTART:20211031T010000
END:STANDARD
BEGIN:DAYLIGHT
TZOFFSETFROM:+0100
TZOFFSETTO:+0200
TZNAME:CEST
DTSTART:20220327T010000
END:DAYLIGHT
BEGIN:STANDARD
TZOFFSETFROM:+0200
TZOFFSETTO:+0100
TZNAME:CET
DTSTART:20221030T010000
END:STANDARD
END:VTIMEZONE
BEGIN:VEVENT
DTSTART;TZID=Europe/Paris:20220401T100000
DTEND;TZID=Europe/Paris:20220430T180000
DTSTAMP:20260423T062405
CREATED:20220406T085737Z
LAST-MODIFIED:20220406T085737Z
UID:385358-1648807200-1651341600@www.yvelines-infos.fr
SUMMARY:Exposition Sœurcières - dessin peinture
DESCRIPTION:Les Sœurcières sont de retour à l’Office de Tourisme du Pays Houdanais au mois d’avril !\nPython et Nip sont deux sœurs artistes peintres\, qui travaillent entre autres l’acrylique\, le graphite\, la gouache et l’encre.\n\nPour cette édition\, Nip expose ses toiles acryliques crées autour du thème du cheval. Python propose des paysages et de grands portraits féminins en résonance avec son amour pour le Mexique. La défense de l’environnement et des animaux reste centrale dans l’œuvre des deux sœurs.\n\nEntrée libre.\n\nHoraires :\nDu mardi au vendredi 10h00 – 12h30 et 15h00 – 18h00\nLe samedi 10h00 – 12h30 et 14h00 – 18h00\n\nVente spéciale de prints le samedi 30 avril sur place.\n\nPour avoir un aperçu : https://sofpython.com/soeurcieres/\nPour rester informés suivez-nous sur les réseaux sociaux :\n– facebook > /nip.python\n– instagram > @soeurcieres_\n\n\n\n\nOffice de Tourisme du Pays Houdanais\n4 rue de la Tour\n78550 HOUDAN
URL:https://www.yvelines-infos.fr/agenda/exposition-soeurcieres-dessin-peinture/
LOCATION:Office de Tourisme du Pays Houdanais\, 4 Place de la Tour\, Houdan\, 78550
ATTACH;FMTTYPE=image/jpeg:https://www.yvelines-infos.fr/content/uploads/2022/soeurcieres-houdan-2022-25b-rvb-s.jpg
ORGANIZER;CN="Houdan":MAILTO:mairiehoudan.secretariat@cc-payshoudanais.fr
END:VEVENT
BEGIN:VEVENT
DTSTART;TZID=Europe/Paris:20190629T210000
DTEND;TZID=Europe/Paris:20190629T233000
DTSTAMP:20260423T062405
CREATED:20190626T105243Z
LAST-MODIFIED:20190626T105243Z
UID:359905-1561842000-1561851000@www.yvelines-infos.fr
SUMMARY:Soirée cubaine à Houdan
DESCRIPTION:Samedi 29 juin 2019\, rendez-vous à Houdan pour une soirée cubaine inoubliable : un grand concert de la Saint-Christophe est organisé sur la place de la Tour à 21h ! \nVenez nombreux !
URL:https://www.yvelines-infos.fr/agenda/soiree-cubaine-a-houdan/
LOCATION:Place de la Tour\, Place de la Tour\, Houdan\, 78550\, France
ATTACH;FMTTYPE=image/jpeg:https://www.yvelines-infos.fr/content/uploads/2019/65527365-2239875469421490-7275818394929070080-o.jpg
ORGANIZER;CN="Houdan":MAILTO:mairiehoudan.secretariat@cc-payshoudanais.fr
END:VEVENT
END:VCALENDAR