BEGIN:VCALENDAR
VERSION:2.0
PRODID:-//Yvelines Infos - ECPv6.0.2//NONSGML v1.0//EN
CALSCALE:GREGORIAN
METHOD:PUBLISH
X-WR-CALNAME:Yvelines Infos
X-ORIGINAL-URL:https://www.yvelines-infos.fr
X-WR-CALDESC:Évènements pour Yvelines Infos
REFRESH-INTERVAL;VALUE=DURATION:PT1H
X-Robots-Tag:noindex
X-PUBLISHED-TTL:PT1H
BEGIN:VTIMEZONE
TZID:Europe/Paris
BEGIN:DAYLIGHT
TZOFFSETFROM:+0100
TZOFFSETTO:+0200
TZNAME:CEST
DTSTART:20170326T010000
END:DAYLIGHT
BEGIN:STANDARD
TZOFFSETFROM:+0200
TZOFFSETTO:+0100
TZNAME:CET
DTSTART:20171029T010000
END:STANDARD
END:VTIMEZONE
BEGIN:VEVENT
DTSTART;TZID=Europe/Paris:20171007T203000
DTEND;TZID=Europe/Paris:20171007T223000
DTSTAMP:20260423T063839
CREATED:20171004T085608Z
LAST-MODIFIED:20171004T085621Z
UID:344134-1507408200-1507415400@www.yvelines-infos.fr
SUMMARY:Soirée musicale
DESCRIPTION:Soirée Musicale autour de la musique de CABARET. Tel que… Musik ist TRUMP\, Refrains de PARIS\, la Reine de BROADWAYS\, Moulin rouge\, le Galop internal ( French Cancan )…….
URL:https://www.yvelines-infos.fr/agenda/soiree-musicale/
LOCATION:Salle Polyvalente\, 10 Route d'Yvette\, Lévis-Saint-Nom\, 78320
ATTACH;FMTTYPE=image/jpeg:https://www.yvelines-infos.fr/content/uploads/2017/Concert-Cabaret-du-07-octobre-2017-2.pdf-20.09.2017_1-2.jpg
ORGANIZER;CN="Horchestre%20d%27Harmonie%20de%20THOIRY":MAILTO:bernardchoplin@wanadoo.fr
END:VEVENT
END:VCALENDAR