BEGIN:VCALENDAR
VERSION:2.0
PRODID:-//Yvelines Infos - ECPv6.0.2//NONSGML v1.0//EN
CALSCALE:GREGORIAN
METHOD:PUBLISH
X-WR-CALNAME:Yvelines Infos
X-ORIGINAL-URL:https://www.yvelines-infos.fr
X-WR-CALDESC:Évènements pour Yvelines Infos
REFRESH-INTERVAL;VALUE=DURATION:PT1H
X-Robots-Tag:noindex
X-PUBLISHED-TTL:PT1H
BEGIN:VTIMEZONE
TZID:Europe/Paris
BEGIN:DAYLIGHT
TZOFFSETFROM:+0100
TZOFFSETTO:+0200
TZNAME:CEST
DTSTART:20190331T010000
END:DAYLIGHT
BEGIN:STANDARD
TZOFFSETFROM:+0200
TZOFFSETTO:+0100
TZNAME:CET
DTSTART:20191027T010000
END:STANDARD
END:VTIMEZONE
BEGIN:VEVENT
DTSTART;TZID=Europe/Paris:20190625T200000
DTEND;TZID=Europe/Paris:20190625T230000
DTSTAMP:20260422T194433
CREATED:20190611T093821Z
LAST-MODIFIED:20190611T093821Z
UID:359202-1561492800-1561503600@www.yvelines-infos.fr
SUMMARY:Concert des 20 ans ! Harmonie de Saint Quentin en Yvelines
DESCRIPTION:Çà y est\, voilà déjà le concert de fin d’année !! Venez fêter nos 20 ans de musiques et de passions avec nos amis de Coup de Vents et du Montigny Wind Orchestra – Salle Jacques Brel à Montigny-le-Bretonneux ! \nDes surprises en perspective et de la bonne humeur garantie. Plus de deux heures de musique joyeuse ! \nVenez nombreux\, réservation conseillée : 0663890941 ou  reservation@hsqy.fr
URL:https://www.yvelines-infos.fr/agenda/concert-des-20-ans-harmonie-de-saint-quentin-en-yvelines/
LOCATION:Salle Jacques Brel\, 4 Rue de la Mare aux Carats\, Montigny-le-Bretonneux\, 78180
ATTACH;FMTTYPE=image/jpeg:https://www.yvelines-infos.fr/content/uploads/2019/1.jpg
ORGANIZER;CN="Harmonie%20de%20Saint%20Quentin%20en%20Yvelines":MAILTO:hsqy78@gmail.com
END:VEVENT
BEGIN:VEVENT
DTSTART;TZID=Europe/Paris:20190510T203000
DTEND;TZID=Europe/Paris:20190510T233000
DTSTAMP:20260422T194433
CREATED:20190401T124135Z
LAST-MODIFIED:20190401T124135Z
UID:356929-1557520200-1557531000@www.yvelines-infos.fr
SUMMARY:Fest' Harmonies SQY 2019
DESCRIPTION:L’Orchestre d’Harmonie\, composé de cuivres\, de bois et de percussions\, est une formation musicale d’origine populaire (fin XIX° début XX°) qui maille toute la France et particulièrement l’Ile de France. Les formations amateurs sont gérées sous forme associative et les formations professionnelles sont principalement militaires. \nA l’occasion de ses 20 ans d’existence\, l’Harmonie de St Quentin en Yvelines organise le 1er festival d’Harmonies sur le territoire de l’Agglomération de St Quentin en Yvelines les 10\, 11 et 12 mai 2019 à l’Espace Alphonse Daudet de Coignières. \nCe festival  regroupera pour la première fois les 4 Harmonies de l’agglomération : \n\nL’harmonie du conservatoire de Montigny-le-Bretonneux (MWO)\,\nL’harmonie du conservatoire de Maurepas\,\nL’harmonie Magnycoise (Magny-les-Hameaux)\nL’harmonie de St Quentin en Yvelines\,\n\nAinsi que d’autres ensembles d’Île de France \n\nL’harmonie du conservatoire de Suresnes\,\nL’harmonie du Le Vésinet\,\nGPS Orchestra (ancienne harmonie départementale).\n\nCes orchestres se produiront les samedi et dimanche après-midi à partir de 14h. Les thèmes musicaux seront variés : du jazz au classique en passant par des musiques de films et de variété. Les cuivres de Mon Moulin animeront le festival entre les concerts. \nCe festival sera précédé par un concert d’ouverture le vendredi 10 mai à 20h 30\, soirée au cours de laquelle vous pourrez venir écouter la grande Harmonie de La Garde Républicaine. \nVenez nombreux pour encourager ces orchestres composés de musiciens amateurs. Une buvette vous accueillera à bras ouverts les après-midi.
URL:https://www.yvelines-infos.fr/agenda/fest-harmonies-sqy-2019/2019-05-10/
LOCATION:Espace Alphonse Daudet de Coignières\, 26 Rue du Moulin À Vent\, Coignières\, 78310
ATTACH;FMTTYPE=image/jpeg:https://www.yvelines-infos.fr/content/uploads/2019/affiche-a.jpeg
ORGANIZER;CN="Harmonie%20de%20Saint%20Quentin%20en%20Yvelines":MAILTO:hsqy78@gmail.com
END:VEVENT
END:VCALENDAR