BEGIN:VCALENDAR
VERSION:2.0
PRODID:-//Yvelines Infos - ECPv6.0.2//NONSGML v1.0//EN
CALSCALE:GREGORIAN
METHOD:PUBLISH
X-ORIGINAL-URL:https://www.yvelines-infos.fr
X-WR-CALDESC:Évènements pour Yvelines Infos
REFRESH-INTERVAL;VALUE=DURATION:PT1H
X-Robots-Tag:noindex
X-PUBLISHED-TTL:PT1H
BEGIN:VTIMEZONE
TZID:Europe/Paris
BEGIN:DAYLIGHT
TZOFFSETFROM:+0100
TZOFFSETTO:+0200
TZNAME:CEST
DTSTART:20180325T010000
END:DAYLIGHT
BEGIN:STANDARD
TZOFFSETFROM:+0200
TZOFFSETTO:+0100
TZNAME:CET
DTSTART:20181028T010000
END:STANDARD
END:VTIMEZONE
BEGIN:VEVENT
DTSTART;TZID=Europe/Paris:20180324T170000
DTEND;TZID=Europe/Paris:20180324T190000
DTSTAMP:20260423T125755
CREATED:20180322T162020Z
LAST-MODIFIED:20180323T081316Z
UID:348515-1521910800-1521918000@www.yvelines-infos.fr
SUMMARY:Gol de Letra fête ses 20 ans au Vélodrome national
DESCRIPTION:Samedi 24 mars\, venez assister au match de gala de football en salle proposé par la Fondation caritative Gol De Letra\, auquel participeront Raï et d’anciens joueurs professionnels de football.\nEn 1998\, Raí et Leonardo\, deux anciens joueurs brésiliens de football\, fondent Gol de Letra. La fondation a pour objectif de favoriser l’accès à l’éducation aux enfants et adolescents en situation de vulnérabilité. Cette année\, Gol de Letra fête ses vingt ans au Vélodrome National le samedi 24 mars avec un tournoi de football en salle interentreprises. \nCe tournoi de football indoor (futsal) est devenu un rendez-vous sportif annuel incontournable.\nDepuis 2002\, cet événement regroupe une vingtaine d’entreprises\, d’anciens joueurs professionnels ou des Pros toujours en activité ainsi que de très nombreux sportifs de haut niveau\, des célébrités etc.\nDisputé en 2010 et 2011 au Stade Pierre de Coubertin en 2013 il revient à Levallois Perret au Stade Marcel Cerdan pour arriver en 2018 au Vélodrome\, site olympique. \nPartenaire de l’événement\, le Conseil Départemental des Yvelines\, soutiendra cette opération caritative à hauteur de 10 000€. \nLe tournoi est ouvert au public de 17h à 19h. Venez nombreux pour assister aux phases finales de cette compétition amicale auxquelles participeront Raí ainsi que d’autres anciens joueurs professionnels de football. L’entrée est à 5€\, au profit des actions caritatives de la fondation.
URL:https://www.yvelines-infos.fr/agenda/gol-de-letra-fete-20-ans-velodrome-national/
LOCATION:Vélodrome National de St Quentin en Yvelines\, Place de la Paix Céleste\, MONTIGNY LE BRETONNEUX\, 78180\, France
ATTACH;FMTTYPE=image/jpeg:https://www.yvelines-infos.fr/content/uploads/2018/goldeletra-page.jpg
ORGANIZER;CN="Gol%20de%20Letra":MAILTO:tournoi@goldeletra.fr
GEO:48.7902673;2.0361527
X-APPLE-STRUCTURED-LOCATION;VALUE=URI;X-ADDRESS=Vélodrome National de St Quentin en Yvelines Place de la Paix Céleste MONTIGNY LE BRETONNEUX 78180 France;X-APPLE-RADIUS=500;X-TITLE=Place de la Paix Céleste:geo:2.0361527,48.7902673
END:VEVENT
END:VCALENDAR