BEGIN:VCALENDAR
VERSION:2.0
PRODID:-//Yvelines Infos - ECPv6.0.2//NONSGML v1.0//EN
CALSCALE:GREGORIAN
METHOD:PUBLISH
X-WR-CALNAME:Yvelines Infos
X-ORIGINAL-URL:https://www.yvelines-infos.fr
X-WR-CALDESC:Évènements pour Yvelines Infos
REFRESH-INTERVAL;VALUE=DURATION:PT1H
X-Robots-Tag:noindex
X-PUBLISHED-TTL:PT1H
BEGIN:VTIMEZONE
TZID:Europe/Paris
BEGIN:DAYLIGHT
TZOFFSETFROM:+0100
TZOFFSETTO:+0200
TZNAME:CEST
DTSTART:20190331T010000
END:DAYLIGHT
BEGIN:STANDARD
TZOFFSETFROM:+0200
TZOFFSETTO:+0100
TZNAME:CET
DTSTART:20191027T010000
END:STANDARD
END:VTIMEZONE
BEGIN:VEVENT
DTSTART;VALUE=DATE:20190927
DTEND;VALUE=DATE:20190930
DTSTAMP:20260423T104712
CREATED:20190923T084025Z
LAST-MODIFIED:20190923T084025Z
UID:361664-1569542400-1569801599@www.yvelines-infos.fr
SUMMARY:Festiphoto de Rambouillet
DESCRIPTION:Une quarantaine d’expositions de photographies animalières\, de paysages et\nd’ethnologie seront présentées au public tout au long du dernier week-end de Septembre dans\nle cadre prestigieux de Rambouillet\, ville d’art et d’histoire et de sa forêt\, par l’association\nFFRO (Festiphoto de la Forêt de Rambouillet) avec le soutien de TERRA DARWIN.La\nLanterne (pôle culturel municipal)\, le Palais du roi de Rome\, la salle Patenôtre\, La Bergerie\nNationale le Parc du Château ainsi que l’ESPACE Rambouillet accueilleront une grande\ndiversité d’artistes internationaux\, nationaux et régionaux.\nSabine BERNERT\, marraine du festival\, présentera sa nouvelle exposition DANS L’ŒIL\nDU CYCLONE.\nL’association GENIALE NATURE\, invitée d’honneur “faune” du festival\, présentera\nson exposition: Comme dans de la Nature.\nJean Michel LENOIR\, invité d’honneur “Paysage” du festival\, présentera son exposition:\nEvanesc
URL:https://www.yvelines-infos.fr/agenda/festiphoto-de-rambouillet/
LOCATION:Château de Rambouillet\, 2 Place de la Libération\, Rambouillet\, 78120\, France
ATTACH;FMTTYPE=image/jpeg:https://www.yvelines-infos.fr/content/uploads/2019/6f303101-e7fb-4bc5-8290-f3448fef13c1.jpeg
ORGANIZER;CN="FFRO":MAILTO:jpgib@free.fr
END:VEVENT
END:VCALENDAR